Workbook

Sheet Classifica
B2: Classifica Generale
A3: 0 | B3: Nome Cognome | C3: Nome | D3: G1 | E3: G2 | F3: G3 | G3: G4 | H3: G5 | I3: G6 | J3: Totale | K3: Best 4d | L3: Pos | M3: A.V.
A4: =A3+1 -> 1 | B4: Alessandro Babbi | C4: =CONCATENATE(LEFT(B4,FIND(" ",B4) + 2),".") -> Alessandro Ba. | D4: =VLOOKUP(B4,'Giornata 1'!$B$3:$V$48,21,FALSE) -> 29 | E4: =VLOOKUP(B4,'Giornata 2'!$B$4:$X$49,23,FALSE) -> 10 | F4: =VLOOKUP(B4,'Giornata 3'!$B$4:$Z$49,23,FALSE) -> 36 | G4: =VLOOKUP(B4,'Giornata 4'!$B$4:$AH$49, 33, FALSE) -> 12 | H4: =VLOOKUP(B4,'Giornata 5'!$B$3:$X$48,19,FALSE) -> 28 | I4: =VLOOKUP(B4,'Giornata 6'!$B$3:$T$48,19,FALSE) | J4: =SUM(D4:I4) -> 115 | K4: =+J4-MIN(D4:H4) -> 105 | L4: =RANK(K4,$K$4:$K$48) -> 1 | M4: =IF(D4>0, VLOOKUP(B4,'Giornata 1'!$B$4:$V$48,19,FALSE),0)+IF(E4>0, VLOOKUP(B4,'Giornata 2'!$B$5:$X$49,21,FALSE),0)+IF(F4>0, VLOOKUP(B4,'Giornata 3'!$B$5:$Z$49,21,FALSE),0)+IF(G4>0, VLOOKUP(B4,'Giornata 4'!$B$5:$AH$49,31,FALSE),0)+IF(H4>0, VLOOKUP(B4,'Giornata 5'!$B$4:$X$48,21,FALSE),0)+IF(I4>0, VLOOKUP(B4,'Giornata 6'!$B$4:$T$48,17,FALSE),0) -> 10
A5: =A4+1 -> 2 | B5: Riccardo Vadalà | C5: =CONCATENATE(LEFT(B5,FIND(" ",B5) + 2),".") -> Riccardo Va. | D5: =VLOOKUP(B5,'Giornata 1'!$B$3:$V$48,21,FALSE) -> 18 | E5: 0 | F5: =VLOOKUP(B5,'Giornata 3'!$B$4:$Z$49,23,FALSE) -> 24 | G5: =VLOOKUP(B5,'Giornata 4'!$B$4:$AH$49, 33, FALSE) -> 19 | H5: =VLOOKUP(B5,'Giornata 5'!$B$3:$X$48,19,FALSE) -> 39 | I5: =VLOOKUP(B5,'Giornata 6'!$B$3:$T$48,19,FALSE) | J5: =SUM(D5:I5) -> 100 | K5: =+J5-MIN(D5:H5) -> 100 | L5: =RANK(K5,$K$4:$K$48) -> 2 | M5: =IF(D5>0, VLOOKUP(B5,'Giornata 1'!$B$4:$V$48,19,FALSE),0)+IF(E5>0, VLOOKUP(B5,'Giornata 2'!$B$5:$X$49,21,FALSE),0)+IF(F5>0, VLOOKUP(B5,'Giornata 3'!$B$5:$Z$49,21,FALSE),0)+IF(G5>0, VLOOKUP(B5,'Giornata 4'!$B$5:$AH$49,31,FALSE),0)+IF(H5>0, VLOOKUP(B5,'Giornata 5'!$B$4:$X$48,21,FALSE),0)+IF(I5>0, VLOOKUP(B5,'Giornata 6'!$B$4:$T$48,17,FALSE),0) -> 6
A6: =A5+1 -> 3 | B6: Massimo Mollica | C6: =CONCATENATE(LEFT(B6,FIND(" ",B6) + 2),".") -> Massimo Mo. | D6: =VLOOKUP(B6,'Giornata 1'!$B$3:$V$48,21,FALSE) -> 23 | E6: =VLOOKUP(B6,'Giornata 2'!$B$4:$X$49,23,FALSE) -> 15 | F6: =VLOOKUP(B6,'Giornata 3'!$B$4:$Z$49,23,FALSE) -> 12 | G6: 0 | H6: =VLOOKUP(B6,'Giornata 5'!$B$3:$X$48,19,FALSE) -> 41 | I6: =VLOOKUP(B6,'Giornata 6'!$B$3:$T$48,19,FALSE) | J6: =SUM(D6:I6) -> 91 | K6: =+J6-MIN(D6:H6) -> 91 | L6: =RANK(K6,$K$4:$K$48) -> 3 | M6: =IF(D6>0, VLOOKUP(B6,'Giornata 1'!$B$4:$V$48,19,FALSE),0)+IF(E6>0, VLOOKUP(B6,'Giornata 2'!$B$5:$X$49,21,FALSE),0)+IF(F6>0, VLOOKUP(B6,'Giornata 3'!$B$5:$Z$49,21,FALSE),0)+IF(G6>0, VLOOKUP(B6,'Giornata 4'!$B$5:$AH$49,31,FALSE),0)+IF(H6>0, VLOOKUP(B6,'Giornata 5'!$B$4:$X$48,21,FALSE),0)+IF(I6>0, VLOOKUP(B6,'Giornata 6'!$B$4:$T$48,17,FALSE),0) -> 6
A7: =A6+1 -> 4 | B7: Daniele Petraroli | C7: =CONCATENATE(LEFT(B7,FIND(" ",B7) + 2),".") -> Daniele Pe. | D7: =VLOOKUP(B7,'Giornata 1'!$B$3:$V$48,21,FALSE) -> 3 | E7: =VLOOKUP(B7,'Giornata 2'!$B$4:$X$49,23,FALSE) -> 7 | F7: =VLOOKUP(B7,'Giornata 3'!$B$4:$Z$49,23,FALSE) -> 27 | G7: =VLOOKUP(B7,'Giornata 4'!$B$4:$AH$49, 33, FALSE) -> 15 | H7: =VLOOKUP(B7,'Giornata 5'!$B$3:$X$48,19,FALSE) -> 41 | I7: =VLOOKUP(B7,'Giornata 6'!$B$3:$T$48,19,FALSE) | J7: =SUM(D7:I7) -> 93 | K7: =+J7-MIN(D7:H7) -> 90 | L7: =RANK(K7,$K$4:$K$48) -> 4 | M7: =IF(D7>0, VLOOKUP(B7,'Giornata 1'!$B$4:$V$48,19,FALSE),0)+IF(E7>0, VLOOKUP(B7,'Giornata 2'!$B$5:$X$49,21,FALSE),0)+IF(F7>0, VLOOKUP(B7,'Giornata 3'!$B$5:$Z$49,21,FALSE),0)+IF(G7>0, VLOOKUP(B7,'Giornata 4'!$B$5:$AH$49,31,FALSE),0)+IF(H7>0, VLOOKUP(B7,'Giornata 5'!$B$4:$X$48,21,FALSE),0)+IF(I7>0, VLOOKUP(B7,'Giornata 6'!$B$4:$T$48,17,FALSE),0) -> 5
A8: =A7+1 -> 5 | B8: Artemisia Von Rust | C8: =CONCATENATE(LEFT(B8,FIND(" ",B8) + 2),".") -> Artemisia Vo. | D8: =VLOOKUP(B8,'Giornata 1'!$B$3:$V$48,21,FALSE) -> 26 | E8: 0 | F8: =VLOOKUP(B8,'Giornata 3'!$B$4:$Z$49,23,FALSE) -> 15 | G8: =VLOOKUP(B8,'Giornata 4'!$B$4:$AH$49, 33, FALSE) -> 12 | H8: =VLOOKUP(B8,'Giornata 5'!$B$3:$X$48,19,FALSE) -> 29 | I8: =VLOOKUP(B8,'Giornata 6'!$B$3:$T$48,19,FALSE) | J8: =SUM(D8:I8) -> 82 | K8: =+J8-MIN(D8:H8) -> 82 | L8: =RANK(K8,$K$4:$K$48) -> 5 | M8: =IF(D8>0, VLOOKUP(B8,'Giornata 1'!$B$4:$V$48,19,FALSE),0)+IF(E8>0, VLOOKUP(B8,'Giornata 2'!$B$5:$X$49,21,FALSE),0)+IF(F8>0, VLOOKUP(B8,'Giornata 3'!$B$5:$Z$49,21,FALSE),0)+IF(G8>0, VLOOKUP(B8,'Giornata 4'!$B$5:$AH$49,31,FALSE),0)+IF(H8>0, VLOOKUP(B8,'Giornata 5'!$B$4:$X$48,21,FALSE),0)+IF(I8>0, VLOOKUP(B8,'Giornata 6'!$B$4:$T$48,17,FALSE),0) -> 4
A9: =A8+1 -> 6 | B9: Franco Napoleoni | C9: =CONCATENATE(LEFT(B9,FIND(" ",B9) + 2),".") -> Franco Na. | D9: =VLOOKUP(B9,'Giornata 1'!$B$3:$V$48,21,FALSE) -> 20 | E9: =VLOOKUP(B9,'Giornata 2'!$B$4:$X$49,23,FALSE) -> 16 | F9: =VLOOKUP(B9,'Giornata 3'!$B$4:$Z$49,23,FALSE) -> 11 | G9: =VLOOKUP(B9,'Giornata 4'!$B$4:$AH$49, 33, FALSE) -> 6 | H9: =VLOOKUP(B9,'Giornata 5'!$B$3:$X$48,19,FALSE) -> 32 | I9: =VLOOKUP(B9,'Giornata 6'!$B$3:$T$48,19,FALSE) | J9: =SUM(D9:I9) -> 85 | K9: =+J9-MIN(D9:H9) -> 79 | L9: =RANK(K9,$K$4:$K$48) -> 6 | M9: =IF(D9>0, VLOOKUP(B9,'Giornata 1'!$B$4:$V$48,19,FALSE),0)+IF(E9>0, VLOOKUP(B9,'Giornata 2'!$B$5:$X$49,21,FALSE),0)+IF(F9>0, VLOOKUP(B9,'Giornata 3'!$B$5:$Z$49,21,FALSE),0)+IF(G9>0, VLOOKUP(B9,'Giornata 4'!$B$5:$AH$49,31,FALSE),0)+IF(H9>0, VLOOKUP(B9,'Giornata 5'!$B$4:$X$48,21,FALSE),0)+IF(I9>0, VLOOKUP(B9,'Giornata 6'!$B$4:$T$48,17,FALSE),0) -> 5
A10: =A9+1 -> 7 | B10: Federico Mollica | C10: =CONCATENATE(LEFT(B10,FIND(" ",B10) + 2),".") -> Federico Mo. | D10: =VLOOKUP(B10,'Giornata 1'!$B$3:$V$48,21,FALSE) -> 14 | E10: =VLOOKUP(B10,'Giornata 2'!$B$4:$X$49,23,FALSE) -> 5 | F10: =VLOOKUP(B10,'Giornata 3'!$B$4:$Z$49,23,FALSE) -> 22 | G10: =VLOOKUP(B10,'Giornata 4'!$B$4:$AH$49, 33, FALSE) -> 14 | H10: =VLOOKUP(B10,'Giornata 5'!$B$3:$X$48,19,FALSE) -> 23 | I10: =VLOOKUP(B10,'Giornata 6'!$B$3:$T$48,19,FALSE) | J10: =SUM(D10:I10) -> 78 | K10: =+J10-MIN(D10:H10) -> 73 | L10: =RANK(K10,$K$4:$K$48) -> 7 | M10: =IF(D10>0, VLOOKUP(B10,'Giornata 1'!$B$4:$V$48,19,FALSE),0)+IF(E10>0, VLOOKUP(B10,'Giornata 2'!$B$5:$X$49,21,FALSE),0)+IF(F10>0, VLOOKUP(B10,'Giornata 3'!$B$5:$Z$49,21,FALSE),0)+IF(G10>0, VLOOKUP(B10,'Giornata 4'!$B$5:$AH$49,31,FALSE),0)+IF(H10>0, VLOOKUP(B10,'Giornata 5'!$B$4:$X$48,21,FALSE),0)+IF(I10>0, VLOOKUP(B10,'Giornata 6'!$B$4:$T$48,17,FALSE),0) -> 2
A11: =A10+1 -> 8 | B11: Andrea Morviducci | C11: =CONCATENATE(LEFT(B11,FIND(" ",B11) + 2),".") -> Andrea Mo. | D11: =VLOOKUP(B11,'Giornata 1'!$B$3:$V$48,21,FALSE) -> 13 | E11: 0 | F11: =VLOOKUP(B11,'Giornata 3'!$B$4:$Z$49,23,FALSE) -> 13 | G11: =VLOOKUP(B11,'Giornata 4'!$B$4:$AH$49, 33, FALSE) -> 2 | H11: =VLOOKUP(B11,'Giornata 5'!$B$3:$X$48,19,FALSE) -> 36 | I11: =VLOOKUP(B11,'Giornata 6'!$B$3:$T$48,19,FALSE) | J11: =SUM(D11:I11) -> 64 | K11: =+J11-MIN(D11:H11) -> 64 | L11: =RANK(K11,$K$4:$K$48) -> 8 | M11: =IF(D11>0, VLOOKUP(B11,'Giornata 1'!$B$4:$V$48,19,FALSE),0)+IF(E11>0, VLOOKUP(B11,'Giornata 2'!$B$5:$X$49,21,FALSE),0)+IF(F11>0, VLOOKUP(B11,'Giornata 3'!$B$5:$Z$49,21,FALSE),0)+IF(G11>0, VLOOKUP(B11,'Giornata 4'!$B$5:$AH$49,31,FALSE),0)+IF(H11>0, VLOOKUP(B11,'Giornata 5'!$B$4:$X$48,21,FALSE),0)+IF(I11>0, VLOOKUP(B11,'Giornata 6'!$B$4:$T$48,17,FALSE),0) -> 5
A12: =A11+1 -> 9 | B12: Francesco Ulmo | C12: =CONCATENATE(LEFT(B12,FIND(" ",B12) + 2),".") -> Francesco Ul. | D12: 0 | E12: =VLOOKUP(B12,'Giornata 2'!$B$4:$X$49,23,FALSE) -> 8 | F12: =VLOOKUP(B12,'Giornata 3'!$B$4:$Z$49,23,FALSE) -> 19 | G12: =VLOOKUP(B12,'Giornata 4'!$B$4:$AH$49, 33, FALSE) -> 19 | H12: =VLOOKUP(B12,'Giornata 5'!$B$3:$X$48,19,FALSE) -> 17 | I12: =VLOOKUP(B12,'Giornata 6'!$B$3:$T$48,19,FALSE) | J12: =SUM(D12:I12) -> 63 | K12: =+J12-MIN(D12:H12) -> 63 | L12: =RANK(K12,$K$4:$K$48) -> 9 | M12: =IF(D12>0, VLOOKUP(B12,'Giornata 1'!$B$4:$V$48,19,FALSE),0)+IF(E12>0, VLOOKUP(B12,'Giornata 2'!$B$5:$X$49,21,FALSE),0)+IF(F12>0, VLOOKUP(B12,'Giornata 3'!$B$5:$Z$49,21,FALSE),0)+IF(G12>0, VLOOKUP(B12,'Giornata 4'!$B$5:$AH$49,31,FALSE),0)+IF(H12>0, VLOOKUP(B12,'Giornata 5'!$B$4:$X$48,21,FALSE),0)+IF(I12>0, VLOOKUP(B12,'Giornata 6'!$B$4:$T$48,17,FALSE),0) -> 3
A13: =A12+1 -> 10 | B13: Valerio Ferrandino | C13: =CONCATENATE(LEFT(B13,FIND(" ",B13) + 2),".") -> Valerio Fe. | D13: 0 | E13: 0 | F13: =VLOOKUP(B13,'Giornata 3'!$B$4:$Z$49,23,FALSE) -> 30 | G13: =VLOOKUP(B13,'Giornata 4'!$B$4:$AH$49, 33, FALSE) -> 10 | H13: =VLOOKUP(B13,'Giornata 5'!$B$3:$X$48,19,FALSE) -> 17 | I13: =VLOOKUP(B13,'Giornata 6'!$B$3:$T$48,19,FALSE) | J13: =SUM(D13:I13) -> 57 | K13: =+J13-MIN(D13:H13) -> 57 | L13: =RANK(K13,$K$4:$K$48) -> 10 | M13: =IF(D13>0, VLOOKUP(B13,'Giornata 1'!$B$4:$V$48,19,FALSE),0)+IF(E13>0, VLOOKUP(B13,'Giornata 2'!$B$5:$X$49,21,FALSE),0)+IF(F13>0, VLOOKUP(B13,'Giornata 3'!$B$5:$Z$49,21,FALSE),0)+IF(G13>0, VLOOKUP(B13,'Giornata 4'!$B$5:$AH$49,31,FALSE),0)+IF(H13>0, VLOOKUP(B13,'Giornata 5'!$B$4:$X$48,21,FALSE),0)+IF(I13>0, VLOOKUP(B13,'Giornata 6'!$B$4:$T$48,17,FALSE),0) -> 5
A14: =A13+1 -> 11 | B14: Francesco Berucci | C14: =CONCATENATE(LEFT(B14,FIND(" ",B14) + 2),".") -> Francesco Be. | D14: =VLOOKUP(B14,'Giornata 1'!$B$3:$V$48,21,FALSE) -> 19 | E14: 0 | F14: =VLOOKUP(B14,'Giornata 3'!$B$4:$Z$49,23,FALSE) -> 25 | G14: 0 | H14: =VLOOKUP(B14,'Giornata 5'!$B$3:$X$48,19,FALSE) -> 11 | I14: =VLOOKUP(B14,'Giornata 6'!$B$3:$T$48,19,FALSE) | J14: =SUM(D14:I14) -> 55 | K14: =+J14-MIN(D14:H14) -> 55 | L14: =RANK(K14,$K$4:$K$48) -> 11 | M14: =IF(D14>0, VLOOKUP(B14,'Giornata 1'!$B$4:$V$48,19,FALSE),0)+IF(E14>0, VLOOKUP(B14,'Giornata 2'!$B$5:$X$49,21,FALSE),0)+IF(F14>0, VLOOKUP(B14,'Giornata 3'!$B$5:$Z$49,21,FALSE),0)+IF(G14>0, VLOOKUP(B14,'Giornata 4'!$B$5:$AH$49,31,FALSE),0)+IF(H14>0, VLOOKUP(B14,'Giornata 5'!$B$4:$X$48,21,FALSE),0)+IF(I14>0, VLOOKUP(B14,'Giornata 6'!$B$4:$T$48,17,FALSE),0) -> 8
A15: =A14+1 -> 12 | B15: Paolo Valerio | C15: =CONCATENATE(LEFT(B15,FIND(" ",B15) + 2),".") -> Paolo Va. | D15: =VLOOKUP(B15,'Giornata 1'!$B$3:$V$48,21,FALSE) -> 2 | E15: =VLOOKUP(B15,'Giornata 2'!$B$4:$X$49,23,FALSE) -> 17 | F15: =VLOOKUP(B15,'Giornata 3'!$B$4:$Z$49,23,FALSE) -> 17 | G15: =VLOOKUP(B15,'Giornata 4'!$B$4:$AH$49, 33, FALSE) -> 19 | H15: =VLOOKUP(B15,'Giornata 5'!$B$3:$X$48,19,FALSE) -> 2 | I15: =VLOOKUP(B15,'Giornata 6'!$B$3:$T$48,19,FALSE) | J15: =SUM(D15:I15) -> 57 | K15: =+J15-MIN(D15:H15) -> 55 | L15: =RANK(K15,$K$4:$K$48) -> 11 | M15: =IF(D15>0, VLOOKUP(B15,'Giornata 1'!$B$4:$V$48,19,FALSE),0)+IF(E15>0, VLOOKUP(B15,'Giornata 2'!$B$5:$X$49,21,FALSE),0)+IF(F15>0, VLOOKUP(B15,'Giornata 3'!$B$5:$Z$49,21,FALSE),0)+IF(G15>0, VLOOKUP(B15,'Giornata 4'!$B$5:$AH$49,31,FALSE),0)+IF(H15>0, VLOOKUP(B15,'Giornata 5'!$B$4:$X$48,21,FALSE),0)+IF(I15>0, VLOOKUP(B15,'Giornata 6'!$B$4:$T$48,17,FALSE),0) -> 3
A16: =A15+1 -> 13 | B16: Giuseppe Tamba | C16: =CONCATENATE(LEFT(B16,FIND(" ",B16) + 2),".") -> Giuseppe Ta. | D16: =VLOOKUP(B16,'Giornata 1'!$B$3:$V$48,21,FALSE) -> 15 | E16: =VLOOKUP(B16,'Giornata 2'!$B$4:$X$49,23,FALSE) -> 13 | F16: =VLOOKUP(B16,'Giornata 3'!$B$4:$Z$49,23,FALSE) -> 18 | G16: =VLOOKUP(B16,'Giornata 4'!$B$4:$AH$49, 33, FALSE) -> 7 | H16: =VLOOKUP(B16,'Giornata 5'!$B$3:$X$48,19,FALSE) -> 2 | I16: =VLOOKUP(B16,'Giornata 6'!$B$3:$T$48,19,FALSE) | J16: =SUM(D16:I16) -> 55 | K16: =+J16-MIN(D16:H16) -> 53 | L16: =RANK(K16,$K$4:$K$48) -> 13 | M16: =IF(D16>0, VLOOKUP(B16,'Giornata 1'!$B$4:$V$48,19,FALSE),0)+IF(E16>0, VLOOKUP(B16,'Giornata 2'!$B$5:$X$49,21,FALSE),0)+IF(F16>0, VLOOKUP(B16,'Giornata 3'!$B$5:$Z$49,21,FALSE),0)+IF(G16>0, VLOOKUP(B16,'Giornata 4'!$B$5:$AH$49,31,FALSE),0)+IF(H16>0, VLOOKUP(B16,'Giornata 5'!$B$4:$X$48,21,FALSE),0)+IF(I16>0, VLOOKUP(B16,'Giornata 6'!$B$4:$T$48,17,FALSE),0) -> 6
A17: =A16+1 -> 14 | B17: Francesco Marradi | C17: =CONCATENATE(LEFT(B17,FIND(" ",B17) + 2),".") -> Francesco Ma. | D17: 0 | E17: =VLOOKUP(B17,'Giornata 2'!$B$4:$X$49,23,FALSE) -> 19 | F17: =VLOOKUP(B17,'Giornata 3'!$B$4:$Z$49,23,FALSE) -> 6 | G17: =VLOOKUP(B17,'Giornata 4'!$B$4:$AH$49, 33, FALSE) -> 5 | H17: =VLOOKUP(B17,'Giornata 5'!$B$3:$X$48,19,FALSE) -> 21 | I17: =VLOOKUP(B17,'Giornata 6'!$B$3:$T$48,19,FALSE) | J17: =SUM(D17:I17) -> 51 | K17: =+J17-MIN(D17:H17) -> 51 | L17: =RANK(K17,$K$4:$K$48) -> 14 | M17: =IF(D17>0, VLOOKUP(B17,'Giornata 1'!$B$4:$V$48,19,FALSE),0)+IF(E17>0, VLOOKUP(B17,'Giornata 2'!$B$5:$X$49,21,FALSE),0)+IF(F17>0, VLOOKUP(B17,'Giornata 3'!$B$5:$Z$49,21,FALSE),0)+IF(G17>0, VLOOKUP(B17,'Giornata 4'!$B$5:$AH$49,31,FALSE),0)+IF(H17>0, VLOOKUP(B17,'Giornata 5'!$B$4:$X$48,21,FALSE),0)+IF(I17>0, VLOOKUP(B17,'Giornata 6'!$B$4:$T$48,17,FALSE),0) -> 0
A18: =A17+1 -> 15 | B18: Massimo Berucci | C18: =CONCATENATE(LEFT(B18,FIND(" ",B18) + 2),".") -> Massimo Be. | D18: =VLOOKUP(B18,'Giornata 1'!$B$3:$V$48,21,FALSE) -> 7 | E18: =VLOOKUP(B18,'Giornata 2'!$B$4:$X$49,23,FALSE) -> 15 | F18: =VLOOKUP(B18,'Giornata 3'!$B$4:$Z$49,23,FALSE) -> 28 | G18: 0 | H18: =VLOOKUP(B18,'Giornata 5'!$B$3:$X$48,19,FALSE) -> 0 | I18: =VLOOKUP(B18,'Giornata 6'!$B$3:$T$48,19,FALSE) | J18: =SUM(D18:I18) -> 50 | K18: =+J18-MIN(D18:H18) -> 50 | L18: =RANK(K18,$K$4:$K$48) -> 15 | M18: =IF(D18>0, VLOOKUP(B18,'Giornata 1'!$B$4:$V$48,19,FALSE),0)+IF(E18>0, VLOOKUP(B18,'Giornata 2'!$B$5:$X$49,21,FALSE),0)+IF(F18>0, VLOOKUP(B18,'Giornata 3'!$B$5:$Z$49,21,FALSE),0)+IF(G18>0, VLOOKUP(B18,'Giornata 4'!$B$5:$AH$49,31,FALSE),0)+IF(H18>0, VLOOKUP(B18,'Giornata 5'!$B$4:$X$48,21,FALSE),0)+IF(I18>0, VLOOKUP(B18,'Giornata 6'!$B$4:$T$48,17,FALSE),0) -> 5
A19: =A18+1 -> 16 | B19: Gino Lucrezi | C19: =CONCATENATE(LEFT(B19,FIND(" ",B19) + 2),".") -> Gino Lu. | D19: 0 | E19: 0 | F19: 0 | G19: =VLOOKUP(B19,'Giornata 4'!$B$4:$AH$49, 33, FALSE) -> 22 | H19: =VLOOKUP(B19,'Giornata 5'!$B$3:$X$48,19,FALSE) -> 25 | I19: =VLOOKUP(B19,'Giornata 6'!$B$3:$T$48,19,FALSE) | J19: =SUM(D19:I19) -> 47 | K19: =+J19-MIN(D19:H19) -> 47 | L19: =RANK(K19,$K$4:$K$48) -> 16 | M19: =IF(D19>0, VLOOKUP(B19,'Giornata 1'!$B$4:$V$48,19,FALSE),0)+IF(E19>0, VLOOKUP(B19,'Giornata 2'!$B$5:$X$49,21,FALSE),0)+IF(F19>0, VLOOKUP(B19,'Giornata 3'!$B$5:$Z$49,21,FALSE),0)+IF(G19>0, VLOOKUP(B19,'Giornata 4'!$B$5:$AH$49,31,FALSE),0)+IF(H19>0, VLOOKUP(B19,'Giornata 5'!$B$4:$X$48,21,FALSE),0)+IF(I19>0, VLOOKUP(B19,'Giornata 6'!$B$4:$T$48,17,FALSE),0) -> 3
A20: =A19+1 -> 17 | B20: Luca Postumi | C20: =CONCATENATE(LEFT(B20,FIND(" ",B20) + 2),".") -> Luca Po. | D20: 0 | E20: 0 | F20: =VLOOKUP(B20,'Giornata 3'!$B$4:$Z$49,23,FALSE) -> 14 | G20: =VLOOKUP(B20,'Giornata 4'!$B$4:$AH$49, 33, FALSE) -> 25 | H20: =VLOOKUP(B20,'Giornata 5'!$B$3:$X$48,19,FALSE) -> 6 | I20: =VLOOKUP(B20,'Giornata 6'!$B$3:$T$48,19,FALSE) | J20: =SUM(D20:I20) -> 45 | K20: =+J20-MIN(D20:H20) -> 45 | L20: =RANK(K20,$K$4:$K$48) -> 17 | M20: =IF(D20>0, VLOOKUP(B20,'Giornata 1'!$B$4:$V$48,19,FALSE),0)+IF(E20>0, VLOOKUP(B20,'Giornata 2'!$B$5:$X$49,21,FALSE),0)+IF(F20>0, VLOOKUP(B20,'Giornata 3'!$B$5:$Z$49,21,FALSE),0)+IF(G20>0, VLOOKUP(B20,'Giornata 4'!$B$5:$AH$49,31,FALSE),0)+IF(H20>0, VLOOKUP(B20,'Giornata 5'!$B$4:$X$48,21,FALSE),0)+IF(I20>0, VLOOKUP(B20,'Giornata 6'!$B$4:$T$48,17,FALSE),0) -> 3
A21: =A20+1 -> 18 | B21: Ken Jones | C21: =CONCATENATE(LEFT(B21,FIND(" ",B21) + 2),".") -> Ken Jo. | D21: =VLOOKUP(B21,'Giornata 1'!$B$3:$V$48,21,FALSE) -> 9 | E21: =VLOOKUP(B21,'Giornata 2'!$B$4:$X$49,23,FALSE) -> 4 | F21: 0 | G21: =VLOOKUP(B21,'Giornata 4'!$B$4:$AH$49, 33, FALSE) -> 8 | H21: =VLOOKUP(B21,'Giornata 5'!$B$3:$X$48,19,FALSE) -> 23 | I21: =VLOOKUP(B21,'Giornata 6'!$B$3:$T$48,19,FALSE) | J21: =SUM(D21:I21) -> 44 | K21: =+J21-MIN(D21:H21) -> 44 | L21: =RANK(K21,$K$4:$K$48) -> 18 | M21: =IF(D21>0, VLOOKUP(B21,'Giornata 1'!$B$4:$V$48,19,FALSE),0)+IF(E21>0, VLOOKUP(B21,'Giornata 2'!$B$5:$X$49,21,FALSE),0)+IF(F21>0, VLOOKUP(B21,'Giornata 3'!$B$5:$Z$49,21,FALSE),0)+IF(G21>0, VLOOKUP(B21,'Giornata 4'!$B$5:$AH$49,31,FALSE),0)+IF(H21>0, VLOOKUP(B21,'Giornata 5'!$B$4:$X$48,21,FALSE),0)+IF(I21>0, VLOOKUP(B21,'Giornata 6'!$B$4:$T$48,17,FALSE),0) -> 5
A22: =A21+1 -> 19 | B22: Christian Vitale | C22: =CONCATENATE(LEFT(B22,FIND(" ",B22) + 2),".") -> Christian Vi. | D22: =VLOOKUP(B22,'Giornata 1'!$B$3:$V$48,21,FALSE) -> 17 | E22: =VLOOKUP(B22,'Giornata 2'!$B$4:$X$49,23,FALSE) -> 6 | F22: =VLOOKUP(B22,'Giornata 3'!$B$4:$Z$49,23,FALSE) -> 20 | G22: 0 | H22: =VLOOKUP(B22,'Giornata 5'!$B$3:$X$48,19,FALSE) -> 0 | I22: =VLOOKUP(B22,'Giornata 6'!$B$3:$T$48,19,FALSE) | J22: =SUM(D22:I22) -> 43 | K22: =+J22-MIN(D22:H22) -> 43 | L22: =RANK(K22,$K$4:$K$48) -> 19 | M22: =IF(D22>0, VLOOKUP(B22,'Giornata 1'!$B$4:$V$48,19,FALSE),0)+IF(E22>0, VLOOKUP(B22,'Giornata 2'!$B$5:$X$49,21,FALSE),0)+IF(F22>0, VLOOKUP(B22,'Giornata 3'!$B$5:$Z$49,21,FALSE),0)+IF(G22>0, VLOOKUP(B22,'Giornata 4'!$B$5:$AH$49,31,FALSE),0)+IF(H22>0, VLOOKUP(B22,'Giornata 5'!$B$4:$X$48,21,FALSE),0)+IF(I22>0, VLOOKUP(B22,'Giornata 6'!$B$4:$T$48,17,FALSE),0) -> 2
A23: =A22+1 -> 20 | B23: Riccardo Rigillo | C23: =CONCATENATE(LEFT(B23,FIND(" ",B23) + 2),".") -> Riccardo Ri. | D23: =VLOOKUP(B23,'Giornata 1'!$B$3:$V$48,21,FALSE) -> 10 | E23: =VLOOKUP(B23,'Giornata 2'!$B$4:$X$49,23,FALSE) -> 22 | F23: =VLOOKUP(B23,'Giornata 3'!$B$4:$Z$49,23,FALSE) -> 10 | G23: 0 | H23: =VLOOKUP(B23,'Giornata 5'!$B$3:$X$48,19,FALSE) -> -3 | I23: =VLOOKUP(B23,'Giornata 6'!$B$3:$T$48,19,FALSE) | J23: =SUM(D23:I23) -> 39 | K23: =+J23-MIN(D23:H23) -> 42 | L23: =RANK(K23,$K$4:$K$48) -> 20 | M23: =IF(D23>0, VLOOKUP(B23,'Giornata 1'!$B$4:$V$48,19,FALSE),0)+IF(E23>0, VLOOKUP(B23,'Giornata 2'!$B$5:$X$49,21,FALSE),0)+IF(F23>0, VLOOKUP(B23,'Giornata 3'!$B$5:$Z$49,21,FALSE),0)+IF(G23>0, VLOOKUP(B23,'Giornata 4'!$B$5:$AH$49,31,FALSE),0)+IF(H23>0, VLOOKUP(B23,'Giornata 5'!$B$4:$X$48,21,FALSE),0)+IF(I23>0, VLOOKUP(B23,'Giornata 6'!$B$4:$T$48,17,FALSE),0) -> 4
A24: =A23+1 -> 21 | B24: Andrea Garello | C24: =CONCATENATE(LEFT(B24,FIND(" ",B24) + 2),".") -> Andrea Ga. | D24: =VLOOKUP(B24,'Giornata 1'!$B$3:$V$48,21,FALSE) -> 7 | E24: 0 | F24: =VLOOKUP(B24,'Giornata 3'!$B$4:$Z$49,23,FALSE) -> 33 | G24: 0 | H24: =VLOOKUP(B24,'Giornata 5'!$B$3:$X$48,19,FALSE) -> 0 | I24: =VLOOKUP(B24,'Giornata 6'!$B$3:$T$48,19,FALSE) | J24: =SUM(D24:I24) -> 40 | K24: =+J24-MIN(D24:H24) -> 40 | L24: =RANK(K24,$K$4:$K$48) -> 21 | M24: =IF(D24>0, VLOOKUP(B24,'Giornata 1'!$B$4:$V$48,19,FALSE),0)+IF(E24>0, VLOOKUP(B24,'Giornata 2'!$B$5:$X$49,21,FALSE),0)+IF(F24>0, VLOOKUP(B24,'Giornata 3'!$B$5:$Z$49,21,FALSE),0)+IF(G24>0, VLOOKUP(B24,'Giornata 4'!$B$5:$AH$49,31,FALSE),0)+IF(H24>0, VLOOKUP(B24,'Giornata 5'!$B$4:$X$48,21,FALSE),0)+IF(I24>0, VLOOKUP(B24,'Giornata 6'!$B$4:$T$48,17,FALSE),0) -> 3
A25: =A24+1 -> 22 | B25: Fabio Zanelli | C25: =CONCATENATE(LEFT(B25,FIND(" ",B25) + 2),".") -> Fabio Za. | D25: =VLOOKUP(B25,'Giornata 1'!$B$3:$V$48,21,FALSE) -> 12 | E25: =VLOOKUP(B25,'Giornata 2'!$B$4:$X$49,23,FALSE) -> 25 | F25: 0 | G25: 0 | H25: =VLOOKUP(B25,'Giornata 5'!$B$3:$X$48,19,FALSE) -> 0 | I25: =VLOOKUP(B25,'Giornata 6'!$B$3:$T$48,19,FALSE) | J25: =SUM(D25:I25) -> 37 | K25: =+J25-MIN(D25:H25) -> 37 | L25: =RANK(K25,$K$4:$K$48) -> 22 | M25: =IF(D25>0, VLOOKUP(B25,'Giornata 1'!$B$4:$V$48,19,FALSE),0)+IF(E25>0, VLOOKUP(B25,'Giornata 2'!$B$5:$X$49,21,FALSE),0)+IF(F25>0, VLOOKUP(B25,'Giornata 3'!$B$5:$Z$49,21,FALSE),0)+IF(G25>0, VLOOKUP(B25,'Giornata 4'!$B$5:$AH$49,31,FALSE),0)+IF(H25>0, VLOOKUP(B25,'Giornata 5'!$B$4:$X$48,21,FALSE),0)+IF(I25>0, VLOOKUP(B25,'Giornata 6'!$B$4:$T$48,17,FALSE),0) -> 5
A26: =A25+1 -> 23 | B26: Alberto Panicucci | C26: =CONCATENATE(LEFT(B26,FIND(" ",B26) + 2),".") -> Alberto Pa. | D26: =VLOOKUP(B26,'Giornata 1'!$B$3:$V$48,21,FALSE) -> 16 | E26: =VLOOKUP(B26,'Giornata 2'!$B$4:$X$49,23,FALSE) -> 2 | F26: =VLOOKUP(B26,'Giornata 3'!$B$4:$Z$49,23,FALSE) -> 4 | G26: =VLOOKUP(B26,'Giornata 4'!$B$4:$AH$49, 33, FALSE) -> 13 | H26: =VLOOKUP(B26,'Giornata 5'!$B$3:$X$48,19,FALSE) -> 0 | I26: =VLOOKUP(B26,'Giornata 6'!$B$3:$T$48,19,FALSE) | J26: =SUM(D26:I26) -> 35 | K26: =+J26-MIN(D26:H26) -> 35 | L26: =RANK(K26,$K$4:$K$48) -> 23 | M26: =IF(D26>0, VLOOKUP(B26,'Giornata 1'!$B$4:$V$48,19,FALSE),0)+IF(E26>0, VLOOKUP(B26,'Giornata 2'!$B$5:$X$49,21,FALSE),0)+IF(F26>0, VLOOKUP(B26,'Giornata 3'!$B$5:$Z$49,21,FALSE),0)+IF(G26>0, VLOOKUP(B26,'Giornata 4'!$B$5:$AH$49,31,FALSE),0)+IF(H26>0, VLOOKUP(B26,'Giornata 5'!$B$4:$X$48,21,FALSE),0)+IF(I26>0, VLOOKUP(B26,'Giornata 6'!$B$4:$T$48,17,FALSE),0) -> 3
A27: =A26+1 -> 24 | B27: Francesco Petraroli | C27: =CONCATENATE(LEFT(B27,FIND(" ",B27) + 2),".") -> Francesco Pe. | D27: =VLOOKUP(B27,'Giornata 1'!$B$3:$V$48,21,FALSE) -> 11 | E27: =VLOOKUP(B27,'Giornata 2'!$B$4:$X$49,23,FALSE) -> 1 | F27: =VLOOKUP(B27,'Giornata 3'!$B$4:$Z$49,23,FALSE) -> 16 | G27: =VLOOKUP(B27,'Giornata 4'!$B$4:$AH$49, 33, FALSE) -> 3 | H27: =VLOOKUP(B27,'Giornata 5'!$B$3:$X$48,19,FALSE) -> 2 | I27: =VLOOKUP(B27,'Giornata 6'!$B$3:$T$48,19,FALSE) | J27: =SUM(D27:I27) -> 33 | K27: =+J27-MIN(D27:H27) -> 32 | L27: =RANK(K27,$K$4:$K$48) -> 24 | M27: =IF(D27>0, VLOOKUP(B27,'Giornata 1'!$B$4:$V$48,19,FALSE),0)+IF(E27>0, VLOOKUP(B27,'Giornata 2'!$B$5:$X$49,21,FALSE),0)+IF(F27>0, VLOOKUP(B27,'Giornata 3'!$B$5:$Z$49,21,FALSE),0)+IF(G27>0, VLOOKUP(B27,'Giornata 4'!$B$5:$AH$49,31,FALSE),0)+IF(H27>0, VLOOKUP(B27,'Giornata 5'!$B$4:$X$48,21,FALSE),0)+IF(I27>0, VLOOKUP(B27,'Giornata 6'!$B$4:$T$48,17,FALSE),0) -> 5
A28: =A27+1 -> 25 | B28: Alberto Garello | C28: =CONCATENATE(LEFT(B28,FIND(" ",B28) + 2),".") -> Alberto Ga. | D28: =VLOOKUP(B28,'Giornata 1'!$B$3:$V$48,21,FALSE) -> 4 | E28: 0 | F28: =VLOOKUP(B28,'Giornata 3'!$B$4:$Z$49,23,FALSE) -> 24 | G28: 0 | H28: =VLOOKUP(B28,'Giornata 5'!$B$3:$X$48,19,FALSE) -> 0 | I28: =VLOOKUP(B28,'Giornata 6'!$B$3:$T$48,19,FALSE) | J28: =SUM(D28:I28) -> 28 | K28: =+J28-MIN(D28:H28) -> 28 | L28: =RANK(K28,$K$4:$K$48) -> 25 | M28: =IF(D28>0, VLOOKUP(B28,'Giornata 1'!$B$4:$V$48,19,FALSE),0)+IF(E28>0, VLOOKUP(B28,'Giornata 2'!$B$5:$X$49,21,FALSE),0)+IF(F28>0, VLOOKUP(B28,'Giornata 3'!$B$5:$Z$49,21,FALSE),0)+IF(G28>0, VLOOKUP(B28,'Giornata 4'!$B$5:$AH$49,31,FALSE),0)+IF(H28>0, VLOOKUP(B28,'Giornata 5'!$B$4:$X$48,21,FALSE),0)+IF(I28>0, VLOOKUP(B28,'Giornata 6'!$B$4:$T$48,17,FALSE),0) -> 4
A29: =A28+1 -> 26 | B29: Daniel Terracina | C29: =CONCATENATE(LEFT(B29,FIND(" ",B29) + 2),".") -> Daniel Te. | D29: =VLOOKUP(B29,'Giornata 1'!$B$3:$V$48,21,FALSE) -> 7 | E29: =VLOOKUP(B29,'Giornata 2'!$B$4:$X$49,23,FALSE) -> 12 | F29: =VLOOKUP(B29,'Giornata 3'!$B$4:$Z$49,23,FALSE) -> 9 | G29: 0 | H29: =VLOOKUP(B29,'Giornata 5'!$B$3:$X$48,19,FALSE) -> 0 | I29: =VLOOKUP(B29,'Giornata 6'!$B$3:$T$48,19,FALSE) | J29: =SUM(D29:I29) -> 28 | K29: =+J29-MIN(D29:H29) -> 28 | L29: =RANK(K29,$K$4:$K$48) -> 25 | M29: =IF(D29>0, VLOOKUP(B29,'Giornata 1'!$B$4:$V$48,19,FALSE),0)+IF(E29>0, VLOOKUP(B29,'Giornata 2'!$B$5:$X$49,21,FALSE),0)+IF(F29>0, VLOOKUP(B29,'Giornata 3'!$B$5:$Z$49,21,FALSE),0)+IF(G29>0, VLOOKUP(B29,'Giornata 4'!$B$5:$AH$49,31,FALSE),0)+IF(H29>0, VLOOKUP(B29,'Giornata 5'!$B$4:$X$48,21,FALSE),0)+IF(I29>0, VLOOKUP(B29,'Giornata 6'!$B$4:$T$48,17,FALSE),0) -> 2
A30: =A29+1 -> 27 | B30: Daniele Ferrini | C30: =CONCATENATE(LEFT(B30,FIND(" ",B30) + 2),".") -> Daniele Fe. | D30: 0 | E30: 0 | F30: =VLOOKUP(B30,'Giornata 3'!$B$4:$Z$49,23,FALSE) -> 26 | G30: 0 | H30: =VLOOKUP(B30,'Giornata 5'!$B$3:$X$48,19,FALSE) -> 0 | I30: =VLOOKUP(B30,'Giornata 6'!$B$3:$T$48,19,FALSE) | J30: =SUM(D30:I30) -> 26 | K30: =+J30-MIN(D30:H30) -> 26 | L30: =RANK(K30,$K$4:$K$48) -> 27 | M30: =IF(D30>0, VLOOKUP(B30,'Giornata 1'!$B$4:$V$48,19,FALSE),0)+IF(E30>0, VLOOKUP(B30,'Giornata 2'!$B$5:$X$49,21,FALSE),0)+IF(F30>0, VLOOKUP(B30,'Giornata 3'!$B$5:$Z$49,21,FALSE),0)+IF(G30>0, VLOOKUP(B30,'Giornata 4'!$B$5:$AH$49,31,FALSE),0)+IF(H30>0, VLOOKUP(B30,'Giornata 5'!$B$4:$X$48,21,FALSE),0)+IF(I30>0, VLOOKUP(B30,'Giornata 6'!$B$4:$T$48,17,FALSE),0) -> 3
A31: =A30+1 -> 28 | B31: Massimo Malerba | C31: =CONCATENATE(LEFT(B31,FIND(" ",B31) + 2),".") -> Massimo Ma. | D31: 0 | E31: 0 | F31: =VLOOKUP(B31,'Giornata 3'!$B$4:$Z$49,23,FALSE) -> 21 | G31: 0 | H31: =VLOOKUP(B31,'Giornata 5'!$B$3:$X$48,19,FALSE) -> 0 | I31: =VLOOKUP(B31,'Giornata 6'!$B$3:$T$48,19,FALSE) | J31: =SUM(D31:I31) -> 21 | K31: =+J31-MIN(D31:H31) -> 21 | L31: =RANK(K31,$K$4:$K$48) -> 28 | M31: =IF(D31>0, VLOOKUP(B31,'Giornata 1'!$B$4:$V$48,19,FALSE),0)+IF(E31>0, VLOOKUP(B31,'Giornata 2'!$B$5:$X$49,21,FALSE),0)+IF(F31>0, VLOOKUP(B31,'Giornata 3'!$B$5:$Z$49,21,FALSE),0)+IF(G31>0, VLOOKUP(B31,'Giornata 4'!$B$5:$AH$49,31,FALSE),0)+IF(H31>0, VLOOKUP(B31,'Giornata 5'!$B$4:$X$48,21,FALSE),0)+IF(I31>0, VLOOKUP(B31,'Giornata 6'!$B$4:$T$48,17,FALSE),0) -> 3
A32: =A31+1 -> 29 | B32: Stefano Von Dadden | C32: =CONCATENATE(LEFT(B32,FIND(" ",B32) + 2),".") -> Stefano Vo. | D32: =VLOOKUP(B32,'Giornata 1'!$B$3:$V$48,21,FALSE) -> 21 | E32: 0 | F32: 0 | G32: 0 | H32: =VLOOKUP(B32,'Giornata 5'!$B$3:$X$48,19,FALSE) -> 0 | I32: =VLOOKUP(B32,'Giornata 6'!$B$3:$T$48,19,FALSE) | J32: =SUM(D32:I32) -> 21 | K32: =+J32-MIN(D32:H32) -> 21 | L32: =RANK(K32,$K$4:$K$48) -> 28 | M32: =IF(D32>0, VLOOKUP(B32,'Giornata 1'!$B$4:$V$48,19,FALSE),0)+IF(E32>0, VLOOKUP(B32,'Giornata 2'!$B$5:$X$49,21,FALSE),0)+IF(F32>0, VLOOKUP(B32,'Giornata 3'!$B$5:$Z$49,21,FALSE),0)+IF(G32>0, VLOOKUP(B32,'Giornata 4'!$B$5:$AH$49,31,FALSE),0)+IF(H32>0, VLOOKUP(B32,'Giornata 5'!$B$4:$X$48,21,FALSE),0)+IF(I32>0, VLOOKUP(B32,'Giornata 6'!$B$4:$T$48,17,FALSE),0) -> 2
A33: =A32+1 -> 30 | B33: Jolly 1 | C33: =CONCATENATE(LEFT(B33,FIND(" ",B33) + 2),".") -> Jolly 1. | D33: 0 | E33: =VLOOKUP(B33,'Giornata 2'!$B$4:$X$49,23,FALSE) -> 11 | F33: 0 | G33: 0 | H33: =VLOOKUP(B33,'Giornata 5'!$B$3:$X$48,19,FALSE) -> 0 | I33: =VLOOKUP(B33,'Giornata 6'!$B$3:$T$48,19,FALSE) | J33: =SUM(D33:I33) -> 11 | K33: =+J33-MIN(D33:H33) -> 11 | L33: =RANK(K33,$K$4:$K$48) -> 30 | M33: =IF(D33>0, VLOOKUP(B33,'Giornata 1'!$B$4:$V$48,19,FALSE),0)+IF(E33>0, VLOOKUP(B33,'Giornata 2'!$B$5:$X$49,21,FALSE),0)+IF(F33>0, VLOOKUP(B33,'Giornata 3'!$B$5:$Z$49,21,FALSE),0)+IF(G33>0, VLOOKUP(B33,'Giornata 4'!$B$5:$AH$49,31,FALSE),0)+IF(H33>0, VLOOKUP(B33,'Giornata 5'!$B$4:$X$48,21,FALSE),0)+IF(I33>0, VLOOKUP(B33,'Giornata 6'!$B$4:$T$48,17,FALSE),0) -> 2
A34: =A33+1 -> 31 | B34: Erminio Serio | C34: =CONCATENATE(LEFT(B34,FIND(" ",B34) + 2),".") -> Erminio Se. | D34: =VLOOKUP(B34,'Giornata 1'!$B$3:$V$48,21,FALSE) -> 1 | E34: 0 | F34: 0 | G34: =VLOOKUP(B34,'Giornata 4'!$B$4:$AH$49, 33, FALSE) -> 10 | H34: =VLOOKUP(B34,'Giornata 5'!$B$3:$X$48,19,FALSE) -> 0 | I34: =VLOOKUP(B34,'Giornata 6'!$B$3:$T$48,19,FALSE) | J34: =SUM(D34:I34) -> 11 | K34: =+J34-MIN(D34:H34) -> 11 | L34: =RANK(K34,$K$4:$K$48) -> 30 | M34: =IF(D34>0, VLOOKUP(B34,'Giornata 1'!$B$4:$V$48,19,FALSE),0)+IF(E34>0, VLOOKUP(B34,'Giornata 2'!$B$5:$X$49,21,FALSE),0)+IF(F34>0, VLOOKUP(B34,'Giornata 3'!$B$5:$Z$49,21,FALSE),0)+IF(G34>0, VLOOKUP(B34,'Giornata 4'!$B$5:$AH$49,31,FALSE),0)+IF(H34>0, VLOOKUP(B34,'Giornata 5'!$B$4:$X$48,21,FALSE),0)+IF(I34>0, VLOOKUP(B34,'Giornata 6'!$B$4:$T$48,17,FALSE),0) -> 0
A35: =A34+1 -> 32 | B35: Barbara Von Rust | C35: =CONCATENATE(LEFT(B35,FIND(" ",B35) + 2),".") -> Barbara Vo. | D35: 0 | E35: =VLOOKUP(B35,'Giornata 2'!$B$4:$X$49,23,FALSE) -> 3 | F35: =VLOOKUP(B35,'Giornata 3'!$B$4:$Z$49,23,FALSE) -> 7 | G35: 0 | H35: =VLOOKUP(B35,'Giornata 5'!$B$3:$X$48,19,FALSE) -> 0 | I35: =VLOOKUP(B35,'Giornata 6'!$B$3:$T$48,19,FALSE) | J35: =SUM(D35:I35) -> 10 | K35: =+J35-MIN(D35:H35) -> 10 | L35: =RANK(K35,$K$4:$K$48) -> 32 | M35: =IF(D35>0, VLOOKUP(B35,'Giornata 1'!$B$4:$V$48,19,FALSE),0)+IF(E35>0, VLOOKUP(B35,'Giornata 2'!$B$5:$X$49,21,FALSE),0)+IF(F35>0, VLOOKUP(B35,'Giornata 3'!$B$5:$Z$49,21,FALSE),0)+IF(G35>0, VLOOKUP(B35,'Giornata 4'!$B$5:$AH$49,31,FALSE),0)+IF(H35>0, VLOOKUP(B35,'Giornata 5'!$B$4:$X$48,21,FALSE),0)+IF(I35>0, VLOOKUP(B35,'Giornata 6'!$B$4:$T$48,17,FALSE),0) -> 0
A36: =A35+1 -> 33 | B36: Marco Tambara | C36: =CONCATENATE(LEFT(B36,FIND(" ",B36) + 2),".") -> Marco Ta. | D36: 0 | E36: =VLOOKUP(B36,'Giornata 2'!$B$4:$X$49,23,FALSE) -> 9 | F36: 0 | G36: 0 | H36: =VLOOKUP(B36,'Giornata 5'!$B$3:$X$48,19,FALSE) -> 0 | I36: =VLOOKUP(B36,'Giornata 6'!$B$3:$T$48,19,FALSE) | J36: =SUM(D36:I36) -> 9 | K36: =+J36-MIN(D36:H36) -> 9 | L36: =RANK(K36,$K$4:$K$48) -> 33 | M36: =IF(D36>0, VLOOKUP(B36,'Giornata 1'!$B$4:$V$48,19,FALSE),0)+IF(E36>0, VLOOKUP(B36,'Giornata 2'!$B$5:$X$49,21,FALSE),0)+IF(F36>0, VLOOKUP(B36,'Giornata 3'!$B$5:$Z$49,21,FALSE),0)+IF(G36>0, VLOOKUP(B36,'Giornata 4'!$B$5:$AH$49,31,FALSE),0)+IF(H36>0, VLOOKUP(B36,'Giornata 5'!$B$4:$X$48,21,FALSE),0)+IF(I36>0, VLOOKUP(B36,'Giornata 6'!$B$4:$T$48,17,FALSE),0) -> 1
A37: =A36+1 -> 34 | B37: Maurizio Vitale | C37: =CONCATENATE(LEFT(B37,FIND(" ",B37) + 2),".") -> Maurizio Vi. | D37: =VLOOKUP(B37,'Giornata 1'!$B$3:$V$48,21,FALSE) -> 8 | E37: 0 | F37: =VLOOKUP(B37,'Giornata 3'!$B$4:$Z$49,23,FALSE) -> 1 | G37: 0 | H37: =VLOOKUP(B37,'Giornata 5'!$B$3:$X$48,19,FALSE) -> 0 | I37: =VLOOKUP(B37,'Giornata 6'!$B$3:$T$48,19,FALSE) | J37: =SUM(D37:I37) -> 9 | K37: =+J37-MIN(D37:H37) -> 9 | L37: =RANK(K37,$K$4:$K$48) -> 33 | M37: =IF(D37>0, VLOOKUP(B37,'Giornata 1'!$B$4:$V$48,19,FALSE),0)+IF(E37>0, VLOOKUP(B37,'Giornata 2'!$B$5:$X$49,21,FALSE),0)+IF(F37>0, VLOOKUP(B37,'Giornata 3'!$B$5:$Z$49,21,FALSE),0)+IF(G37>0, VLOOKUP(B37,'Giornata 4'!$B$5:$AH$49,31,FALSE),0)+IF(H37>0, VLOOKUP(B37,'Giornata 5'!$B$4:$X$48,21,FALSE),0)+IF(I37>0, VLOOKUP(B37,'Giornata 6'!$B$4:$T$48,17,FALSE),0) -> 0
A38: =A37+1 -> 35 | B38: Laura Di Marco | C38: =CONCATENATE(LEFT(B38,FIND(" ",B38) + 2),".") -> Laura Di. | D38: 0 | E38: 0 | F38: =VLOOKUP(B38,'Giornata 3'!$B$4:$Z$49,23,FALSE) -> 8 | G38: 0 | H38: =VLOOKUP(B38,'Giornata 5'!$B$3:$X$48,19,FALSE) -> 0 | I38: =VLOOKUP(B38,'Giornata 6'!$B$3:$T$48,19,FALSE) | J38: =SUM(D38:I38) -> 8 | K38: =+J38-MIN(D38:H38) -> 8 | L38: =RANK(K38,$K$4:$K$48) -> 35 | M38: =IF(D38>0, VLOOKUP(B38,'Giornata 1'!$B$4:$V$48,19,FALSE),0)+IF(E38>0, VLOOKUP(B38,'Giornata 2'!$B$5:$X$49,21,FALSE),0)+IF(F38>0, VLOOKUP(B38,'Giornata 3'!$B$5:$Z$49,21,FALSE),0)+IF(G38>0, VLOOKUP(B38,'Giornata 4'!$B$5:$AH$49,31,FALSE),0)+IF(H38>0, VLOOKUP(B38,'Giornata 5'!$B$4:$X$48,21,FALSE),0)+IF(I38>0, VLOOKUP(B38,'Giornata 6'!$B$4:$T$48,17,FALSE),0) -> 0
A39: =A38+1 -> 36 | B39: Stefano Tiribocchi | C39: =CONCATENATE(LEFT(B39,FIND(" ",B39) + 2),".") -> Stefano Ti. | D39: 0 | E39: 0 | F39: =VLOOKUP(B39,'Giornata 3'!$B$4:$Z$49,23,FALSE) -> 3 | G39: =VLOOKUP(B39,'Giornata 4'!$B$4:$AH$49, 33, FALSE) -> 4 | H39: =VLOOKUP(B39,'Giornata 5'!$B$3:$X$48,19,FALSE) -> -3 | I39: =VLOOKUP(B39,'Giornata 6'!$B$3:$T$48,19,FALSE) | J39: =SUM(D39:I39) -> 4 | K39: =+J39-MIN(D39:H39) -> 7 | L39: =RANK(K39,$K$4:$K$48) -> 36 | M39: =IF(D39>0, VLOOKUP(B39,'Giornata 1'!$B$4:$V$48,19,FALSE),0)+IF(E39>0, VLOOKUP(B39,'Giornata 2'!$B$5:$X$49,21,FALSE),0)+IF(F39>0, VLOOKUP(B39,'Giornata 3'!$B$5:$Z$49,21,FALSE),0)+IF(G39>0, VLOOKUP(B39,'Giornata 4'!$B$5:$AH$49,31,FALSE),0)+IF(H39>0, VLOOKUP(B39,'Giornata 5'!$B$4:$X$48,21,FALSE),0)+IF(I39>0, VLOOKUP(B39,'Giornata 6'!$B$4:$T$48,17,FALSE),0) -> 0
A40: =A39+1 -> 37 | B40: Michele Balasso | C40: =CONCATENATE(LEFT(B40,FIND(" ",B40) + 2),".") -> Michele Ba. | D40: 0 | E40: 0 | F40: =VLOOKUP(B40,'Giornata 3'!$B$4:$Z$49,23,FALSE) -> 5 | G40: 0 | H40: =VLOOKUP(B40,'Giornata 5'!$B$3:$X$48,19,FALSE) -> 0 | I40: =VLOOKUP(B40,'Giornata 6'!$B$3:$T$48,19,FALSE) | J40: =SUM(D40:I40) -> 5 | K40: =+J40-MIN(D40:H40) -> 5 | L40: =RANK(K40,$K$4:$K$48) -> 37 | M40: =IF(D40>0, VLOOKUP(B40,'Giornata 1'!$B$4:$V$48,19,FALSE),0)+IF(E40>0, VLOOKUP(B40,'Giornata 2'!$B$5:$X$49,21,FALSE),0)+IF(F40>0, VLOOKUP(B40,'Giornata 3'!$B$5:$Z$49,21,FALSE),0)+IF(G40>0, VLOOKUP(B40,'Giornata 4'!$B$5:$AH$49,31,FALSE),0)+IF(H40>0, VLOOKUP(B40,'Giornata 5'!$B$4:$X$48,21,FALSE),0)+IF(I40>0, VLOOKUP(B40,'Giornata 6'!$B$4:$T$48,17,FALSE),0) -> 0
A41: =A40+1 -> 38 | B41: Ivan Martinelli | C41: =CONCATENATE(LEFT(B41,FIND(" ",B41) + 2),".") -> Ivan Ma. | D41: 0 | E41: 0 | F41: =VLOOKUP(B41,'Giornata 3'!$B$4:$Z$49,23,FALSE) -> 2 | G41: =VLOOKUP(B41,'Giornata 4'!$B$4:$AH$49, 33, FALSE) -> 2 | H41: =VLOOKUP(B41,'Giornata 5'!$B$3:$X$48,19,FALSE) -> 0 | I41: =VLOOKUP(B41,'Giornata 6'!$B$3:$T$48,19,FALSE) | J41: =SUM(D41:I41) -> 4 | K41: =+J41-MIN(D41:H41) -> 4 | L41: =RANK(K41,$K$4:$K$48) -> 38 | M41: =IF(D41>0, VLOOKUP(B41,'Giornata 1'!$B$4:$V$48,19,FALSE),0)+IF(E41>0, VLOOKUP(B41,'Giornata 2'!$B$5:$X$49,21,FALSE),0)+IF(F41>0, VLOOKUP(B41,'Giornata 3'!$B$5:$Z$49,21,FALSE),0)+IF(G41>0, VLOOKUP(B41,'Giornata 4'!$B$5:$AH$49,31,FALSE),0)+IF(H41>0, VLOOKUP(B41,'Giornata 5'!$B$4:$X$48,21,FALSE),0)+IF(I41>0, VLOOKUP(B41,'Giornata 6'!$B$4:$T$48,17,FALSE),0) -> 0
...

Sheet Giornata 1
F1: 10 | G1: 1 | H1: 5 | I1: -10 | J1: -20
E2: Partita 1 | L2: Partita 2 | S2: TOTALE
A3: 0 | B3: Nome Cognome | C3: Nome | D3: Presenza | E3: Fazione | F3: Vittoria | G3: Colpi Inferti | H3: Aerial Victory | I3: Abbattuto | J3: Uscito | K3: Punti Partita | L3: Fazione | M3: Vittoria | N3: Colpi Inferti | O3: Aerial Victory | P3: Abbattuto | Q3: Uscito | R3: Punti Partita | S3: Punti | T3: Aerial Victory | U3: Ordine | V3: Pt
A4: =A3+1 -> 1 | B4: Alessandrro Corradi | C4: =CONCATENATE(LEFT(B4,FIND(" ",B4) + 2),".") -> Alessandrro Co. | D4: 0 | K4: =SUMPRODUCT($F$1:$J$1,F4:J4) -> 0 | R4: =SUMPRODUCT($F$1:$J$1,M4:Q4) -> 0 | S4: =IF(D4=1,K4+R4,"") | T4: =H4+O4 -> 0 | U4: =IF(D4=1,RANK(S4,$S$4:$S$48)," ") | V4: =IF(D4=1,(($D$49-U4+1)+IF(U4=1,5,IF(U4=2,3,IF(U4=3,1,0))))," ")
A5: =A4+1 -> 2 | B5: Andrea Procaccino | C5: =CONCATENATE(LEFT(B5,FIND(" ",B5) + 2),".") -> Andrea Pr. | D5: 0 | K5: =SUMPRODUCT($F$1:$J$1,F5:J5) -> 0 | R5: =SUMPRODUCT($F$1:$J$1,M5:Q5) -> 0 | S5: =IF(D5=1,K5+R5,"") | T5: =H5+O5 -> 0 | U5: =IF(D5=1,RANK(S5,$S$4:$S$48)," ") | V5: =IF(D5=1,(($D$49-U5+1)+IF(U5=1,5,IF(U5=2,3,IF(U5=3,1,0))))," ")
A6: =A5+1 -> 3 | B6: Barbara Von Rust | C6: =CONCATENATE(LEFT(B6,FIND(" ",B6) + 2),".") -> Barbara Vo. | D6: 0 | K6: =SUMPRODUCT($F$1:$J$1,F6:J6) -> 0 | R6: =SUMPRODUCT($F$1:$J$1,M6:Q6) -> 0 | S6: =IF(D6=1,K6+R6,"") | T6: =H6+O6 -> 0 | U6: =IF(D6=1,RANK(S6,$S$4:$S$48)," ") | V6: =IF(D6=1,(($D$49-U6+1)+IF(U6=1,5,IF(U6=2,3,IF(U6=3,1,0))))," ")
A7: =A6+1 -> 4 | B7: Bruno Padronetti | C7: =CONCATENATE(LEFT(B7,FIND(" ",B7) + 2),".") -> Bruno Pa. | D7: 0 | K7: =SUMPRODUCT($F$1:$J$1,F7:J7) -> 0 | R7: =SUMPRODUCT($F$1:$J$1,M7:Q7) -> 0 | S7: =IF(D7=1,K7+R7,"") | T7: =H7+O7 -> 0 | U7: =IF(D7=1,RANK(S7,$S$4:$S$48)," ") | V7: =IF(D7=1,(($D$49-U7+1)+IF(U7=1,5,IF(U7=2,3,IF(U7=3,1,0))))," ")
A8: =A7+1 -> 5 | B8: Claudio Marinangeli | C8: =CONCATENATE(LEFT(B8,FIND(" ",B8) + 2),".") -> Claudio Ma. | D8: 0 | K8: =SUMPRODUCT($F$1:$J$1,F8:J8) -> 0 | R8: =SUMPRODUCT($F$1:$J$1,M8:Q8) -> 0 | S8: =IF(D8=1,K8+R8,"") | T8: =H8+O8 -> 0 | U8: =IF(D8=1,RANK(S8,$S$4:$S$48)," ") | V8: =IF(D8=1,(($D$49-U8+1)+IF(U8=1,5,IF(U8=2,3,IF(U8=3,1,0))))," ")
A9: =A8+1 -> 6 | B9: Daniele Ferrini | C9: =CONCATENATE(LEFT(B9,FIND(" ",B9) + 2),".") -> Daniele Fe. | D9: 0 | K9: =SUMPRODUCT($F$1:$J$1,F9:J9) -> 0 | R9: =SUMPRODUCT($F$1:$J$1,M9:Q9) -> 0 | S9: =IF(D9=1,K9+R9,"") | T9: =O10+O9 -> 0 | U9: =IF(D9=1,RANK(S9,$S$4:$S$48)," ") | V9: =IF(D9=1,(($D$49-U9+1)+IF(U9=1,5,IF(U9=2,3,IF(U9=3,1,0))))," ")
A10: =A9+1 -> 7 | B10: Daniele Pagliuca | C10: =CONCATENATE(LEFT(B10,FIND(" ",B10) + 2),".") -> Daniele Pa. | D10: 0 | K10: =SUMPRODUCT($F$1:$J$1,F10:J10) -> 0 | R10: =SUMPRODUCT($F$1:$J$1,M10:Q10) -> 0 | S10: =IF(D10=1,K10+R10,"") | T10: =H10+O10 -> 0 | U10: =IF(D10=1,RANK(S10,$S$4:$S$48)," ") | V10: =IF(D10=1,(($D$49-U10+1)+IF(U10=1,5,IF(U10=2,3,IF(U10=3,1,0))))," ")
A11: =A10+1 -> 8 | B11: Francesco Marradi | C11: =CONCATENATE(LEFT(B11,FIND(" ",B11) + 2),".") -> Francesco Ma. | D11: 0 | S11: =IF(D11=1,K11+R11,"") | T11: =H11+O11 -> 0 | U11: =IF(D11=1,RANK(S11,$S$4:$S$48)," ") | V11: =IF(D11=1,(($D$49-U11+1)+IF(U11=1,5,IF(U11=2,3,IF(U11=3,1,0))))," ")
A12: =A11+1 -> 9 | B12: Francesco Ulmo | C12: =CONCATENATE(LEFT(B12,FIND(" ",B12) + 2),".") -> Francesco Ul. | D12: 0 | S12: =IF(D12=1,K12+R12,"") | T12: =H12+O12 -> 0 | U12: =IF(D12=1,RANK(S12,$S$4:$S$48)," ") | V12: =IF(D12=1,(($D$49-U12+1)+IF(U12=1,5,IF(U12=2,3,IF(U12=3,1,0))))," ")
A13: =A12+1 -> 10 | B13: Gino Lucrezi | C13: =CONCATENATE(LEFT(B13,FIND(" ",B13) + 2),".") -> Gino Lu. | D13: 0 | K13: =SUMPRODUCT($F$1:$J$1,F13:J13) -> 0 | R13: =SUMPRODUCT($F$1:$J$1,M13:Q13) -> 0 | S13: =IF(D13=1,K13+R13,"") | T13: =H13+O13 -> 0 | U13: =IF(D13=1,RANK(S13,$S$4:$S$48)," ") | V13: =IF(D13=1,(($D$49-U13+1)+IF(U13=1,5,IF(U13=2,3,IF(U13=3,1,0))))," ")
A14: =A13+1 -> 11 | B14: Ivan Martinelli | C14: =CONCATENATE(LEFT(B14,FIND(" ",B14) + 2),".") -> Ivan Ma. | D14: 0 | S14: =IF(D14=1,K14+R14,"") | T14: =H14+O14 -> 0 | U14: =IF(D14=1,RANK(S14,$S$4:$S$48)," ") | V14: =IF(D14=1,(($D$49-U14+1)+IF(U14=1,5,IF(U14=2,3,IF(U14=3,1,0))))," ")
A15: =A14+1 -> 12 | B15: Jolly 1 | C15: =CONCATENATE(LEFT(B15,FIND(" ",B15) + 2),".") -> Jolly 1. | D15: 0 | K15: =SUMPRODUCT($F$1:$J$1,F15:J15) -> 0 | R15: =SUMPRODUCT($F$1:$J$1,M15:Q15) -> 0 | S15: =IF(D15=1,K15+R15,"") | T15: =H15+O15 -> 0 | U15: =IF(D15=1,RANK(S15,$S$4:$S$48)," ") | V15: =IF(D15=1,(($D$49-U15+1)+IF(U15=1,5,IF(U15=2,3,IF(U15=3,1,0))))," ")
A16: =A15+1 -> 13 | B16: Jolly 2 | C16: =CONCATENATE(LEFT(B16,FIND(" ",B16) + 2),".") -> Jolly 2. | D16: 0 | K16: =SUMPRODUCT($F$1:$J$1,F16:J16) -> 0 | R16: =SUMPRODUCT($F$1:$J$1,M16:Q16) -> 0 | S16: =IF(D16=1,K16+R16,"") | T16: =H16+O16 -> 0 | U16: =IF(D16=1,RANK(S16,$S$4:$S$48)," ") | V16: =IF(D16=1,(($D$49-U16+1)+IF(U16=1,5,IF(U16=2,3,IF(U16=3,1,0))))," ")
A17: =A16+1 -> 14 | B17: Laura Di Marco | C17: =CONCATENATE(LEFT(B17,FIND(" ",B17) + 2),".") -> Laura Di. | D17: 0 | K17: =SUMPRODUCT($F$1:$J$1,F17:J17) -> 0 | R17: =SUMPRODUCT($F$1:$J$1,M17:Q17) -> 0 | S17: =IF(D17=1,K17+R17,"") | T17: =H17+O17 -> 0 | U17: =IF(D17=1,RANK(S17,$S$4:$S$48)," ") | V17: =IF(D17=1,(($D$49-U17+1)+IF(U17=1,5,IF(U17=2,3,IF(U17=3,1,0))))," ")
A18: =A17+1 -> 15 | B18: Luca Postumi | C18: =CONCATENATE(LEFT(B18,FIND(" ",B18) + 2),".") -> Luca Po. | D18: 0 | K18: =SUMPRODUCT($F$1:$J$1,F18:J18) -> 0 | R18: =SUMPRODUCT($F$1:$J$1,M18:Q18) -> 0 | S18: =IF(D18=1,K18+R18,"") | T18: =H18+O18 -> 0 | U18: =IF(D18=1,RANK(S18,$S$4:$S$48)," ") | V18: =IF(D18=1,(($D$49-U18+1)+IF(U18=1,5,IF(U18=2,3,IF(U18=3,1,0))))," ")
A19: =A18+1 -> 16 | B19: Marco Tambara | C19: =CONCATENATE(LEFT(B19,FIND(" ",B19) + 2),".") -> Marco Ta. | D19: 0 | K19: =SUMPRODUCT($F$1:$J$1,F19:J19) -> 0 | R19: =SUMPRODUCT($F$1:$J$1,M19:Q19) -> 0 | S19: =IF(D19=1,K19+R19,"") | T19: =H19+O19 -> 0 | U19: =IF(D19=1,RANK(S19,$S$4:$S$48)," ") | V19: =IF(D19=1,(($D$49-U19+1)+IF(U19=1,5,IF(U19=2,3,IF(U19=3,1,0))))," ")
A20: =A19+1 -> 17 | B20: Massimo Malerba | C20: =CONCATENATE(LEFT(B20,FIND(" ",B20) + 2),".") -> Massimo Ma. | D20: 0 | K20: =SUMPRODUCT($F$1:$J$1,F20:J20) -> 0 | R20: =SUMPRODUCT($F$1:$J$1,M20:Q20) -> 0 | S20: =IF(D20=1,K20+R20,"") | T20: =H20+O20 -> 0 | U20: =IF(D20=1,RANK(S20,$S$4:$S$48)," ") | V20: =IF(D20=1,(($D$49-U20+1)+IF(U20=1,5,IF(U20=2,3,IF(U20=3,1,0))))," ")
A21: =A20+1 -> 18 | B21: Michele Balasso | C21: =CONCATENATE(LEFT(B21,FIND(" ",B21) + 2),".") -> Michele Ba. | D21: 0 | K21: =SUMPRODUCT($F$1:$J$1,F21:J21) -> 0 | R21: =SUMPRODUCT($F$1:$J$1,M21:Q21) -> 0 | S21: =IF(D21=1,K21+R21,"") | T21: =H21+O21 -> 0 | U21: =IF(D21=1,RANK(S21,$S$4:$S$48)," ") | V21: =IF(D21=1,(($D$49-U21+1)+IF(U21=1,5,IF(U21=2,3,IF(U21=3,1,0))))," ")
A22: =A21+1 -> 19 | B22: Raffaella Rovignoni | C22: =CONCATENATE(LEFT(B22,FIND(" ",B22) + 2),".") -> Raffaella Ro. | D22: 0 | K22: =SUMPRODUCT($F$1:$J$1,F22:J22) -> 0 | R22: =SUMPRODUCT($F$1:$J$1,M22:Q22) -> 0 | S22: =IF(D22=1,K22+R22,"") | T22: =H22+O22 -> 0 | U22: =IF(D22=1,RANK(S22,$S$4:$S$48)," ") | V22: =IF(D22=1,(($D$49-U22+1)+IF(U22=1,5,IF(U22=2,3,IF(U22=3,1,0))))," ")
A23: =A22+1 -> 20 | B23: Stefano Tiribocchi | C23: =CONCATENATE(LEFT(B23,FIND(" ",B23) + 2),".") -> Stefano Ti. | D23: 0 | K23: =SUMPRODUCT($F$1:$J$1,F23:J23) -> 0 | R23: =SUMPRODUCT($F$1:$J$1,M23:Q23) -> 0 | S23: =IF(D23=1,K23+R23,"") | T23: =H23+O23 -> 0 | U23: =IF(D23=1,RANK(S23,$S$4:$S$48)," ") | V23: =IF(D23=1,(($D$49-U23+1)+IF(U23=1,5,IF(U23=2,3,IF(U23=3,1,0))))," ")
A24: =A23+1 -> 21 | B24: Valerio Ferrandino | C24: =CONCATENATE(LEFT(B24,FIND(" ",B24) + 2),".") -> Valerio Fe. | D24: 0 | K24: =SUMPRODUCT($F$1:$J$1,F24:J24) -> 0 | R24: =SUMPRODUCT($F$1:$J$1,M24:Q24) -> 0 | S24: =IF(D24=1,K24+R24,"") | T24: =H24+O24 -> 0 | U24: =IF(D24=1,RANK(S24,$S$4:$S$48)," ") | V24: =IF(D24=1,(($D$49-U24+1)+IF(U24=1,5,IF(U24=2,3,IF(U24=3,1,0))))," ")
A25: =A24+1 -> 22 | B25: Alessandro Babbi | C25: =CONCATENATE(LEFT(B25,FIND(" ",B25) + 2),".") -> Alessandro Ba. | D25: 1 | E25: Intesa | F25: 1 | G25: 17 | H25: 2 | K25: =SUMPRODUCT($F$1:$J$1,F25:J25) -> 37 | L25: Imperi | M25: 1 | N25: 13 | O25: 1 | R25: =SUMPRODUCT($F$1:$J$1,M25:Q25) -> 28 | S25: =IF(D25=1,K25+R25,"") -> 65 | T25: =H25+O25 -> 3 | U25: =IF(D25=1,RANK(S25,$S$4:$S$48)," ") -> 1 | V25: =IF(D25=1,(($D$49-U25+1)+IF(U25=1,5,IF(U25=2,3,IF(U25=3,1,0))))," ") -> 29
A26: =A25+1 -> 23 | B26: Artemisia Von Rust | C26: =CONCATENATE(LEFT(B26,FIND(" ",B26) + 2),".") -> Artemisia Vo. | D26: 1 | E26: Intesa | F26: 1 | G26: 16 | H26: 1 | K26: =SUMPRODUCT($F$1:$J$1,F26:J26) -> 31 | L26: Imperi | M26: 1 | N26: 18 | R26: =SUMPRODUCT($F$1:$J$1,M26:Q26) -> 28 | S26: =IF(D26=1,K26+R26,"") -> 59 | T26: =H26+O26 -> 1 | U26: =IF(D26=1,RANK(S26,$S$4:$S$48)," ") -> 2 | V26: =IF(D26=1,(($D$49-U26+1)+IF(U26=1,5,IF(U26=2,3,IF(U26=3,1,0))))," ") -> 26
A27: =A26+1 -> 24 | B27: Massimo Mollica | C27: =CONCATENATE(LEFT(B27,FIND(" ",B27) + 2),".") -> Massimo Mo. | D27: 1 | E27: Intesa | F27: 1 | G27: 12 | H27: 1 | K27: =SUMPRODUCT($F$1:$J$1,F27:J27) -> 27 | L27: Imperi | M27: 1 | N27: 17 | R27: =SUMPRODUCT($F$1:$J$1,M27:Q27) -> 27 | S27: =IF(D27=1,K27+R27,"") -> 54 | T27: =H27+O27 -> 1 | U27: =IF(D27=1,RANK(S27,$S$4:$S$48)," ") -> 3 | V27: =IF(D27=1,(($D$49-U27+1)+IF(U27=1,5,IF(U27=2,3,IF(U27=3,1,0))))," ") -> 23
A28: =A27+1 -> 25 | B28: Stefano Von Dadden | C28: =CONCATENATE(LEFT(B28,FIND(" ",B28) + 2),".") -> Stefano Vo. | D28: 1 | E28: Intesa | F28: 1 | G28: 18 | H28: 2 | K28: =SUMPRODUCT($F$1:$J$1,F28:J28) -> 38 | L28: Imperi | N28: 19 | P28: 1 | R28: =SUMPRODUCT($F$1:$J$1,M28:Q28) -> 9 | S28: =IF(D28=1,K28+R28,"") -> 47 | T28: =H28+O28 -> 2 | U28: =IF(D28=1,RANK(S28,$S$4:$S$48)," ") -> 4 | V28: =IF(D28=1,(($D$49-U28+1)+IF(U28=1,5,IF(U28=2,3,IF(U28=3,1,0))))," ") -> 21
A29: =A28+1 -> 26 | B29: Franco Napoleoni | C29: =CONCATENATE(LEFT(B29,FIND(" ",B29) + 2),".") -> Franco Na. | D29: 1 | E29: Intesa | F29: 1 | G29: 15 | H29: 1 | K29: =SUMPRODUCT($F$1:$J$1,F29:J29) -> 30 | L29: Imperi | N29: 14 | R29: =SUMPRODUCT($F$1:$J$1,M29:Q29) -> 14 | S29: =IF(D29=1,K29+R29,"") -> 44 | T29: =H29+O29 -> 1 | U29: =IF(D29=1,RANK(S29,$S$4:$S$48)," ") -> 5 | V29: =IF(D29=1,(($D$49-U29+1)+IF(U29=1,5,IF(U29=2,3,IF(U29=3,1,0))))," ") -> 20
A30: =A29+1 -> 27 | B30: Francesco Berucci | C30: =CONCATENATE(LEFT(B30,FIND(" ",B30) + 2),".") -> Francesco Be. | D30: 1 | E30: Intesa | F30: 1 | G30: 13 | H30: 2 | K30: =SUMPRODUCT($F$1:$J$1,F30:J30) -> 33 | L30: Imperi | N30: 15 | O30: 1 | P30: 1 | R30: =SUMPRODUCT($F$1:$J$1,M30:Q30) -> 10 | S30: =IF(D30=1,K30+R30,"") -> 43 | T30: =H30+O30 -> 3 | U30: =IF(D30=1,RANK(S30,$S$4:$S$48)," ") -> 6 | V30: =IF(D30=1,(($D$49-U30+1)+IF(U30=1,5,IF(U30=2,3,IF(U30=3,1,0))))," ") -> 19
A31: =A30+1 -> 28 | B31: Riccardo Vadalà | C31: =CONCATENATE(LEFT(B31,FIND(" ",B31) + 2),".") -> Riccardo Va. | D31: 1 | E31: Intesa | F31: 1 | G31: 11 | I31: 1 | K31: =SUMPRODUCT($F$1:$J$1,F31:J31) -> 11 | L31: Imperi | M31: 1 | N31: 13 | O31: 1 | R31: =SUMPRODUCT($F$1:$J$1,M31:Q31) -> 28 | S31: =IF(D31=1,K31+R31,"") -> 39 | T31: =H31+O31 -> 1 | U31: =IF(D31=1,RANK(S31,$S$4:$S$48)," ") -> 7 | V31: =IF(D31=1,(($D$49-U31+1)+IF(U31=1,5,IF(U31=2,3,IF(U31=3,1,0))))," ") -> 18
A32: =A31+1 -> 29 | B32: Christian Vitale | C32: =CONCATENATE(LEFT(B32,FIND(" ",B32) + 2),".") -> Christian Vi. | D32: 1 | E32: Intesa | F32: 1 | G32: 16 | H32: 1 | K32: =SUMPRODUCT($F$1:$J$1,F32:J32) -> 31 | L32: Imperi | N32: 17 | P32: 1 | R32: =SUMPRODUCT($F$1:$J$1,M32:Q32) -> 7 | S32: =IF(D32=1,K32+R32,"") -> 38 | T32: =H32+O32 -> 1 | U32: =IF(D32=1,RANK(S32,$S$4:$S$48)," ") -> 8 | V32: =IF(D32=1,(($D$49-U32+1)+IF(U32=1,5,IF(U32=2,3,IF(U32=3,1,0))))," ") -> 17
A33: =A32+1 -> 30 | B33: Alberto Panicucci | C33: =CONCATENATE(LEFT(B33,FIND(" ",B33) + 2),".") -> Alberto Pa. | D33: 1 | E33: Intesa | F33: 1 | G33: 20 | H33: 2 | K33: =SUMPRODUCT($F$1:$J$1,F33:J33) -> 40 | L33: Imperi | N33: 7 | P33: 1 | R33: =SUMPRODUCT($F$1:$J$1,M33:Q33) -> -3 | S33: =IF(D33=1,K33+R33,"") -> 37 | T33: =H33+O33 -> 2 | U33: =IF(D33=1,RANK(S33,$S$4:$S$48)," ") -> 9 | V33: =IF(D33=1,(($D$49-U33+1)+IF(U33=1,5,IF(U33=2,3,IF(U33=3,1,0))))," ") -> 16
A34: =A33+1 -> 31 | B34: Giuseppe Tamba | C34: =CONCATENATE(LEFT(B34,FIND(" ",B34) + 2),".") -> Giuseppe Ta. | D34: 1 | E34: Intesa | G34: 9 | H34: 1 | K34: =SUMPRODUCT($F$1:$J$1,F34:J34) -> 14 | L34: Imperi | M34: 1 | N34: 10 | R34: =SUMPRODUCT($F$1:$J$1,M34:Q34) -> 20 | S34: =IF(D34=1,K34+R34,"") -> 34 | T34: =H34+O34 -> 1 | U34: =IF(D34=1,RANK(S34,$S$4:$S$48)," ") -> 10 | V34: =IF(D34=1,(($D$49-U34+1)+IF(U34=1,5,IF(U34=2,3,IF(U34=3,1,0))))," ") -> 15
A35: =A34+1 -> 32 | B35: Federico Mollica | C35: =CONCATENATE(LEFT(B35,FIND(" ",B35) + 2),".") -> Federico Mo. | D35: 1 | E35: Intesa | F35: 1 | G35: 17 | K35: =SUMPRODUCT($F$1:$J$1,F35:J35) -> 27 | L35: Imperi | N35: 16 | P35: 1 | R35: =SUMPRODUCT($F$1:$J$1,M35:Q35) -> 6 | S35: =IF(D35=1,K35+R35,"") -> 33 | T35: =H35+O35 -> 0 | U35: =IF(D35=1,RANK(S35,$S$4:$S$48)," ") -> 11 | V35: =IF(D35=1,(($D$49-U35+1)+IF(U35=1,5,IF(U35=2,3,IF(U35=3,1,0))))," ") -> 14
A36: =A35+1 -> 33 | B36: Andrea Morviducci | C36: =CONCATENATE(LEFT(B36,FIND(" ",B36) + 2),".") -> Andrea Mo. | D36: 1 | E36: Intesa | F36: 1 | G36: 13 | H36: 1 | K36: =SUMPRODUCT($F$1:$J$1,F36:J36) -> 28 | L36: Imperi | N36: 14 | P36: 1 | R36: =SUMPRODUCT($F$1:$J$1,M36:Q36) -> 4 | S36: =IF(D36=1,K36+R36,"") -> 32 | T36: =H36+O36 -> 1 | U36: =IF(D36=1,RANK(S36,$S$4:$S$48)," ") -> 12 | V36: =IF(D36=1,(($D$49-U36+1)+IF(U36=1,5,IF(U36=2,3,IF(U36=3,1,0))))," ") -> 13
A37: =A36+1 -> 34 | B37: Fabio Zanelli | C37: =CONCATENATE(LEFT(B37,FIND(" ",B37) + 2),".") -> Fabio Za. | D37: 1 | E37: Intesa | F37: 1 | G37: 19 | H37: 1 | K37: =SUMPRODUCT($F$1:$J$1,F37:J37) -> 34 | L37: Imperi | N37: 7 | P37: 1 | R37: =SUMPRODUCT($F$1:$J$1,M37:Q37) -> -3 | S37: =IF(D37=1,K37+R37,"") -> 31 | T37: =H37+O37 -> 1 | U37: =IF(D37=1,RANK(S37,$S$4:$S$48)," ") -> 13 | V37: =IF(D37=1,(($D$49-U37+1)+IF(U37=1,5,IF(U37=2,3,IF(U37=3,1,0))))," ") -> 12
A38: =A37+1 -> 35 | B38: Francesco Petraroli | C38: =CONCATENATE(LEFT(B38,FIND(" ",B38) + 2),".") -> Francesco Pe. | D38: 1 | E38: Intesa | G38: 19 | H38: 1 | K38: =SUMPRODUCT($F$1:$J$1,F38:J38) -> 24 | L38: Imperi | N38: 12 | P38: 1 | R38: =SUMPRODUCT($F$1:$J$1,M38:Q38) -> 2 | S38: =IF(D38=1,K38+R38,"") -> 26 | T38: =H38+O38 -> 1 | U38: =IF(D38=1,RANK(S38,$S$4:$S$48)," ") -> 14 | V38: =IF(D38=1,(($D$49-U38+1)+IF(U38=1,5,IF(U38=2,3,IF(U38=3,1,0))))," ") -> 11
A39: =A38+1 -> 36 | B39: Riccardo Rigillo | C39: =CONCATENATE(LEFT(B39,FIND(" ",B39) + 2),".") -> Riccardo Ri. | D39: 1 | E39: Intesa | F39: 1 | G39: 12 | K39: =SUMPRODUCT($F$1:$J$1,F39:J39) -> 22 | L39: Imperi | N39: 11 | P39: 1 | R39: =SUMPRODUCT($F$1:$J$1,M39:Q39) -> 1 | S39: =IF(D39=1,K39+R39,"") -> 23 | T39: =H39+O39 -> 0 | U39: =IF(D39=1,RANK(S39,$S$4:$S$48)," ") -> 15 | V39: =IF(D39=1,(($D$49-U39+1)+IF(U39=1,5,IF(U39=2,3,IF(U39=3,1,0))))," ") -> 10
A40: =A39+1 -> 37 | B40: Ken Jones | C40: =CONCATENATE(LEFT(B40,FIND(" ",B40) + 2),".") -> Ken Jo. | D40: 1 | E40: Intesa | F40: 1 | G40: 10 | H40: 1 | K40: =SUMPRODUCT($F$1:$J$1,F40:J40) -> 25 | L40: Imperi | N40: 6 | P40: 1 | R40: =SUMPRODUCT($F$1:$J$1,M40:Q40) -> -4 | S40: =IF(D40=1,K40+R40,"") -> 21 | T40: =H40+O40 -> 1 | U40: =IF(D40=1,RANK(S40,$S$4:$S$48)," ") -> 16 | V40: =IF(D40=1,(($D$49-U40+1)+IF(U40=1,5,IF(U40=2,3,IF(U40=3,1,0))))," ") -> 9
...

Sheet Giornata 2
E1: 10 | F1: 1 | G1: 2 | H1: 5 | I1: 10 | J1: -10 | K1: -20
C2: RIEPILOGO PUNTEGGI SECONDA GIORNATA
E3: INTESA | M3: IMPERI | U3: TOTALE
A4: 0 | B4: Nome Cognome | C4: Nome | D4: Presenza | E4: Vittoria | F4: Colpi Inferti | G4: Machine Gun Straffing | H4: Aerial Victory | I4: Postazione distrutta | J4: Abbattuto | K4: Uscito | L4: Punti Intesa | M4: Vittoria | N4: Colpi Inferti | O4: Machine Gun Straffing | P4: Aerial Victory | Q4: Postazione distrutta | R4: Abbattuto | S4: Uscito | T4: Punti Imperi | U4: Punti Giornata | V4: Abbatimenti | W4: Ordine | X4: Punti Classifica
A5: =A4+1 -> 1 | B5: Alberto Garello | C5: =CONCATENATE(LEFT(B5,FIND(" ",B5) + 2),".") -> Alberto Ga. | L5: =SUM(E5:K5) -> 0 | T5: =SUM(M5:S5) -> 0 | U5: =IF(D5=1,L5+T5,"") | V5: =(H5+P5)/5 -> 0 | W5: =IF(D5=1,RANK(U5,$U$5:$U$49)," ") | X5: =IF(D5=1,(($D$50-W5+1)+IF(W5=1,5,IF(W5=2,3,IF(W5=3,1,0))))," ")
A6: =A5+1 -> 2 | B6: Fabio Zanelli | C6: =CONCATENATE(LEFT(B6,FIND(" ",B6) + 2),".") -> Fabio Za. | D6: 1 | E6: 10 | F6: 21 | G6: 0 | H6: 10 | I6: 20 | L6: =SUM(E6:K6) -> 61 | M6: 10 | N6: 20 | O6: 10 | P6: 10 | Q6: 20 | T6: =SUM(M6:S6) -> 70 | U6: =IF(D6=1,L6+T6,"") -> 131 | V6: =(H6+P6)/5 -> 4 | W6: =IF(D6=1,RANK(U6,$U$5:$U$49)," ") -> 1 | X6: =IF(D6=1,(($D$50-W6+1)+IF(W6=1,5,IF(W6=2,3,IF(W6=3,1,0))))," ") -> 25
A7: =A6+1 -> 3 | B7: Riccardo Rigillo | C7: =CONCATENATE(LEFT(B7,FIND(" ",B7) + 2),".") -> Riccardo Ri. | D7: 1 | E7: 10 | F7: 17 | H7: 10 | I7: 20 | L7: =SUM(E7:K7) -> 57 | M7: 10 | N7: 10 | O7: 20 | P7: 10 | Q7: 20 | T7: =SUM(M7:S7) -> 70 | U7: =IF(D7=1,L7+T7,"") -> 127 | V7: =(H7+P7)/5 -> 4 | W7: =IF(D7=1,RANK(U7,$U$5:$U$49)," ") -> 2 | X7: =IF(D7=1,(($D$50-W7+1)+IF(W7=1,5,IF(W7=2,3,IF(W7=3,1,0))))," ") -> 22
A8: =A7+1 -> 4 | B8: Alessandrro Corradi | C8: =CONCATENATE(LEFT(B8,FIND(" ",B8) + 2),".") -> Alessandrro Co. | L8: =SUM(E8:K8) -> 0 | T8: =SUM(M8:S8) -> 0 | U8: =IF(D8=1,L8+T8,"") | V8: =(H8+P8)/5 -> 0 | W8: =IF(D8=1,RANK(U8,$U$5:$U$49)," ") | X8: =IF(D8=1,(($D$50-W8+1)+IF(W8=1,5,IF(W8=2,3,IF(W8=3,1,0))))," ")
A9: =A8+1 -> 5 | B9: Andrea Garello | C9: =CONCATENATE(LEFT(B9,FIND(" ",B9) + 2),".") -> Andrea Ga. | L9: =SUM(E9:K9) -> 0 | T9: =SUM(M9:S9) -> 0 | U9: =IF(D9=1,L9+T9,"") | V9: =(H9+P9)/5 -> 0 | W9: =IF(D9=1,RANK(U9,$U$5:$U$49)," ") | X9: =IF(D9=1,(($D$50-W9+1)+IF(W9=1,5,IF(W9=2,3,IF(W9=3,1,0))))," ")
A10: =A9+1 -> 6 | B10: Andrea Morviducci | C10: =CONCATENATE(LEFT(B10,FIND(" ",B10) + 2),".") -> Andrea Mo. | L10: =SUM(E10:K10) -> 0 | T10: =SUM(M10:S10) -> 0 | U10: =IF(D10=1,L10+T10,"") | V10: =(H10+P10)/5 -> 0 | W10: =IF(D10=1,RANK(U10,$U$5:$U$49)," ") | X10: =IF(D10=1,(($D$50-W10+1)+IF(W10=1,5,IF(W10=2,3,IF(W10=3,1,0))))," ")
A11: =A10+1 -> 7 | B11: Andrea Procaccino | C11: =CONCATENATE(LEFT(B11,FIND(" ",B11) + 2),".") -> Andrea Pr. | L11: =SUM(E11:K11) -> 0 | T11: =SUM(M11:S11) -> 0 | U11: =IF(D11=1,L11+T11,"") | V11: =(H11+P11)/5 -> 0 | W11: =IF(D11=1,RANK(U11,$U$5:$U$49)," ") | X11: =IF(D11=1,(($D$50-W11+1)+IF(W11=1,5,IF(W11=2,3,IF(W11=3,1,0))))," ")
A12: =A11+1 -> 8 | B12: Artemisia Von Rust | C12: =CONCATENATE(LEFT(B12,FIND(" ",B12) + 2),".") -> Artemisia Vo. | L12: =SUM(E12:K12) -> 0 | T12: =SUM(M12:S12) -> 0 | U12: =IF(D12=1,L12+T12,"") | V12: =(H12+P12)/5 -> 0 | W12: =IF(D12=1,RANK(U12,$U$5:$U$49)," ") | X12: =IF(D12=1,(($D$50-W12+1)+IF(W12=1,5,IF(W12=2,3,IF(W12=3,1,0))))," ")
A13: =A12+1 -> 9 | B13: Francesco Marradi | C13: =CONCATENATE(LEFT(B13,FIND(" ",B13) + 2),".") -> Francesco Ma. | D13: 1 | E13: 10 | F13: 10 | G13: 16 | I13: 20 | L13: =SUM(E13:K13) -> 56 | M13: 10 | N13: 6 | O13: 20 | Q13: 20 | T13: =SUM(M13:S13) -> 56 | U13: =IF(D13=1,L13+T13,"") -> 112 | V13: =(H13+P13)/5 -> 0 | W13: =IF(D13=1,RANK(U13,$U$5:$U$49)," ") -> 3 | X13: =IF(D13=1,(($D$50-W13+1)+IF(W13=1,5,IF(W13=2,3,IF(W13=3,1,0))))," ") -> 19
A14: =A13+1 -> 10 | B14: Bruno Padronetti | C14: =CONCATENATE(LEFT(B14,FIND(" ",B14) + 2),".") -> Bruno Pa. | L14: =SUM(E14:K14) -> 0 | T14: =SUM(M14:S14) -> 0 | U14: =IF(D14=1,L14+T14,"") | V14: =(H14+P14)/5 -> 0 | W14: =IF(D14=1,RANK(U14,$U$5:$U$49)," ") | X14: =IF(D14=1,(($D$50-W14+1)+IF(W14=1,5,IF(W14=2,3,IF(W14=3,1,0))))," ")
A15: =A14+1 -> 11 | B15: Paolo Valerio | C15: =CONCATENATE(LEFT(B15,FIND(" ",B15) + 2),".") -> Paolo Va. | D15: 1 | E15: 10 | F15: 9 | G15: 20 | I15: 20 | L15: =SUM(E15:K15) -> 59 | N15: 8 | O15: 20 | Q15: 20 | R15: -10 | T15: =SUM(M15:S15) -> 38 | U15: =IF(D15=1,L15+T15,"") -> 97 | V15: =(H15+P15)/5 -> 0 | W15: =IF(D15=1,RANK(U15,$U$5:$U$49)," ") -> 4 | X15: =IF(D15=1,(($D$50-W15+1)+IF(W15=1,5,IF(W15=2,3,IF(W15=3,1,0))))," ") -> 17
A16: =A15+1 -> 12 | B16: Claudio Marinangeli | C16: =CONCATENATE(LEFT(B16,FIND(" ",B16) + 2),".") -> Claudio Ma. | L16: =SUM(E16:K16) -> 0 | T16: =SUM(M16:S16) -> 0 | U16: =IF(D16=1,L16+T16,"") | V16: =(H16+P16)/5 -> 0 | W16: =IF(D16=1,RANK(U16,$U$5:$U$49)," ") | X16: =IF(D16=1,(($D$50-W16+1)+IF(W16=1,5,IF(W16=2,3,IF(W16=3,1,0))))," ")
A17: =A16+1 -> 13 | B17: Franco Napoleoni | C17: =CONCATENATE(LEFT(B17,FIND(" ",B17) + 2),".") -> Franco Na. | D17: 1 | E17: 10 | F17: 3 | G17: 10 | I17: 20 | L17: =SUM(E17:K17) -> 43 | M17: 10 | N17: 17 | P17: 5 | Q17: 20 | T17: =SUM(M17:S17) -> 52 | U17: =IF(D17=1,L17+T17,"") -> 95 | V17: =(H17+P17)/5 -> 1 | W17: =IF(D17=1,RANK(U17,$U$5:$U$49)," ") -> 5 | X17: =IF(D17=1,(($D$50-W17+1)+IF(W17=1,5,IF(W17=2,3,IF(W17=3,1,0))))," ") -> 16
A18: =A17+1 -> 14 | B18: Daniele Ferrini | C18: =CONCATENATE(LEFT(B18,FIND(" ",B18) + 2),".") -> Daniele Fe. | L18: =SUM(E18:K18) -> 0 | T18: =SUM(M18:S18) -> 0 | U18: =IF(D18=1,L18+T18,"") | V18: =(H18+P18)/5 -> 0 | W18: =IF(D18=1,RANK(U18,$U$5:$U$49)," ") | X18: =IF(D18=1,(($D$50-W18+1)+IF(W18=1,5,IF(W18=2,3,IF(W18=3,1,0))))," ")
A19: =A18+1 -> 15 | B19: Daniele Pagliuca | C19: =CONCATENATE(LEFT(B19,FIND(" ",B19) + 2),".") -> Daniele Pa. | L19: =SUM(E19:K19) -> 0 | T19: =SUM(M19:S19) -> 0 | U19: =IF(D19=1,L19+T19,"") | V19: =(H19+P19)/5 -> 0 | W19: =IF(D19=1,RANK(U19,$U$5:$U$49)," ") | X19: =IF(D19=1,(($D$50-W19+1)+IF(W19=1,5,IF(W19=2,3,IF(W19=3,1,0))))," ")
A20: =A19+1 -> 16 | B20: Massimo Berucci | C20: =CONCATENATE(LEFT(B20,FIND(" ",B20) + 2),".") -> Massimo Be. | D20: 1 | E20: 10 | F20: 11 | G20: 10 | H20: 10 | I20: 20 | L20: =SUM(E20:K20) -> 61 | N20: 12 | O20: 10 | Q20: 20 | R20: -10 | T20: =SUM(M20:S20) -> 32 | U20: =IF(D20=1,L20+T20,"") -> 93 | V20: =(H20+P20)/5 -> 2 | W20: =IF(D20=1,RANK(U20,$U$5:$U$49)," ") -> 6 | X20: =IF(D20=1,(($D$50-W20+1)+IF(W20=1,5,IF(W20=2,3,IF(W20=3,1,0))))," ") -> 15
A21: =A20+1 -> 17 | B21: Erminio Serio | C21: =CONCATENATE(LEFT(B21,FIND(" ",B21) + 2),".") -> Erminio Se. | L21: =SUM(E21:K21) -> 0 | T21: =SUM(M21:S21) -> 0 | U21: =IF(D21=1,L21+T21,"") | V21: =(H21+P21)/5 -> 0 | W21: =IF(D21=1,RANK(U21,$U$5:$U$49)," ") | X21: =IF(D21=1,(($D$50-W21+1)+IF(W21=1,5,IF(W21=2,3,IF(W21=3,1,0))))," ")
A22: =A21+1 -> 18 | B22: Massimo Mollica | C22: =CONCATENATE(LEFT(B22,FIND(" ",B22) + 2),".") -> Massimo Mo. | D22: 1 | E22: 10 | F22: 10 | G22: 16 | H22: 10 | I22: 20 | L22: =SUM(E22:K22) -> 66 | M22: 0 | N22: 7 | O22: 10 | Q22: 20 | R22: -10 | T22: =SUM(M22:S22) -> 27 | U22: =IF(D22=1,L22+T22,"") -> 93 | V22: =(H22+P22)/5 -> 2 | W22: =IF(D22=1,RANK(U22,$U$5:$U$49)," ") -> 6 | X22: =IF(D22=1,(($D$50-W22+1)+IF(W22=1,5,IF(W22=2,3,IF(W22=3,1,0))))," ") -> 15
A23: =A22+1 -> 19 | B23: Giuseppe Tamba | C23: =CONCATENATE(LEFT(B23,FIND(" ",B23) + 2),".") -> Giuseppe Ta. | D23: 1 | E23: 10 | F23: 16 | G23: 6 | H23: 5 | I23: 20 | L23: =SUM(E23:K23) -> 57 | N23: 8 | O23: 16 | Q23: 20 | R23: -10 | T23: =SUM(M23:S23) -> 34 | U23: =IF(D23=1,L23+T23,"") -> 91 | V23: =(H23+P23)/5 -> 1 | W23: =IF(D23=1,RANK(U23,$U$5:$U$49)," ") -> 8 | X23: =IF(D23=1,(($D$50-W23+1)+IF(W23=1,5,IF(W23=2,3,IF(W23=3,1,0))))," ") -> 13
A24: =A23+1 -> 20 | B24: Francesco Berucci | C24: =CONCATENATE(LEFT(B24,FIND(" ",B24) + 2),".") -> Francesco Be. | L24: =SUM(E24:K24) -> 0 | T24: =SUM(M24:S24) -> 0 | U24: =IF(D24=1,L24+T24,"") | V24: =(H24+P24)/5 -> 0 | W24: =IF(D24=1,RANK(U24,$U$5:$U$49)," ") | X24: =IF(D24=1,(($D$50-W24+1)+IF(W24=1,5,IF(W24=2,3,IF(W24=3,1,0))))," ")
A25: =A24+1 -> 21 | B25: Daniel Terracina | C25: =CONCATENATE(LEFT(B25,FIND(" ",B25) + 2),".") -> Daniel Te. | D25: 1 | E25: 10 | F25: 14 | H25: 5 | I25: 20 | L25: =SUM(E25:K25) -> 49 | N25: 11 | O25: 10 | Q25: 20 | T25: =SUM(M25:S25) -> 41 | U25: =IF(D25=1,L25+T25,"") -> 90 | V25: =(H25+P25)/5 -> 1 | W25: =IF(D25=1,RANK(U25,$U$5:$U$49)," ") -> 9 | X25: =IF(D25=1,(($D$50-W25+1)+IF(W25=1,5,IF(W25=2,3,IF(W25=3,1,0))))," ") -> 12
A26: =A25+1 -> 22 | B26: Jolly 1 | C26: =CONCATENATE(LEFT(B26,FIND(" ",B26) + 2),".") -> Jolly 1. | D26: 1 | E26: 10 | F26: 18 | G26: 4 | H26: 10 | I26: 20 | L26: =SUM(E26:K26) -> 62 | M26: 0 | N26: 4 | O26: 12 | P26: 0 | Q26: 20 | R26: -10 | T26: =SUM(M26:S26) -> 26 | U26: =IF(D26=1,L26+T26,"") -> 88 | V26: =(H26+P26)/5 -> 2 | W26: =IF(D26=1,RANK(U26,$U$5:$U$49)," ") -> 10 | X26: =IF(D26=1,(($D$50-W26+1)+IF(W26=1,5,IF(W26=2,3,IF(W26=3,1,0))))," ") -> 11
A27: =A26+1 -> 23 | B27: Alessandro Babbi | C27: =CONCATENATE(LEFT(B27,FIND(" ",B27) + 2),".") -> Alessandro Ba. | D27: 1 | E27: 10 | F27: 11 | H27: 5 | I27: 20 | L27: =SUM(E27:K27) -> 46 | M27: 0 | N27: 14 | P27: 5 | Q27: 20 | T27: =SUM(M27:S27) -> 39 | U27: =IF(D27=1,L27+T27,"") -> 85 | V27: =(H27+P27)/5 -> 2 | W27: =IF(D27=1,RANK(U27,$U$5:$U$49)," ") -> 11 | X27: =IF(D27=1,(($D$50-W27+1)+IF(W27=1,5,IF(W27=2,3,IF(W27=3,1,0))))," ") -> 10
A28: =A27+1 -> 24 | B28: Marco Tambara | C28: =CONCATENATE(LEFT(B28,FIND(" ",B28) + 2),".") -> Marco Ta. | D28: 1 | F28: 14 | G28: 20 | H28: 5 | I28: 20 | J28: -10 | L28: =SUM(E28:K28) -> 49 | N28: 7 | O28: 16 | Q28: 20 | R28: -10 | T28: =SUM(M28:S28) -> 33 | U28: =IF(D28=1,L28+T28,"") -> 82 | V28: =(H28+P28)/5 -> 1 | W28: =IF(D28=1,RANK(U28,$U$5:$U$49)," ") -> 12 | X28: =IF(D28=1,(($D$50-W28+1)+IF(W28=1,5,IF(W28=2,3,IF(W28=3,1,0))))," ") -> 9
A29: =A28+1 -> 25 | B29: Gino Lucrezi | C29: =CONCATENATE(LEFT(B29,FIND(" ",B29) + 2),".") -> Gino Lu. | L29: =SUM(E29:K29) -> 0 | T29: =SUM(M29:S29) -> 0 | U29: =IF(D29=1,L29+T29,"") | V29: =(H29+P29)/5 -> 0 | W29: =IF(D29=1,RANK(U29,$U$5:$U$49)," ") | X29: =IF(D29=1,(($D$50-W29+1)+IF(W29=1,5,IF(W29=2,3,IF(W29=3,1,0))))," ")
A30: =A29+1 -> 26 | B30: Francesco Ulmo | C30: =CONCATENATE(LEFT(B30,FIND(" ",B30) + 2),".") -> Francesco Ul. | D30: 1 | E30: 10 | F30: 7 | G30: 20 | I30: 20 | L30: =SUM(E30:K30) -> 57 | N30: 4 | O30: 8 | Q30: 20 | R30: -10 | T30: =SUM(M30:S30) -> 22 | U30: =IF(D30=1,L30+T30,"") -> 79 | V30: =(H30+P30)/5 -> 0 | W30: =IF(D30=1,RANK(U30,$U$5:$U$49)," ") -> 13 | X30: =IF(D30=1,(($D$50-W30+1)+IF(W30=1,5,IF(W30=2,3,IF(W30=3,1,0))))," ") -> 8
A31: =A30+1 -> 27 | B31: Ivan Martinelli | C31: =CONCATENATE(LEFT(B31,FIND(" ",B31) + 2),".") -> Ivan Ma. | U31: =IF(D31=1,L31+T31,"") | V31: =(H31+P31)/5 -> 0 | W31: =IF(D31=1,RANK(U31,$U$5:$U$49)," ") | X31: =IF(D31=1,(($D$50-W31+1)+IF(W31=1,5,IF(W31=2,3,IF(W31=3,1,0))))," ")
A32: =A31+1 -> 28 | B32: Daniele Petraroli | C32: =CONCATENATE(LEFT(B32,FIND(" ",B32) + 2),".") -> Daniele Pe. | D32: 1 | E32: 10 | F32: 6 | G32: 20 | H32: 5 | I32: 20 | L32: =SUM(E32:K32) -> 61 | N32: 4 | Q32: 20 | R32: -10 | T32: =SUM(M32:S32) -> 14 | U32: =IF(D32=1,L32+T32,"") -> 75 | V32: =(H32+P32)/5 -> 1 | W32: =IF(D32=1,RANK(U32,$U$5:$U$49)," ") -> 14 | X32: =IF(D32=1,(($D$50-W32+1)+IF(W32=1,5,IF(W32=2,3,IF(W32=3,1,0))))," ") -> 7
A33: =A32+1 -> 29 | B33: Jolly 2 | C33: =CONCATENATE(LEFT(B33,FIND(" ",B33) + 2),".") -> Jolly 2. | L33: =SUM(E33:K33) -> 0 | T33: =SUM(M33:S33) -> 0 | U33: =IF(D33=1,L33+T33,"") | V33: =(H33+P33)/5 -> 0 | W33: =IF(D33=1,RANK(U33,$U$5:$U$49)," ") | X33: =IF(D33=1,(($D$50-W33+1)+IF(W33=1,5,IF(W33=2,3,IF(W33=3,1,0))))," ")
A34: =A33+1 -> 30 | B34: Christian Vitale | C34: =CONCATENATE(LEFT(B34,FIND(" ",B34) + 2),".") -> Christian Vi. | D34: 1 | E34: 10 | F34: 17 | H34: 5 | I34: 20 | L34: =SUM(E34:K34) -> 52 | N34: 2 | O34: 6 | Q34: 20 | R34: -10 | T34: =SUM(M34:S34) -> 18 | U34: =IF(D34=1,L34+T34,"") -> 70 | V34: =(H34+P34)/5 -> 1 | W34: =IF(D34=1,RANK(U34,$U$5:$U$49)," ") -> 15 | X34: =IF(D34=1,(($D$50-W34+1)+IF(W34=1,5,IF(W34=2,3,IF(W34=3,1,0))))," ") -> 6
A35: =A34+1 -> 31 | B35: Laura Di Marco | C35: =CONCATENATE(LEFT(B35,FIND(" ",B35) + 2),".") -> Laura Di. | L35: =SUM(E35:K35) -> 0 | T35: =SUM(M35:S35) -> 0 | U35: =IF(D35=1,L35+T35,"") | V35: =(H35+P35)/5 -> 0 | W35: =IF(D35=1,RANK(U35,$U$5:$U$49)," ") | X35: =IF(D35=1,(($D$50-W35+1)+IF(W35=1,5,IF(W35=2,3,IF(W35=3,1,0))))," ")
