Workbook

Sheet Classifica
B2: Classifica Generale
A3: 0 | B3: Nome Cognome | C3: Nome | D3: G1 | E3: G2 | F3: G3 | G3: G4 | H3: G5 | I3: G6 | J3: Totale | K3: Best 4d | L3: Pos | M3: A.V.
A4: =A3+1 -> 1 | B4: Alessandro Babbi | C4: =CONCATENATE(LEFT(B4,FIND(" ",B4) + 2),".") -> Alessandro Ba. | D4: =VLOOKUP(B4,'Giornata 1'!$B$3:$V$48,21,FALSE) -> 29 | E4: =VLOOKUP(B4,'Giornata 2'!$B$4:$X$49,23,FALSE) -> 10 | F4: =VLOOKUP(B4,'Giornata 3'!$B$4:$Z$49,23,FALSE) -> 36 | G4: =VLOOKUP(B4,'Giornata 4'!$B$4:$AH$49, 33, FALSE) -> 12 | H4: =VLOOKUP(B4,'Giornata 5'!$B$3:$X$48,19,FALSE) -> 28 | I4: =VLOOKUP(B4,'Giornata 6'!$B$3:$T$48,19,FALSE) | J4: =SUM(D4:I4) -> 115 | K4: =+J4-MIN(D4:H4) -> 105 | L4: =RANK(K4,$K$4:$K$48) -> 1 | M4: =IF(D4>0, VLOOKUP(B4,'Giornata 1'!$B$4:$V$48,19,FALSE),0)+IF(E4>0, VLOOKUP(B4,'Giornata 2'!$B$5:$X$49,21,FALSE),0)+IF(F4>0, VLOOKUP(B4,'Giornata 3'!$B$5:$Z$49,21,FALSE),0)+IF(G4>0, VLOOKUP(B4,'Giornata 4'!$B$5:$AH$49,31,FALSE),0)+IF(H4>0, VLOOKUP(B4,'Giornata 5'!$B$4:$X$48,21,FALSE),0)+IF(I4>0, VLOOKUP(B4,'Giornata 6'!$B$4:$T$48,17,FALSE),0) -> 10
A5: =A4+1 -> 2 | B5: Riccardo Vadalà | C5: =CONCATENATE(LEFT(B5,FIND(" ",B5) + 2),".") -> Riccardo Va. | D5: =VLOOKUP(B5,'Giornata 1'!$B$3:$V$48,21,FALSE) -> 18 | E5: 0 | F5: =VLOOKUP(B5,'Giornata 3'!$B$4:$Z$49,23,FALSE) -> 24 | G5: =VLOOKUP(B5,'Giornata 4'!$B$4:$AH$49, 33, FALSE) -> 19 | H5: =VLOOKUP(B5,'Giornata 5'!$B$3:$X$48,19,FALSE) -> 39 | I5: =VLOOKUP(B5,'Giornata 6'!$B$3:$T$48,19,FALSE) | J5: =SUM(D5:I5) -> 100 | K5: =+J5-MIN(D5:H5) -> 100 | L5: =RANK(K5,$K$4:$K$48) -> 2 | M5: =IF(D5>0, VLOOKUP(B5,'Giornata 1'!$B$4:$V$48,19,FALSE),0)+IF(E5>0, VLOOKUP(B5,'Giornata 2'!$B$5:$X$49,21,FALSE),0)+IF(F5>0, VLOOKUP(B5,'Giornata 3'!$B$5:$Z$49,21,FALSE),0)+IF(G5>0, VLOOKUP(B5,'Giornata 4'!$B$5:$AH$49,31,FALSE),0)+IF(H5>0, VLOOKUP(B5,'Giornata 5'!$B$4:$X$48,21,FALSE),0)+IF(I5>0, VLOOKUP(B5,'Giornata 6'!$B$4:$T$48,17,FALSE),0) -> 6
A6: =A5+1 -> 3 | B6: Massimo Mollica | C6: =CONCATENATE(LEFT(B6,FIND(" ",B6) + 2),".") -> Massimo Mo. | D6: =VLOOKUP(B6,'Giornata 1'!$B$3:$V$48,21,FALSE) -> 23 | E6: =VLOOKUP(B6,'Giornata 2'!$B$4:$X$49,23,FALSE) -> 15 | F6: =VLOOKUP(B6,'Giornata 3'!$B$4:$Z$49,23,FALSE) -> 12 | G6: 0 | H6: =VLOOKUP(B6,'Giornata 5'!$B$3:$X$48,19,FALSE) -> 41 | I6: =VLOOKUP(B6,'Giornata 6'!$B$3:$T$48,19,FALSE) | J6: =SUM(D6:I6) -> 91 | K6: =+J6-MIN(D6:H6) -> 91 | L6: =RANK(K6,$K$4:$K$48) -> 3 | M6: =IF(D6>0, VLOOKUP(B6,'Giornata 1'!$B$4:$V$48,19,FALSE),0)+IF(E6>0, VLOOKUP(B6,'Giornata 2'!$B$5:$X$49,21,FALSE),0)+IF(F6>0, VLOOKUP(B6,'Giornata 3'!$B$5:$Z$49,21,FALSE),0)+IF(G6>0, VLOOKUP(B6,'Giornata 4'!$B$5:$AH$49,31,FALSE),0)+IF(H6>0, VLOOKUP(B6,'Giornata 5'!$B$4:$X$48,21,FALSE),0)+IF(I6>0, VLOOKUP(B6,'Giornata 6'!$B$4:$T$48,17,FALSE),0) -> 6
A7: =A6+1 -> 4 | B7: Daniele Petraroli | C7: =CONCATENATE(LEFT(B7,FIND(" ",B7) + 2),".") -> Daniele Pe. | D7: =VLOOKUP(B7,'Giornata 1'!$B$3:$V$48,21,FALSE) -> 3 | E7: =VLOOKUP(B7,'Giornata 2'!$B$4:$X$49,23,FALSE) -> 7 | F7: =VLOOKUP(B7,'Giornata 3'!$B$4:$Z$49,23,FALSE) -> 27 | G7: =VLOOKUP(B7,'Giornata 4'!$B$4:$AH$49, 33, FALSE) -> 15 | H7: =VLOOKUP(B7,'Giornata 5'!$B$3:$X$48,19,FALSE) -> 41 | I7: =VLOOKUP(B7,'Giornata 6'!$B$3:$T$48,19,FALSE) | J7: =SUM(D7:I7) -> 93 | K7: =+J7-MIN(D7:H7) -> 90 | L7: =RANK(K7,$K$4:$K$48) -> 4 | M7: =IF(D7>0, VLOOKUP(B7,'Giornata 1'!$B$4:$V$48,19,FALSE),0)+IF(E7>0, VLOOKUP(B7,'Giornata 2'!$B$5:$X$49,21,FALSE),0)+IF(F7>0, VLOOKUP(B7,'Giornata 3'!$B$5:$Z$49,21,FALSE),0)+IF(G7>0, VLOOKUP(B7,'Giornata 4'!$B$5:$AH$49,31,FALSE),0)+IF(H7>0, VLOOKUP(B7,'Giornata 5'!$B$4:$X$48,21,FALSE),0)+IF(I7>0, VLOOKUP(B7,'Giornata 6'!$B$4:$T$48,17,FALSE),0) -> 5
A8: =A7+1 -> 5 | B8: Artemisia Von Rust | C8: =CONCATENATE(LEFT(B8,FIND(" ",B8) + 2),".") -> Artemisia Vo. | D8: =VLOOKUP(B8,'Giornata 1'!$B$3:$V$48,21,FALSE) -> 26 | E8: 0 | F8: =VLOOKUP(B8,'Giornata 3'!$B$4:$Z$49,23,FALSE) -> 15 | G8: =VLOOKUP(B8,'Giornata 4'!$B$4:$AH$49, 33, FALSE) -> 12 | H8: =VLOOKUP(B8,'Giornata 5'!$B$3:$X$48,19,FALSE) -> 29 | I8: =VLOOKUP(B8,'Giornata 6'!$B$3:$T$48,19,FALSE) | J8: =SUM(D8:I8) -> 82 | K8: =+J8-MIN(D8:H8) -> 82 | L8: =RANK(K8,$K$4:$K$48) -> 5 | M8: =IF(D8>0, VLOOKUP(B8,'Giornata 1'!$B$4:$V$48,19,FALSE),0)+IF(E8>0, VLOOKUP(B8,'Giornata 2'!$B$5:$X$49,21,FALSE),0)+IF(F8>0, VLOOKUP(B8,'Giornata 3'!$B$5:$Z$49,21,FALSE),0)+IF(G8>0, VLOOKUP(B8,'Giornata 4'!$B$5:$AH$49,31,FALSE),0)+IF(H8>0, VLOOKUP(B8,'Giornata 5'!$B$4:$X$48,21,FALSE),0)+IF(I8>0, VLOOKUP(B8,'Giornata 6'!$B$4:$T$48,17,FALSE),0) -> 4
A9: =A8+1 -> 6 | B9: Franco Napoleoni | C9: =CONCATENATE(LEFT(B9,FIND(" ",B9) + 2),".") -> Franco Na. | D9: =VLOOKUP(B9,'Giornata 1'!$B$3:$V$48,21,FALSE) -> 20 | E9: =VLOOKUP(B9,'Giornata 2'!$B$4:$X$49,23,FALSE) -> 16 | F9: =VLOOKUP(B9,'Giornata 3'!$B$4:$Z$49,23,FALSE) -> 11 | G9: =VLOOKUP(B9,'Giornata 4'!$B$4:$AH$49, 33, FALSE) -> 6 | H9: =VLOOKUP(B9,'Giornata 5'!$B$3:$X$48,19,FALSE) -> 32 | I9: =VLOOKUP(B9,'Giornata 6'!$B$3:$T$48,19,FALSE) | J9: =SUM(D9:I9) -> 85 | K9: =+J9-MIN(D9:H9) -> 79 | L9: =RANK(K9,$K$4:$K$48) -> 6 | M9: =IF(D9>0, VLOOKUP(B9,'Giornata 1'!$B$4:$V$48,19,FALSE),0)+IF(E9>0, VLOOKUP(B9,'Giornata 2'!$B$5:$X$49,21,FALSE),0)+IF(F9>0, VLOOKUP(B9,'Giornata 3'!$B$5:$Z$49,21,FALSE),0)+IF(G9>0, VLOOKUP(B9,'Giornata 4'!$B$5:$AH$49,31,FALSE),0)+IF(H9>0, VLOOKUP(B9,'Giornata 5'!$B$4:$X$48,21,FALSE),0)+IF(I9>0, VLOOKUP(B9,'Giornata 6'!$B$4:$T$48,17,FALSE),0) -> 5
A10: =A9+1 -> 7 | B10: Federico Mollica | C10: =CONCATENATE(LEFT(B10,FIND(" ",B10) + 2),".") -> Federico Mo. | D10: =VLOOKUP(B10,'Giornata 1'!$B$3:$V$48,21,FALSE) -> 14 | E10: =VLOOKUP(B10,'Giornata 2'!$B$4:$X$49,23,FALSE) -> 5 | F10: =VLOOKUP(B10,'Giornata 3'!$B$4:$Z$49,23,FALSE) -> 22 | G10: =VLOOKUP(B10,'Giornata 4'!$B$4:$AH$49, 33, FALSE) -> 14 | H10: =VLOOKUP(B10,'Giornata 5'!$B$3:$X$48,19,FALSE) -> 23 | I10: =VLOOKUP(B10,'Giornata 6'!$B$3:$T$48,19,FALSE) | J10: =SUM(D10:I10) -> 78 | K10: =+J10-MIN(D10:H10) -> 73 | L10: =RANK(K10,$K$4:$K$48) -> 7 | M10: =IF(D10>0, VLOOKUP(B10,'Giornata 1'!$B$4:$V$48,19,FALSE),0)+IF(E10>0, VLOOKUP(B10,'Giornata 2'!$B$5:$X$49,21,FALSE),0)+IF(F10>0, VLOOKUP(B10,'Giornata 3'!$B$5:$Z$49,21,FALSE),0)+IF(G10>0, VLOOKUP(B10,'Giornata 4'!$B$5:$AH$49,31,FALSE),0)+IF(H10>0, VLOOKUP(B10,'Giornata 5'!$B$4:$X$48,21,FALSE),0)+IF(I10>0, VLOOKUP(B10,'Giornata 6'!$B$4:$T$48,17,FALSE),0) -> 2
A11: =A10+1 -> 8 | B11: Andrea Morviducci | C11: =CONCATENATE(LEFT(B11,FIND(" ",B11) + 2),".") -> Andrea Mo. | D11: =VLOOKUP(B11,'Giornata 1'!$B$3:$V$48,21,FALSE) -> 13 | E11: 0 | F11: =VLOOKUP(B11,'Giornata 3'!$B$4:$Z$49,23,FALSE) -> 13 | G11: =VLOOKUP(B11,'Giornata 4'!$B$4:$AH$49, 33, FALSE) -> 2 | H11: =VLOOKUP(B11,'Giornata 5'!$B$3:$X$48,19,FALSE) -> 36 | I11: =VLOOKUP(B11,'Giornata 6'!$B$3:$T$48,19,FALSE) | J11: =SUM(D11:I11) -> 64 | K11: =+J11-MIN(D11:H11) -> 64 | L11: =RANK(K11,$K$4:$K$48) -> 8 | M11: =IF(D11>0, VLOOKUP(B11,'Giornata 1'!$B$4:$V$48,19,FALSE),0)+IF(E11>0, VLOOKUP(B11,'Giornata 2'!$B$5:$X$49,21,FALSE),0)+IF(F11>0, VLOOKUP(B11,'Giornata 3'!$B$5:$Z$49,21,FALSE),0)+IF(G11>0, VLOOKUP(B11,'Giornata 4'!$B$5:$AH$49,31,FALSE),0)+IF(H11>0, VLOOKUP(B11,'Giornata 5'!$B$4:$X$48,21,FALSE),0)+IF(I11>0, VLOOKUP(B11,'Giornata 6'!$B$4:$T$48,17,FALSE),0) -> 5
A12: =A11+1 -> 9 | B12: Francesco Ulmo | C12: =CONCATENATE(LEFT(B12,FIND(" ",B12) + 2),".") -> Francesco Ul. | D12: 0 | E12: =VLOOKUP(B12,'Giornata 2'!$B$4:$X$49,23,FALSE) -> 8 | F12: =VLOOKUP(B12,'Giornata 3'!$B$4:$Z$49,23,FALSE) -> 19 | G12: =VLOOKUP(B12,'Giornata 4'!$B$4:$AH$49, 33, FALSE) -> 19 | H12: =VLOOKUP(B12,'Giornata 5'!$B$3:$X$48,19,FALSE) -> 17 | I12: =VLOOKUP(B12,'Giornata 6'!$B$3:$T$48,19,FALSE) | J12: =SUM(D12:I12) -> 63 | K12: =+J12-MIN(D12:H12) -> 63 | L12: =RANK(K12,$K$4:$K$48) -> 9 | M12: =IF(D12>0, VLOOKUP(B12,'Giornata 1'!$B$4:$V$48,19,FALSE),0)+IF(E12>0, VLOOKUP(B12,'Giornata 2'!$B$5:$X$49,21,FALSE),0)+IF(F12>0, VLOOKUP(B12,'Giornata 3'!$B$5:$Z$49,21,FALSE),0)+IF(G12>0, VLOOKUP(B12,'Giornata 4'!$B$5:$AH$49,31,FALSE),0)+IF(H12>0, VLOOKUP(B12,'Giornata 5'!$B$4:$X$48,21,FALSE),0)+IF(I12>0, VLOOKUP(B12,'Giornata 6'!$B$4:$T$48,17,FALSE),0) -> 3
A13: =A12+1 -> 10 | B13: Valerio Ferrandino | C13: =CONCATENATE(LEFT(B13,FIND(" ",B13) + 2),".") -> Valerio Fe. | D13: 0 | E13: 0 | F13: =VLOOKUP(B13,'Giornata 3'!$B$4:$Z$49,23,FALSE) -> 30 | G13: =VLOOKUP(B13,'Giornata 4'!$B$4:$AH$49, 33, FALSE) -> 10 | H13: =VLOOKUP(B13,'Giornata 5'!$B$3:$X$48,19,FALSE) -> 17 | I13: =VLOOKUP(B13,'Giornata 6'!$B$3:$T$48,19,FALSE) | J13: =SUM(D13:I13) -> 57 | K13: =+J13-MIN(D13:H13) -> 57 | L13: =RANK(K13,$K$4:$K$48) -> 10 | M13: =IF(D13>0, VLOOKUP(B13,'Giornata 1'!$B$4:$V$48,19,FALSE),0)+IF(E13>0, VLOOKUP(B13,'Giornata 2'!$B$5:$X$49,21,FALSE),0)+IF(F13>0, VLOOKUP(B13,'Giornata 3'!$B$5:$Z$49,21,FALSE),0)+IF(G13>0, VLOOKUP(B13,'Giornata 4'!$B$5:$AH$49,31,FALSE),0)+IF(H13>0, VLOOKUP(B13,'Giornata 5'!$B$4:$X$48,21,FALSE),0)+IF(I13>0, VLOOKUP(B13,'Giornata 6'!$B$4:$T$48,17,FALSE),0) -> 5
A14: =A13+1 -> 11 | B14: Francesco Berucci | C14: =CONCATENATE(LEFT(B14,FIND(" ",B14) + 2),".") -> Francesco Be. | D14: =VLOOKUP(B14,'Giornata 1'!$B$3:$V$48,21,FALSE) -> 19 | E14: 0 | F14: =VLOOKUP(B14,'Giornata 3'!$B$4:$Z$49,23,FALSE) -> 25 | G14: 0 | H14: =VLOOKUP(B14,'Giornata 5'!$B$3:$X$48,19,FALSE) -> 11 | I14: =VLOOKUP(B14,'Giornata 6'!$B$3:$T$48,19,FALSE) | J14: =SUM(D14:I14) -> 55 | K14: =+J14-MIN(D14:H14) -> 55 | L14: =RANK(K14,$K$4:$K$48) -> 11 | M14: =IF(D14>0, VLOOKUP(B14,'Giornata 1'!$B$4:$V$48,19,FALSE),0)+IF(E14>0, VLOOKUP(B14,'Giornata 2'!$B$5:$X$49,21,FALSE),0)+IF(F14>0, VLOOKUP(B14,'Giornata 3'!$B$5:$Z$49,21,FALSE),0)+IF(G14>0, VLOOKUP(B14,'Giornata 4'!$B$5:$AH$49,31,FALSE),0)+IF(H14>0, VLOOKUP(B14,'Giornata 5'!$B$4:$X$48,21,FALSE),0)+IF(I14>0, VLOOKUP(B14,'Giornata 6'!$B$4:$T$48,17,FALSE),0) -> 8
A15: =A14+1 -> 12 | B15: Paolo Valerio | C15: =CONCATENATE(LEFT(B15,FIND(" ",B15) + 2),".") -> Paolo Va. | D15: =VLOOKUP(B15,'Giornata 1'!$B$3:$V$48,21,FALSE) -> 2 | E15: =VLOOKUP(B15,'Giornata 2'!$B$4:$X$49,23,FALSE) -> 17 | F15: =VLOOKUP(B15,'Giornata 3'!$B$4:$Z$49,23,FALSE) -> 17 | G15: =VLOOKUP(B15,'Giornata 4'!$B$4:$AH$49, 33, FALSE) -> 19 | H15: =VLOOKUP(B15,'Giornata 5'!$B$3:$X$48,19,FALSE) -> 2 | I15: =VLOOKUP(B15,'Giornata 6'!$B$3:$T$48,19,FALSE) | J15: =SUM(D15:I15) -> 57 | K15: =+J15-MIN(D15:H15) -> 55 | L15: =RANK(K15,$K$4:$K$48) -> 11 | M15: =IF(D15>0, VLOOKUP(B15,'Giornata 1'!$B$4:$V$48,19,FALSE),0)+IF(E15>0, VLOOKUP(B15,'Giornata 2'!$B$5:$X$49,21,FALSE),0)+IF(F15>0, VLOOKUP(B15,'Giornata 3'!$B$5:$Z$49,21,FALSE),0)+IF(G15>0, VLOOKUP(B15,'Giornata 4'!$B$5:$AH$49,31,FALSE),0)+IF(H15>0, VLOOKUP(B15,'Giornata 5'!$B$4:$X$48,21,FALSE),0)+IF(I15>0, VLOOKUP(B15,'Giornata 6'!$B$4:$T$48,17,FALSE),0) -> 3
A16: =A15+1 -> 13 | B16: Giuseppe Tamba | C16: =CONCATENATE(LEFT(B16,FIND(" ",B16) + 2),".") -> Giuseppe Ta. | D16: =VLOOKUP(B16,'Giornata 1'!$B$3:$V$48,21,FALSE) -> 15 | E16: =VLOOKUP(B16,'Giornata 2'!$B$4:$X$49,23,FALSE) -> 13 | F16: =VLOOKUP(B16,'Giornata 3'!$B$4:$Z$49,23,FALSE) -> 18 | G16: =VLOOKUP(B16,'Giornata 4'!$B$4:$AH$49, 33, FALSE) -> 7 | H16: =VLOOKUP(B16,'Giornata 5'!$B$3:$X$48,19,FALSE) -> 2 | I16: =VLOOKUP(B16,'Giornata 6'!$B$3:$T$48,19,FALSE) | J16: =SUM(D16:I16) -> 55 | K16: =+J16-MIN(D16:H16) -> 53 | L16: =RANK(K16,$K$4:$K$48) -> 13 | M16: =IF(D16>0, VLOOKUP(B16,'Giornata 1'!$B$4:$V$48,19,FALSE),0)+IF(E16>0, VLOOKUP(B16,'Giornata 2'!$B$5:$X$49,21,FALSE),0)+IF(F16>0, VLOOKUP(B16,'Giornata 3'!$B$5:$Z$49,21,FALSE),0)+IF(G16>0, VLOOKUP(B16,'Giornata 4'!$B$5:$AH$49,31,FALSE),0)+IF(H16>0, VLOOKUP(B16,'Giornata 5'!$B$4:$X$48,21,FALSE),0)+IF(I16>0, VLOOKUP(B16,'Giornata 6'!$B$4:$T$48,17,FALSE),0) -> 6
A17: =A16+1 -> 14 | B17: Francesco Marradi | C17: =CONCATENATE(LEFT(B17,FIND(" ",B17) + 2),".") -> Francesco Ma. | D17: 0 | E17: =VLOOKUP(B17,'Giornata 2'!$B$4:$X$49,23,FALSE) -> 19 | F17: =VLOOKUP(B17,'Giornata 3'!$B$4:$Z$49,23,FALSE) -> 6 | G17: =VLOOKUP(B17,'Giornata 4'!$B$4:$AH$49, 33, FALSE) -> 5 | H17: =VLOOKUP(B17,'Giornata 5'!$B$3:$X$48,19,FALSE) -> 21 | I17: =VLOOKUP(B17,'Giornata 6'!$B$3:$T$48,19,FALSE) | J17: =SUM(D17:I17) -> 51 | K17: =+J17-MIN(D17:H17) -> 51 | L17: =RANK(K17,$K$4:$K$48) -> 14 | M17: =IF(D17>0, VLOOKUP(B17,'Giornata 1'!$B$4:$V$48,19,FALSE),0)+IF(E17>0, VLOOKUP(B17,'Giornata 2'!$B$5:$X$49,21,FALSE),0)+IF(F17>0, VLOOKUP(B17,'Giornata 3'!$B$5:$Z$49,21,FALSE),0)+IF(G17>0, VLOOKUP(B17,'Giornata 4'!$B$5:$AH$49,31,FALSE),0)+IF(H17>0, VLOOKUP(B17,'Giornata 5'!$B$4:$X$48,21,FALSE),0)+IF(I17>0, VLOOKUP(B17,'Giornata 6'!$B$4:$T$48,17,FALSE),0) -> 0
A18: =A17+1 -> 15 | B18: Massimo Berucci | C18: =CONCATENATE(LEFT(B18,FIND(" ",B18) + 2),".") -> Massimo Be. | D18: =VLOOKUP(B18,'Giornata 1'!$B$3:$V$48,21,FALSE) -> 7 | E18: =VLOOKUP(B18,'Giornata 2'!$B$4:$X$49,23,FALSE) -> 15 | F18: =VLOOKUP(B18,'Giornata 3'!$B$4:$Z$49,23,FALSE) -> 28 | G18: 0 | H18: =VLOOKUP(B18,'Giornata 5'!$B$3:$X$48,19,FALSE) -> 0 | I18: =VLOOKUP(B18,'Giornata 6'!$B$3:$T$48,19,FALSE) | J18: =SUM(D18:I18) -> 50 | K18: =+J18-MIN(D18:H18) -> 50 | L18: =RANK(K18,$K$4:$K$48) -> 15 | M18: =IF(D18>0, VLOOKUP(B18,'Giornata 1'!$B$4:$V$48,19,FALSE),0)+IF(E18>0, VLOOKUP(B18,'Giornata 2'!$B$5:$X$49,21,FALSE),0)+IF(F18>0, VLOOKUP(B18,'Giornata 3'!$B$5:$Z$49,21,FALSE),0)+IF(G18>0, VLOOKUP(B18,'Giornata 4'!$B$5:$AH$49,31,FALSE),0)+IF(H18>0, VLOOKUP(B18,'Giornata 5'!$B$4:$X$48,21,FALSE),0)+IF(I18>0, VLOOKUP(B18,'Giornata 6'!$B$4:$T$48,17,FALSE),0) -> 5
A19: =A18+1 -> 16 | B19: Gino Lucrezi | C19: =CONCATENATE(LEFT(B19,FIND(" ",B19) + 2),".") -> Gino Lu. | D19: 0 | E19: 0 | F19: 0 | G19: =VLOOKUP(B19,'Giornata 4'!$B$4:$AH$49, 33, FALSE) -> 22 | H19: =VLOOKUP(B19,'Giornata 5'!$B$3:$X$48,19,FALSE) -> 25 | I19: =VLOOKUP(B19,'Giornata 6'!$B$3:$T$48,19,FALSE) | J19: =SUM(D19:I19) -> 47 | K19: =+J19-MIN(D19:H19) -> 47 | L19: =RANK(K19,$K$4:$K$48) -> 16 | M19: =IF(D19>0, VLOOKUP(B19,'Giornata 1'!$B$4:$V$48,19,FALSE),0)+IF(E19>0, VLOOKUP(B19,'Giornata 2'!$B$5:$X$49,21,FALSE),0)+IF(F19>0, VLOOKUP(B19,'Giornata 3'!$B$5:$Z$49,21,FALSE),0)+IF(G19>0, VLOOKUP(B19,'Giornata 4'!$B$5:$AH$49,31,FALSE),0)+IF(H19>0, VLOOKUP(B19,'Giornata 5'!$B$4:$X$48,21,FALSE),0)+IF(I19>0, VLOOKUP(B19,'Giornata 6'!$B$4:$T$48,17,FALSE),0) -> 3
A20: =A19+1 -> 17 | B20: Luca Postumi | C20: =CONCATENATE(LEFT(B20,FIND(" ",B20) + 2),".") -> Luca Po. | D20: 0 | E20: 0 | F20: =VLOOKUP(B20,'Giornata 3'!$B$4:$Z$49,23,FALSE) -> 14 | G20: =VLOOKUP(B20,'Giornata 4'!$B$4:$AH$49, 33, FALSE) -> 25 | H20: =VLOOKUP(B20,'Giornata 5'!$B$3:$X$48,19,FALSE) -> 6 | I20: =VLOOKUP(B20,'Giornata 6'!$B$3:$T$48,19,FALSE) | J20: =SUM(D20:I20) -> 45 | K20: =+J20-MIN(D20:H20) -> 45 | L20: =RANK(K20,$K$4:$K$48) -> 17 | M20: =IF(D20>0, VLOOKUP(B20,'Giornata 1'!$B$4:$V$48,19,FALSE),0)+IF(E20>0, VLOOKUP(B20,'Giornata 2'!$B$5:$X$49,21,FALSE),0)+IF(F20>0, VLOOKUP(B20,'Giornata 3'!$B$5:$Z$49,21,FALSE),0)+IF(G20>0, VLOOKUP(B20,'Giornata 4'!$B$5:$AH$49,31,FALSE),0)+IF(H20>0, VLOOKUP(B20,'Giornata 5'!$B$4:$X$48,21,FALSE),0)+IF(I20>0, VLOOKUP(B20,'Giornata 6'!$B$4:$T$48,17,FALSE),0) -> 3
A21: =A20+1 -> 18 | B21: Ken Jones | C21: =CONCATENATE(LEFT(B21,FIND(" ",B21) + 2),".") -> Ken Jo. | D21: =VLOOKUP(B21,'Giornata 1'!$B$3:$V$48,21,FALSE) -> 9 | E21: =VLOOKUP(B21,'Giornata 2'!$B$4:$X$49,23,FALSE) -> 4 | F21: 0 | G21: =VLOOKUP(B21,'Giornata 4'!$B$4:$AH$49, 33, FALSE) -> 8 | H21: =VLOOKUP(B21,'Giornata 5'!$B$3:$X$48,19,FALSE) -> 23 | I21: =VLOOKUP(B21,'Giornata 6'!$B$3:$T$48,19,FALSE) | J21: =SUM(D21:I21) -> 44 | K21: =+J21-MIN(D21:H21) -> 44 | L21: =RANK(K21,$K$4:$K$48) -> 18 | M21: =IF(D21>0, VLOOKUP(B21,'Giornata 1'!$B$4:$V$48,19,FALSE),0)+IF(E21>0, VLOOKUP(B21,'Giornata 2'!$B$5:$X$49,21,FALSE),0)+IF(F21>0, VLOOKUP(B21,'Giornata 3'!$B$5:$Z$49,21,FALSE),0)+IF(G21>0, VLOOKUP(B21,'Giornata 4'!$B$5:$AH$49,31,FALSE),0)+IF(H21>0, VLOOKUP(B21,'Giornata 5'!$B$4:$X$48,21,FALSE),0)+IF(I21>0, VLOOKUP(B21,'Giornata 6'!$B$4:$T$48,17,FALSE),0) -> 5
A22: =A21+1 -> 19 | B22: Christian Vitale | C22: =CONCATENATE(LEFT(B22,FIND(" ",B22) + 2),".") -> Christian Vi. | D22: =VLOOKUP(B22,'Giornata 1'!$B$3:$V$48,21,FALSE) -> 17 | E22: =VLOOKUP(B22,'Giornata 2'!$B$4:$X$49,23,FALSE) -> 6 | F22: =VLOOKUP(B22,'Giornata 3'!$B$4:$Z$49,23,FALSE) -> 20 | G22: 0 | H22: =VLOOKUP(B22,'Giornata 5'!$B$3:$X$48,19,FALSE) -> 0 | I22: =VLOOKUP(B22,'Giornata 6'!$B$3:$T$48,19,FALSE) | J22: =SUM(D22:I22) -> 43 | K22: =+J22-MIN(D22:H22) -> 43 | L22: =RANK(K22,$K$4:$K$48) -> 19 | M22: =IF(D22>0, VLOOKUP(B22,'Giornata 1'!$B$4:$V$48,19,FALSE),0)+IF(E22>0, VLOOKUP(B22,'Giornata 2'!$B$5:$X$49,21,FALSE),0)+IF(F22>0, VLOOKUP(B22,'Giornata 3'!$B$5:$Z$49,21,FALSE),0)+IF(G22>0, VLOOKUP(B22,'Giornata 4'!$B$5:$AH$49,31,FALSE),0)+IF(H22>0, VLOOKUP(B22,'Giornata 5'!$B$4:$X$48,21,FALSE),0)+IF(I22>0, VLOOKUP(B22,'Giornata 6'!$B$4:$T$48,17,FALSE),0) -> 2
A23: =A22+1 -> 20 | B23: Riccardo Rigillo | C23: =CONCATENATE(LEFT(B23,FIND(" ",B23) + 2),".") -> Riccardo Ri. | D23: =VLOOKUP(B23,'Giornata 1'!$B$3:$V$48,21,FALSE) -> 10 | E23: =VLOOKUP(B23,'Giornata 2'!$B$4:$X$49,23,FALSE) -> 22 | F23: =VLOOKUP(B23,'Giornata 3'!$B$4:$Z$49,23,FALSE) -> 10 | G23: 0 | H23: =VLOOKUP(B23,'Giornata 5'!$B$3:$X$48,19,FALSE) -> -3 | I23: =VLOOKUP(B23,'Giornata 6'!$B$3:$T$48,19,FALSE) | J23: =SUM(D23:I23) -> 39 | K23: =+J23-MIN(D23:H23) -> 42 | L23: =RANK(K23,$K$4:$K$48) -> 20 | M23: =IF(D23>0, VLOOKUP(B23,'Giornata 1'!$B$4:$V$48,19,FALSE),0)+IF(E23>0, VLOOKUP(B23,'Giornata 2'!$B$5:$X$49,21,FALSE),0)+IF(F23>0, VLOOKUP(B23,'Giornata 3'!$B$5:$Z$49,21,FALSE),0)+IF(G23>0, VLOOKUP(B23,'Giornata 4'!$B$5:$AH$49,31,FALSE),0)+IF(H23>0, VLOOKUP(B23,'Giornata 5'!$B$4:$X$48,21,FALSE),0)+IF(I23>0, VLOOKUP(B23,'Giornata 6'!$B$4:$T$48,17,FALSE),0) -> 4
A24: =A23+1 -> 21 | B24: Andrea Garello | C24: =CONCATENATE(LEFT(B24,FIND(" ",B24) + 2),".") -> Andrea Ga. | D24: =VLOOKUP(B24,'Giornata 1'!$B$3:$V$48,21,FALSE) -> 7 | E24: 0 | F24: =VLOOKUP(B24,'Giornata 3'!$B$4:$Z$49,23,FALSE) -> 33 | G24: 0 | H24: =VLOOKUP(B24,'Giornata 5'!$B$3:$X$48,19,FALSE) -> 0 | I24: =VLOOKUP(B24,'Giornata 6'!$B$3:$T$48,19,FALSE) | J24: =SUM(D24:I24) -> 40 | K24: =+J24-MIN(D24:H24) -> 40 | L24: =RANK(K24,$K$4:$K$48) -> 21 | M24: =IF(D24>0, VLOOKUP(B24,'Giornata 1'!$B$4:$V$48,19,FALSE),0)+IF(E24>0, VLOOKUP(B24,'Giornata 2'!$B$5:$X$49,21,FALSE),0)+IF(F24>0, VLOOKUP(B24,'Giornata 3'!$B$5:$Z$49,21,FALSE),0)+IF(G24>0, VLOOKUP(B24,'Giornata 4'!$B$5:$AH$49,31,FALSE),0)+IF(H24>0, VLOOKUP(B24,'Giornata 5'!$B$4:$X$48,21,FALSE),0)+IF(I24>0, VLOOKUP(B24,'Giornata 6'!$B$4:$T$48,17,FALSE),0) -> 3
A25: =A24+1 -> 22 | B25: Fabio Zanelli | C25: =CONCATENATE(LEFT(B25,FIND(" ",B25) + 2),".") -> Fabio Za. | D25: =VLOOKUP(B25,'Giornata 1'!$B$3:$V$48,21,FALSE) -> 12 | E25: =VLOOKUP(B25,'Giornata 2'!$B$4:$X$49,23,FALSE) -> 25 | F25: 0 | G25: 0 | H25: =VLOOKUP(B25,'Giornata 5'!$B$3:$X$48,19,FALSE) -> 0 | I25: =VLOOKUP(B25,'Giornata 6'!$B$3:$T$48,19,FALSE) | J25: =SUM(D25:I25) -> 37 | K25: =+J25-MIN(D25:H25) -> 37 | L25: =RANK(K25,$K$4:$K$48) -> 22 | M25: =IF(D25>0, VLOOKUP(B25,'Giornata 1'!$B$4:$V$48,19,FALSE),0)+IF(E25>0, VLOOKUP(B25,'Giornata 2'!$B$5:$X$49,21,FALSE),0)+IF(F25>0, VLOOKUP(B25,'Giornata 3'!$B$5:$Z$49,21,FALSE),0)+IF(G25>0, VLOOKUP(B25,'Giornata 4'!$B$5:$AH$49,31,FALSE),0)+IF(H25>0, VLOOKUP(B25,'Giornata 5'!$B$4:$X$48,21,FALSE),0)+IF(I25>0, VLOOKUP(B25,'Giornata 6'!$B$4:$T$48,17,FALSE),0) -> 5
A26: =A25+1 -> 23 | B26: Alberto Panicucci | C26: =CONCATENATE(LEFT(B26,FIND(" ",B26) + 2),".") -> Alberto Pa. | D26: =VLOOKUP(B26,'Giornata 1'!$B$3:$V$48,21,FALSE) -> 16 | E26: =VLOOKUP(B26,'Giornata 2'!$B$4:$X$49,23,FALSE) -> 2 | F26: =VLOOKUP(B26,'Giornata 3'!$B$4:$Z$49,23,FALSE) -> 4 | G26: =VLOOKUP(B26,'Giornata 4'!$B$4:$AH$49, 33, FALSE) -> 13 | H26: =VLOOKUP(B26,'Giornata 5'!$B$3:$X$48,19,FALSE) -> 0 | I26: =VLOOKUP(B26,'Giornata 6'!$B$3:$T$48,19,FALSE) | J26: =SUM(D26:I26) -> 35 | K26: =+J26-MIN(D26:H26) -> 35 | L26: =RANK(K26,$K$4:$K$48) -> 23 | M26: =IF(D26>0, VLOOKUP(B26,'Giornata 1'!$B$4:$V$48,19,FALSE),0)+IF(E26>0, VLOOKUP(B26,'Giornata 2'!$B$5:$X$49,21,FALSE),0)+IF(F26>0, VLOOKUP(B26,'Giornata 3'!$B$5:$Z$49,21,FALSE),0)+IF(G26>0, VLOOKUP(B26,'Giornata 4'!$B$5:$AH$49,31,FALSE),0)+IF(H26>0, VLOOKUP(B26,'Giornata 5'!$B$4:$X$48,21,FALSE),0)+IF(I26>0, VLOOKUP(B26,'Giornata 6'!$B$4:$T$48,17,FALSE),0) -> 3
A27: =A26+1 -> 24 | B27: Francesco Petraroli | C27: =CONCATENATE(LEFT(B27,FIND(" ",B27) + 2),".") -> Francesco Pe. | D27: =VLOOKUP(B27,'Giornata 1'!$B$3:$V$48,21,FALSE) -> 11 | E27: =VLOOKUP(B27,'Giornata 2'!$B$4:$X$49,23,FALSE) -> 1 | F27: =VLOOKUP(B27,'Giornata 3'!$B$4:$Z$49,23,FALSE) -> 16 | G27: =VLOOKUP(B27,'Giornata 4'!$B$4:$AH$49, 33, FALSE) -> 3 | H27: =VLOOKUP(B27,'Giornata 5'!$B$3:$X$48,19,FALSE) -> 2 | I27: =VLOOKUP(B27,'Giornata 6'!$B$3:$T$48,19,FALSE) | J27: =SUM(D27:I27) -> 33 | K27: =+J27-MIN(D27:H27) -> 32 | L27: =RANK(K27,$K$4:$K$48) -> 24 | M27: =IF(D27>0, VLOOKUP(B27,'Giornata 1'!$B$4:$V$48,19,FALSE),0)+IF(E27>0, VLOOKUP(B27,'Giornata 2'!$B$5:$X$49,21,FALSE),0)+IF(F27>0, VLOOKUP(B27,'Giornata 3'!$B$5:$Z$49,21,FALSE),0)+IF(G27>0, VLOOKUP(B27,'Giornata 4'!$B$5:$AH$49,31,FALSE),0)+IF(H27>0, VLOOKUP(B27,'Giornata 5'!$B$4:$X$48,21,FALSE),0)+IF(I27>0, VLOOKUP(B27,'Giornata 6'!$B$4:$T$48,17,FALSE),0) -> 5
A28: =A27+1 -> 25 | B28: Alberto Garello | C28: =CONCATENATE(LEFT(B28,FIND(" ",B28) + 2),".") -> Alberto Ga. | D28: =VLOOKUP(B28,'Giornata 1'!$B$3:$V$48,21,FALSE) -> 4 | E28: 0 | F28: =VLOOKUP(B28,'Giornata 3'!$B$4:$Z$49,23,FALSE) -> 24 | G28: 0 | H28: =VLOOKUP(B28,'Giornata 5'!$B$3:$X$48,19,FALSE) -> 0 | I28: =VLOOKUP(B28,'Giornata 6'!$B$3:$T$48,19,FALSE) | J28: =SUM(D28:I28) -> 28 | K28: =+J28-MIN(D28:H28) -> 28 | L28: =RANK(K28,$K$4:$K$48) -> 25 | M28: =IF(D28>0, VLOOKUP(B28,'Giornata 1'!$B$4:$V$48,19,FALSE),0)+IF(E28>0, VLOOKUP(B28,'Giornata 2'!$B$5:$X$49,21,FALSE),0)+IF(F28>0, VLOOKUP(B28,'Giornata 3'!$B$5:$Z$49,21,FALSE),0)+IF(G28>0, VLOOKUP(B28,'Giornata 4'!$B$5:$AH$49,31,FALSE),0)+IF(H28>0, VLOOKUP(B28,'Giornata 5'!$B$4:$X$48,21,FALSE),0)+IF(I28>0, VLOOKUP(B28,'Giornata 6'!$B$4:$T$48,17,FALSE),0) -> 4
A29: =A28+1 -> 26 | B29: Daniel Terracina | C29: =CONCATENATE(LEFT(B29,FIND(" ",B29) + 2),".") -> Daniel Te. | D29: =VLOOKUP(B29,'Giornata 1'!$B$3:$V$48,21,FALSE) -> 7 | E29: =VLOOKUP(B29,'Giornata 2'!$B$4:$X$49,23,FALSE) -> 12 | F29: =VLOOKUP(B29,'Giornata 3'!$B$4:$Z$49,23,FALSE) -> 9 | G29: 0 | H29: =VLOOKUP(B29,'Giornata 5'!$B$3:$X$48,19,FALSE) -> 0 | I29: =VLOOKUP(B29,'Giornata 6'!$B$3:$T$48,19,FALSE) | J29: =SUM(D29:I29) -> 28 | K29: =+J29-MIN(D29:H29) -> 28 | L29: =RANK(K29,$K$4:$K$48) -> 25 | M29: =IF(D29>0, VLOOKUP(B29,'Giornata 1'!$B$4:$V$48,19,FALSE),0)+IF(E29>0, VLOOKUP(B29,'Giornata 2'!$B$5:$X$49,21,FALSE),0)+IF(F29>0, VLOOKUP(B29,'Giornata 3'!$B$5:$Z$49,21,FALSE),0)+IF(G29>0, VLOOKUP(B29,'Giornata 4'!$B$5:$AH$49,31,FALSE),0)+IF(H29>0, VLOOKUP(B29,'Giornata 5'!$B$4:$X$48,21,FALSE),0)+IF(I29>0, VLOOKUP(B29,'Giornata 6'!$B$4:$T$48,17,FALSE),0) -> 2
A30: =A29+1 -> 27 | B30: Daniele Ferrini | C30: =CONCATENATE(LEFT(B30,FIND(" ",B30) + 2),".") -> Daniele Fe. | D30: 0 | E30: 0 | F30: =VLOOKUP(B30,'Giornata 3'!$B$4:$Z$49,23,FALSE) -> 26 | G30: 0 | H30: =VLOOKUP(B30,'Giornata 5'!$B$3:$X$48,19,FALSE) -> 0 | I30: =VLOOKUP(B30,'Giornata 6'!$B$3:$T$48,19,FALSE) | J30: =SUM(D30:I30) -> 26 | K30: =+J30-MIN(D30:H30) -> 26 | L30: =RANK(K30,$K$4:$K$48) -> 27 | M30: =IF(D30>0, VLOOKUP(B30,'Giornata 1'!$B$4:$V$48,19,FALSE),0)+IF(E30>0, VLOOKUP(B30,'Giornata 2'!$B$5:$X$49,21,FALSE),0)+IF(F30>0, VLOOKUP(B30,'Giornata 3'!$B$5:$Z$49,21,FALSE),0)+IF(G30>0, VLOOKUP(B30,'Giornata 4'!$B$5:$AH$49,31,FALSE),0)+IF(H30>0, VLOOKUP(B30,'Giornata 5'!$B$4:$X$48,21,FALSE),0)+IF(I30>0, VLOOKUP(B30,'Giornata 6'!$B$4:$T$48,17,FALSE),0) -> 3
A31: =A30+1 -> 28 | B31: Massimo Malerba | C31: =CONCATENATE(LEFT(B31,FIND(" ",B31) + 2),".") -> Massimo Ma. | D31: 0 | E31: 0 | F31: =VLOOKUP(B31,'Giornata 3'!$B$4:$Z$49,23,FALSE) -> 21 | G31: 0 | H31: =VLOOKUP(B31,'Giornata 5'!$B$3:$X$48,19,FALSE) -> 0 | I31: =VLOOKUP(B31,'Giornata 6'!$B$3:$T$48,19,FALSE) | J31: =SUM(D31:I31) -> 21 | K31: =+J31-MIN(D31:H31) -> 21 | L31: =RANK(K31,$K$4:$K$48) -> 28 | M31: =IF(D31>0, VLOOKUP(B31,'Giornata 1'!$B$4:$V$48,19,FALSE),0)+IF(E31>0, VLOOKUP(B31,'Giornata 2'!$B$5:$X$49,21,FALSE),0)+IF(F31>0, VLOOKUP(B31,'Giornata 3'!$B$5:$Z$49,21,FALSE),0)+IF(G31>0, VLOOKUP(B31,'Giornata 4'!$B$5:$AH$49,31,FALSE),0)+IF(H31>0, VLOOKUP(B31,'Giornata 5'!$B$4:$X$48,21,FALSE),0)+IF(I31>0, VLOOKUP(B31,'Giornata 6'!$B$4:$T$48,17,FALSE),0) -> 3
A32: =A31+1 -> 29 | B32: Stefano Von Dadden | C32: =CONCATENATE(LEFT(B32,FIND(" ",B32) + 2),".") -> Stefano Vo. | D32: =VLOOKUP(B32,'Giornata 1'!$B$3:$V$48,21,FALSE) -> 21 | E32: 0 | F32: 0 | G32: 0 | H32: =VLOOKUP(B32,'Giornata 5'!$B$3:$X$48,19,FALSE) -> 0 | I32: =VLOOKUP(B32,'Giornata 6'!$B$3:$T$48,19,FALSE) | J32: =SUM(D32:I32) -> 21 | K32: =+J32-MIN(D32:H32) -> 21 | L32: =RANK(K32,$K$4:$K$48) -> 28 | M32: =IF(D32>0, VLOOKUP(B32,'Giornata 1'!$B$4:$V$48,19,FALSE),0)+IF(E32>0, VLOOKUP(B32,'Giornata 2'!$B$5:$X$49,21,FALSE),0)+IF(F32>0, VLOOKUP(B32,'Giornata 3'!$B$5:$Z$49,21,FALSE),0)+IF(G32>0, VLOOKUP(B32,'Giornata 4'!$B$5:$AH$49,31,FALSE),0)+IF(H32>0, VLOOKUP(B32,'Giornata 5'!$B$4:$X$48,21,FALSE),0)+IF(I32>0, VLOOKUP(B32,'Giornata 6'!$B$4:$T$48,17,FALSE),0) -> 2
A33: =A32+1 -> 30 | B33: Jolly 1 | C33: =CONCATENATE(LEFT(B33,FIND(" ",B33) + 2),".") -> Jolly 1. | D33: 0 | E33: =VLOOKUP(B33,'Giornata 2'!$B$4:$X$49,23,FALSE) -> 11 | F33: 0 | G33: 0 | H33: =VLOOKUP(B33,'Giornata 5'!$B$3:$X$48,19,FALSE) -> 0 | I33: =VLOOKUP(B33,'Giornata 6'!$B$3:$T$48,19,FALSE) | J33: =SUM(D33:I33) -> 11 | K33: =+J33-MIN(D33:H33) -> 11 | L33: =RANK(K33,$K$4:$K$48) -> 30 | M33: =IF(D33>0, VLOOKUP(B33,'Giornata 1'!$B$4:$V$48,19,FALSE),0)+IF(E33>0, VLOOKUP(B33,'Giornata 2'!$B$5:$X$49,21,FALSE),0)+IF(F33>0, VLOOKUP(B33,'Giornata 3'!$B$5:$Z$49,21,FALSE),0)+IF(G33>0, VLOOKUP(B33,'Giornata 4'!$B$5:$AH$49,31,FALSE),0)+IF(H33>0, VLOOKUP(B33,'Giornata 5'!$B$4:$X$48,21,FALSE),0)+IF(I33>0, VLOOKUP(B33,'Giornata 6'!$B$4:$T$48,17,FALSE),0) -> 2
A34: =A33+1 -> 31 | B34: Erminio Serio | C34: =CONCATENATE(LEFT(B34,FIND(" ",B34) + 2),".") -> Erminio Se. | D34: =VLOOKUP(B34,'Giornata 1'!$B$3:$V$48,21,FALSE) -> 1 | E34: 0 | F34: 0 | G34: =VLOOKUP(B34,'Giornata 4'!$B$4:$AH$49, 33, FALSE) -> 10 | H34: =VLOOKUP(B34,'Giornata 5'!$B$3:$X$48,19,FALSE) -> 0 | I34: =VLOOKUP(B34,'Giornata 6'!$B$3:$T$48,19,FALSE) | J34: =SUM(D34:I34) -> 11 | K34: =+J34-MIN(D34:H34) -> 11 | L34: =RANK(K34,$K$4:$K$48) -> 30 | M34: =IF(D34>0, VLOOKUP(B34,'Giornata 1'!$B$4:$V$48,19,FALSE),0)+IF(E34>0, VLOOKUP(B34,'Giornata 2'!$B$5:$X$49,21,FALSE),0)+IF(F34>0, VLOOKUP(B34,'Giornata 3'!$B$5:$Z$49,21,FALSE),0)+IF(G34>0, VLOOKUP(B34,'Giornata 4'!$B$5:$AH$49,31,FALSE),0)+IF(H34>0, VLOOKUP(B34,'Giornata 5'!$B$4:$X$48,21,FALSE),0)+IF(I34>0, VLOOKUP(B34,'Giornata 6'!$B$4:$T$48,17,FALSE),0) -> 0
A35: =A34+1 -> 32 | B35: Barbara Von Rust | C35: =CONCATENATE(LEFT(B35,FIND(" ",B35) + 2),".") -> Barbara Vo. | D35: 0 | E35: =VLOOKUP(B35,'Giornata 2'!$B$4:$X$49,23,FALSE) -> 3 | F35: =VLOOKUP(B35,'Giornata 3'!$B$4:$Z$49,23,FALSE) -> 7 | G35: 0 | H35: =VLOOKUP(B35,'Giornata 5'!$B$3:$X$48,19,FALSE) -> 0 | I35: =VLOOKUP(B35,'Giornata 6'!$B$3:$T$48,19,FALSE) | J35: =SUM(D35:I35) -> 10 | K35: =+J35-MIN(D35:H35) -> 10 | L35: =RANK(K35,$K$4:$K$48) -> 32 | M35: =IF(D35>0, VLOOKUP(B35,'Giornata 1'!$B$4:$V$48,19,FALSE),0)+IF(E35>0, VLOOKUP(B35,'Giornata 2'!$B$5:$X$49,21,FALSE),0)+IF(F35>0, VLOOKUP(B35,'Giornata 3'!$B$5:$Z$49,21,FALSE),0)+IF(G35>0, VLOOKUP(B35,'Giornata 4'!$B$5:$AH$49,31,FALSE),0)+IF(H35>0, VLOOKUP(B35,'Giornata 5'!$B$4:$X$48,21,FALSE),0)+IF(I35>0, VLOOKUP(B35,'Giornata 6'!$B$4:$T$48,17,FALSE),0) -> 0
A36: =A35+1 -> 33 | B36: Marco Tambara | C36: =CONCATENATE(LEFT(B36,FIND(" ",B36) + 2),".") -> Marco Ta. | D36: 0 | E36: =VLOOKUP(B36,'Giornata 2'!$B$4:$X$49,23,FALSE) -> 9 | F36: 0 | G36: 0 | H36: =VLOOKUP(B36,'Giornata 5'!$B$3:$X$48,19,FALSE) -> 0 | I36: =VLOOKUP(B36,'Giornata 6'!$B$3:$T$48,19,FALSE) | J36: =SUM(D36:I36) -> 9 | K36: =+J36-MIN(D36:H36) -> 9 | L36: =RANK(K36,$K$4:$K$48) -> 33 | M36: =IF(D36>0, VLOOKUP(B36,'Giornata 1'!$B$4:$V$48,19,FALSE),0)+IF(E36>0, VLOOKUP(B36,'Giornata 2'!$B$5:$X$49,21,FALSE),0)+IF(F36>0, VLOOKUP(B36,'Giornata 3'!$B$5:$Z$49,21,FALSE),0)+IF(G36>0, VLOOKUP(B36,'Giornata 4'!$B$5:$AH$49,31,FALSE),0)+IF(H36>0, VLOOKUP(B36,'Giornata 5'!$B$4:$X$48,21,FALSE),0)+IF(I36>0, VLOOKUP(B36,'Giornata 6'!$B$4:$T$48,17,FALSE),0) -> 1
A37: =A36+1 -> 34 | B37: Maurizio Vitale | C37: =CONCATENATE(LEFT(B37,FIND(" ",B37) + 2),".") -> Maurizio Vi. | D37: =VLOOKUP(B37,'Giornata 1'!$B$3:$V$48,21,FALSE) -> 8 | E37: 0 | F37: =VLOOKUP(B37,'Giornata 3'!$B$4:$Z$49,23,FALSE) -> 1 | G37: 0 | H37: =VLOOKUP(B37,'Giornata 5'!$B$3:$X$48,19,FALSE) -> 0 | I37: =VLOOKUP(B37,'Giornata 6'!$B$3:$T$48,19,FALSE) | J37: =SUM(D37:I37) -> 9 | K37: =+J37-MIN(D37:H37) -> 9 | L37: =RANK(K37,$K$4:$K$48) -> 33 | M37: =IF(D37>0, VLOOKUP(B37,'Giornata 1'!$B$4:$V$48,19,FALSE),0)+IF(E37>0, VLOOKUP(B37,'Giornata 2'!$B$5:$X$49,21,FALSE),0)+IF(F37>0, VLOOKUP(B37,'Giornata 3'!$B$5:$Z$49,21,FALSE),0)+IF(G37>0, VLOOKUP(B37,'Giornata 4'!$B$5:$AH$49,31,FALSE),0)+IF(H37>0, VLOOKUP(B37,'Giornata 5'!$B$4:$X$48,21,FALSE),0)+IF(I37>0, VLOOKUP(B37,'Giornata 6'!$B$4:$T$48,17,FALSE),0) -> 0
A38: =A37+1 -> 35 | B38: Laura Di Marco | C38: =CONCATENATE(LEFT(B38,FIND(" ",B38) + 2),".") -> Laura Di. | D38: 0 | E38: 0 | F38: =VLOOKUP(B38,'Giornata 3'!$B$4:$Z$49,23,FALSE) -> 8 | G38: 0 | H38: =VLOOKUP(B38,'Giornata 5'!$B$3:$X$48,19,FALSE) -> 0 | I38: =VLOOKUP(B38,'Giornata 6'!$B$3:$T$48,19,FALSE) | J38: =SUM(D38:I38) -> 8 | K38: =+J38-MIN(D38:H38) -> 8 | L38: =RANK(K38,$K$4:$K$48) -> 35 | M38: =IF(D38>0, VLOOKUP(B38,'Giornata 1'!$B$4:$V$48,19,FALSE),0)+IF(E38>0, VLOOKUP(B38,'Giornata 2'!$B$5:$X$49,21,FALSE),0)+IF(F38>0, VLOOKUP(B38,'Giornata 3'!$B$5:$Z$49,21,FALSE),0)+IF(G38>0, VLOOKUP(B38,'Giornata 4'!$B$5:$AH$49,31,FALSE),0)+IF(H38>0, VLOOKUP(B38,'Giornata 5'!$B$4:$X$48,21,FALSE),0)+IF(I38>0, VLOOKUP(B38,'Giornata 6'!$B$4:$T$48,17,FALSE),0) -> 0
A39: =A38+1 -> 36 | B39: Stefano Tiribocchi | C39: =CONCATENATE(LEFT(B39,FIND(" ",B39) + 2),".") -> Stefano Ti. | D39: 0 | E39: 0 | F39: =VLOOKUP(B39,'Giornata 3'!$B$4:$Z$49,23,FALSE) -> 3 | G39: =VLOOKUP(B39,'Giornata 4'!$B$4:$AH$49, 33, FALSE) -> 4 | H39: =VLOOKUP(B39,'Giornata 5'!$B$3:$X$48,19,FALSE) -> -3 | I39: =VLOOKUP(B39,'Giornata 6'!$B$3:$T$48,19,FALSE) | J39: =SUM(D39:I39) -> 4 | K39: =+J39-MIN(D39:H39) -> 7 | L39: =RANK(K39,$K$4:$K$48) -> 36 | M39: =IF(D39>0, VLOOKUP(B39,'Giornata 1'!$B$4:$V$48,19,FALSE),0)+IF(E39>0, VLOOKUP(B39,'Giornata 2'!$B$5:$X$49,21,FALSE),0)+IF(F39>0, VLOOKUP(B39,'Giornata 3'!$B$5:$Z$49,21,FALSE),0)+IF(G39>0, VLOOKUP(B39,'Giornata 4'!$B$5:$AH$49,31,FALSE),0)+IF(H39>0, VLOOKUP(B39,'Giornata 5'!$B$4:$X$48,21,FALSE),0)+IF(I39>0, VLOOKUP(B39,'Giornata 6'!$B$4:$T$48,17,FALSE),0) -> 0
A40: =A39+1 -> 37 | B40: Michele Balasso | C40: =CONCATENATE(LEFT(B40,FIND(" ",B40) + 2),".") -> Michele Ba. | D40: 0 | E40: 0 | F40: =VLOOKUP(B40,'Giornata 3'!$B$4:$Z$49,23,FALSE) -> 5 | G40: 0 | H40: =VLOOKUP(B40,'Giornata 5'!$B$3:$X$48,19,FALSE) -> 0 | I40: =VLOOKUP(B40,'Giornata 6'!$B$3:$T$48,19,FALSE) | J40: =SUM(D40:I40) -> 5 | K40: =+J40-MIN(D40:H40) -> 5 | L40: =RANK(K40,$K$4:$K$48) -> 37 | M40: =IF(D40>0, VLOOKUP(B40,'Giornata 1'!$B$4:$V$48,19,FALSE),0)+IF(E40>0, VLOOKUP(B40,'Giornata 2'!$B$5:$X$49,21,FALSE),0)+IF(F40>0, VLOOKUP(B40,'Giornata 3'!$B$5:$Z$49,21,FALSE),0)+IF(G40>0, VLOOKUP(B40,'Giornata 4'!$B$5:$AH$49,31,FALSE),0)+IF(H40>0, VLOOKUP(B40,'Giornata 5'!$B$4:$X$48,21,FALSE),0)+IF(I40>0, VLOOKUP(B40,'Giornata 6'!$B$4:$T$48,17,FALSE),0) -> 0
A41: =A40+1 -> 38 | B41: Ivan Martinelli | C41: =CONCATENATE(LEFT(B41,FIND(" ",B41) + 2),".") -> Ivan Ma. | D41: 0 | E41: 0 | F41: =VLOOKUP(B41,'Giornata 3'!$B$4:$Z$49,23,FALSE) -> 2 | G41: =VLOOKUP(B41,'Giornata 4'!$B$4:$AH$49, 33, FALSE) -> 2 | H41: =VLOOKUP(B41,'Giornata 5'!$B$3:$X$48,19,FALSE) -> 0 | I41: =VLOOKUP(B41,'Giornata 6'!$B$3:$T$48,19,FALSE) | J41: =SUM(D41:I41) -> 4 | K41: =+J41-MIN(D41:H41) -> 4 | L41: =RANK(K41,$K$4:$K$48) -> 38 | M41: =IF(D41>0, VLOOKUP(B41,'Giornata 1'!$B$4:$V$48,19,FALSE),0)+IF(E41>0, VLOOKUP(B41,'Giornata 2'!$B$5:$X$49,21,FALSE),0)+IF(F41>0, VLOOKUP(B41,'Giornata 3'!$B$5:$Z$49,21,FALSE),0)+IF(G41>0, VLOOKUP(B41,'Giornata 4'!$B$5:$AH$49,31,FALSE),0)+IF(H41>0, VLOOKUP(B41,'Giornata 5'!$B$4:$X$48,21,FALSE),0)+IF(I41>0, VLOOKUP(B41,'Giornata 6'!$B$4:$T$48,17,FALSE),0) -> 0
A42: =A41+1 -> 39 | B42: Daniele Pagliuca | C42: =CONCATENATE(LEFT(B42,FIND(" ",B42) + 2),".") -> Daniele Pa. | D42: 0 | E42: 0 | F42: 0 | G42: =VLOOKUP(B42, 'Giornata 4'!$B$4:$AH$49, 31, FALSE) -> 0 | H42: =VLOOKUP(B42,'Giornata 5'!$B$3:$X$48,19,FALSE) -> 0 | I42: =VLOOKUP(B42,'Giornata 6'!$B$3:$T$48,19,FALSE) | J42: =SUM(D42:I42) -> 0 | K42: =+J42-MIN(D42:H42) -> 0 | L42: =RANK(K42,$K$4:$K$48) -> 39 | M42: =IF(D42>0, VLOOKUP(B42,'Giornata 1'!$B$4:$V$48,19,FALSE),0)+IF(E42>0, VLOOKUP(B42,'Giornata 2'!$B$5:$X$49,21,FALSE),0)+IF(F42>0, VLOOKUP(B42,'Giornata 3'!$B$5:$Z$49,21,FALSE),0)+IF(G42>0, VLOOKUP(B42,'Giornata 4'!$B$5:$AH$49,31,FALSE),0)+IF(H42>0, VLOOKUP(B42,'Giornata 5'!$B$4:$X$48,21,FALSE),0)+IF(I42>0, VLOOKUP(B42,'Giornata 6'!$B$4:$T$48,17,FALSE),0) -> 0
A43: =A42+1 -> 40 | B43: Jolly 2 | C43: =CONCATENATE(LEFT(B43,FIND(" ",B43) + 2),".") -> Jolly 2. | D43: 0 | E43: 0 | F43: 0 | G43: =VLOOKUP(B43, 'Giornata 4'!$B$4:$AH$49, 31, FALSE) -> 0 | H43: =VLOOKUP(B43,'Giornata 5'!$B$3:$X$48,19,FALSE) -> 0 | I43: =VLOOKUP(B43,'Giornata 6'!$B$3:$T$48,19,FALSE) | J43: =SUM(D43:I43) -> 0 | K43: =+J43-MIN(D43:H43) -> 0 | L43: =RANK(K43,$K$4:$K$48) -> 39 | M43: =IF(D43>0, VLOOKUP(B43,'Giornata 1'!$B$4:$V$48,19,FALSE),0)+IF(E43>0, VLOOKUP(B43,'Giornata 2'!$B$5:$X$49,21,FALSE),0)+IF(F43>0, VLOOKUP(B43,'Giornata 3'!$B$5:$Z$49,21,FALSE),0)+IF(G43>0, VLOOKUP(B43,'Giornata 4'!$B$5:$AH$49,31,FALSE),0)+IF(H43>0, VLOOKUP(B43,'Giornata 5'!$B$4:$X$48,21,FALSE),0)+IF(I43>0, VLOOKUP(B43,'Giornata 6'!$B$4:$T$48,17,FALSE),0) -> 0
A44: =A43+1 -> 41 | B44: Raffaella Rovignoni | C44: =CONCATENATE(LEFT(B44,FIND(" ",B44) + 2),".") -> Raffaella Ro. | D44: 0 | E44: 0 | F44: 0 | G44: =VLOOKUP(B44, 'Giornata 4'!$B$4:$AH$49, 31, FALSE) -> 0 | H44: =VLOOKUP(B44,'Giornata 5'!$B$3:$X$48,19,FALSE) -> 0 | I44: =VLOOKUP(B44,'Giornata 6'!$B$3:$T$48,19,FALSE) | J44: =SUM(D44:I44) -> 0 | K44: =+J44-MIN(D44:H44) -> 0 | L44: =RANK(K44,$K$4:$K$48) -> 39 | M44: =IF(D44>0, VLOOKUP(B44,'Giornata 1'!$B$4:$V$48,19,FALSE),0)+IF(E44>0, VLOOKUP(B44,'Giornata 2'!$B$5:$X$49,21,FALSE),0)+IF(F44>0, VLOOKUP(B44,'Giornata 3'!$B$5:$Z$49,21,FALSE),0)+IF(G44>0, VLOOKUP(B44,'Giornata 4'!$B$5:$AH$49,31,FALSE),0)+IF(H44>0, VLOOKUP(B44,'Giornata 5'!$B$4:$X$48,21,FALSE),0)+IF(I44>0, VLOOKUP(B44,'Giornata 6'!$B$4:$T$48,17,FALSE),0) -> 0
A45: =A44+1 -> 42 | B45: Alessandrro Corradi | C45: =CONCATENATE(LEFT(B45,FIND(" ",B45) + 2),".") -> Alessandrro Co. | D45: 0 | E45: 0 | F45: =VLOOKUP(B45,'Giornata 3'!$B$4:$Z$49,21,FALSE) -> 0 | G45: =VLOOKUP(B45, 'Giornata 4'!$B$4:$AH$49, 31, FALSE) -> 0 | H45: =VLOOKUP(B45,'Giornata 5'!$B$3:$X$48,19,FALSE) -> 0 | I45: =VLOOKUP(B45,'Giornata 6'!$B$3:$T$48,19,FALSE) | J45: =SUM(D45:I45) -> 0 | K45: =+J45-MIN(D45:H45) -> 0 | L45: =RANK(K45,$K$4:$K$48) -> 39 | M45: =IF(D45>0, VLOOKUP(B45,'Giornata 1'!$B$4:$V$48,19,FALSE),0)+IF(E45>0, VLOOKUP(B45,'Giornata 2'!$B$5:$X$49,21,FALSE),0)+IF(F45>0, VLOOKUP(B45,'Giornata 3'!$B$5:$Z$49,21,FALSE),0)+IF(G45>0, VLOOKUP(B45,'Giornata 4'!$B$5:$AH$49,31,FALSE),0)+IF(H45>0, VLOOKUP(B45,'Giornata 5'!$B$4:$X$48,21,FALSE),0)+IF(I45>0, VLOOKUP(B45,'Giornata 6'!$B$4:$T$48,17,FALSE),0) -> 0
A46: =A45+1 -> 43 | B46: Andrea Procaccino | C46: =CONCATENATE(LEFT(B46,FIND(" ",B46) + 2),".") -> Andrea Pr. | D46: 0 | E46: 0 | F46: =VLOOKUP(B46,'Giornata 3'!$B$4:$Z$49,21,FALSE) -> 0 | G46: =VLOOKUP(B46, 'Giornata 4'!$B$4:$AH$49, 31, FALSE) -> 0 | H46: =VLOOKUP(B46,'Giornata 5'!$B$3:$X$48,19,FALSE) -> 0 | I46: =VLOOKUP(B46,'Giornata 6'!$B$3:$T$48,19,FALSE) | J46: =SUM(D46:I46) -> 0 | K46: =+J46-MIN(D46:H46) -> 0 | L46: =RANK(K46,$K$4:$K$48) -> 39 | M46: =IF(D46>0, VLOOKUP(B46,'Giornata 1'!$B$4:$V$48,19,FALSE),0)+IF(E46>0, VLOOKUP(B46,'Giornata 2'!$B$5:$X$49,21,FALSE),0)+IF(F46>0, VLOOKUP(B46,'Giornata 3'!$B$5:$Z$49,21,FALSE),0)+IF(G46>0, VLOOKUP(B46,'Giornata 4'!$B$5:$AH$49,31,FALSE),0)+IF(H46>0, VLOOKUP(B46,'Giornata 5'!$B$4:$X$48,21,FALSE),0)+IF(I46>0, VLOOKUP(B46,'Giornata 6'!$B$4:$T$48,17,FALSE),0) -> 0
A47: =A46+1 -> 44 | B47: Bruno Padronetti | C47: =CONCATENATE(LEFT(B47,FIND(" ",B47) + 2),".") -> Bruno Pa. | D47: 0 | E47: 0 | F47: =VLOOKUP(B47,'Giornata 3'!$B$4:$Z$49,21,FALSE) -> 0 | G47: =VLOOKUP(B47, 'Giornata 4'!$B$4:$AH$49, 31, FALSE) -> 0 | H47: =VLOOKUP(B47,'Giornata 5'!$B$3:$X$48,19,FALSE) -> 0 | I47: =VLOOKUP(B47,'Giornata 6'!$B$3:$T$48,19,FALSE) | J47: =SUM(D47:I47) -> 0 | K47: =+J47-MIN(D47:H47) -> 0 | L47: =RANK(K47,$K$4:$K$48) -> 39 | M47: =IF(D47>0, VLOOKUP(B47,'Giornata 1'!$B$4:$V$48,19,FALSE),0)+IF(E47>0, VLOOKUP(B47,'Giornata 2'!$B$5:$X$49,21,FALSE),0)+IF(F47>0, VLOOKUP(B47,'Giornata 3'!$B$5:$Z$49,21,FALSE),0)+IF(G47>0, VLOOKUP(B47,'Giornata 4'!$B$5:$AH$49,31,FALSE),0)+IF(H47>0, VLOOKUP(B47,'Giornata 5'!$B$4:$X$48,21,FALSE),0)+IF(I47>0, VLOOKUP(B47,'Giornata 6'!$B$4:$T$48,17,FALSE),0) -> 0
A48: =A47+1 -> 45 | B48: Claudio Marinangeli | C48: =CONCATENATE(LEFT(B48,FIND(" ",B48) + 2),".") -> Claudio Ma. | D48: 0 | E48: 0 | F48: =VLOOKUP(B48,'Giornata 3'!$B$4:$Z$49,21,FALSE) -> 0 | G48: =VLOOKUP(B48, 'Giornata 4'!$B$4:$AH$49, 31, FALSE) -> 0 | H48: =VLOOKUP(B48,'Giornata 5'!$B$3:$X$48,19,FALSE) -> 0 | I48: =VLOOKUP(B48,'Giornata 6'!$B$3:$T$48,19,FALSE) | J48: =SUM(D48:I48) -> 0 | K48: =+J48-MIN(D48:H48) -> 0 | L48: =RANK(K48,$K$4:$K$48) -> 39 | M48: =IF(D48>0, VLOOKUP(B48,'Giornata 1'!$B$4:$V$48,19,FALSE),0)+IF(E48>0, VLOOKUP(B48,'Giornata 2'!$B$5:$X$49,21,FALSE),0)+IF(F48>0, VLOOKUP(B48,'Giornata 3'!$B$5:$Z$49,21,FALSE),0)+IF(G48>0, VLOOKUP(B48,'Giornata 4'!$B$5:$AH$49,31,FALSE),0)+IF(H48>0, VLOOKUP(B48,'Giornata 5'!$B$4:$X$48,21,FALSE),0)+IF(I48>0, VLOOKUP(B48,'Giornata 6'!$B$4:$T$48,17,FALSE),0) -> 0
C49: NB: 0 Punti indica che il giocatore non ha partecipato alla giornata

Sheet Giornata 1
F1: 10 | G1: 1 | H1: 5 | I1: -10 | J1: -20
E2: Partita 1 | L2: Partita 2 | S2: TOTALE
A3: 0 | B3: Nome Cognome | C3: Nome | D3: Presenza | E3: Fazione | F3: Vittoria | G3: Colpi Inferti | H3: Aerial Victory | I3: Abbattuto | J3: Uscito | K3: Punti Partita | L3: Fazione | M3: Vittoria | N3: Colpi Inferti | O3: Aerial Victory | P3: Abbattuto | Q3: Uscito | R3: Punti Partita | S3: Punti | T3: Aerial Victory | U3: Ordine | V3: Pt
A4: =A3+1 -> 1 | B4: Alessandrro Corradi | C4: =CONCATENATE(LEFT(B4,FIND(" ",B4) + 2),".") -> Alessandrro Co. | D4: 0 | K4: =SUMPRODUCT($F$1:$J$1,F4:J4) -> 0 | R4: =SUMPRODUCT($F$1:$J$1,M4:Q4) -> 0 | S4: =IF(D4=1,K4+R4,"") | T4: =H4+O4 -> 0 | U4: =IF(D4=1,RANK(S4,$S$4:$S$48)," ") | V4: =IF(D4=1,(($D$49-U4+1)+IF(U4=1,5,IF(U4=2,3,IF(U4=3,1,0))))," ")
A5: =A4+1 -> 2 | B5: Andrea Procaccino | C5: =CONCATENATE(LEFT(B5,FIND(" ",B5) + 2),".") -> Andrea Pr. | D5: 0 | K5: =SUMPRODUCT($F$1:$J$1,F5:J5) -> 0 | R5: =SUMPRODUCT($F$1:$J$1,M5:Q5) -> 0 | S5: =IF(D5=1,K5+R5,"") | T5: =H5+O5 -> 0 | U5: =IF(D5=1,RANK(S5,$S$4:$S$48)," ") | V5: =IF(D5=1,(($D$49-U5+1)+IF(U5=1,5,IF(U5=2,3,IF(U5=3,1,0))))," ")
A6: =A5+1 -> 3 | B6: Barbara Von Rust | C6: =CONCATENATE(LEFT(B6,FIND(" ",B6) + 2),".") -> Barbara Vo. | D6: 0 | K6: =SUMPRODUCT($F$1:$J$1,F6:J6) -> 0 | R6: =SUMPRODUCT($F$1:$J$1,M6:Q6) -> 0 | S6: =IF(D6=1,K6+R6,"") | T6: =H6+O6 -> 0 | U6: =IF(D6=1,RANK(S6,$S$4:$S$48)," ") | V6: =IF(D6=1,(($D$49-U6+1)+IF(U6=1,5,IF(U6=2,3,IF(U6=3,1,0))))," ")
A7: =A6+1 -> 4 | B7: Bruno Padronetti | C7: =CONCATENATE(LEFT(B7,FIND(" ",B7) + 2),".") -> Bruno Pa. | D7: 0 | K7: =SUMPRODUCT($F$1:$J$1,F7:J7) -> 0 | R7: =SUMPRODUCT($F$1:$J$1,M7:Q7) -> 0 | S7: =IF(D7=1,K7+R7,"") | T7: =H7+O7 -> 0 | U7: =IF(D7=1,RANK(S7,$S$4:$S$48)," ") | V7: =IF(D7=1,(($D$49-U7+1)+IF(U7=1,5,IF(U7=2,3,IF(U7=3,1,0))))," ")
A8: =A7+1 -> 5 | B8: Claudio Marinangeli | C8: =CONCATENATE(LEFT(B8,FIND(" ",B8) + 2),".") -> Claudio Ma. | D8: 0 | K8: =SUMPRODUCT($F$1:$J$1,F8:J8) -> 0 | R8: =SUMPRODUCT($F$1:$J$1,M8:Q8) -> 0 | S8: =IF(D8=1,K8+R8,"") | T8: =H8+O8 -> 0 | U8: =IF(D8=1,RANK(S8,$S$4:$S$48)," ") | V8: =IF(D8=1,(($D$49-U8+1)+IF(U8=1,5,IF(U8=2,3,IF(U8=3,1,0))))," ")
A9: =A8+1 -> 6 | B9: Daniele Ferrini | C9: =CONCATENATE(LEFT(B9,FIND(" ",B9) + 2),".") -> Daniele Fe. | D9: 0 | K9: =SUMPRODUCT($F$1:$J$1,F9:J9) -> 0 | R9: =SUMPRODUCT($F$1:$J$1,M9:Q9) -> 0 | S9: =IF(D9=1,K9+R9,"") | T9: =O10+O9 -> 0 | U9: =IF(D9=1,RANK(S9,$S$4:$S$48)," ") | V9: =IF(D9=1,(($D$49-U9+1)+IF(U9=1,5,IF(U9=2,3,IF(U9=3,1,0))))," ")
A10: =A9+1 -> 7 | B10: Daniele Pagliuca | C10: =CONCATENATE(LEFT(B10,FIND(" ",B10) + 2),".") -> Daniele Pa. | D10: 0 | K10: =SUMPRODUCT($F$1:$J$1,F10:J10) -> 0 | R10: =SUMPRODUCT($F$1:$J$1,M10:Q10) -> 0 | S10: =IF(D10=1,K10+R10,"") | T10: =H10+O10 -> 0 | U10: =IF(D10=1,RANK(S10,$S$4:$S$48)," ") | V10: =IF(D10=1,(($D$49-U10+1)+IF(U10=1,5,IF(U10=2,3,IF(U10=3,1,0))))," ")
A11: =A10+1 -> 8 | B11: Francesco Marradi | C11: =CONCATENATE(LEFT(B11,FIND(" ",B11) + 2),".") -> Francesco Ma. | D11: 0 | S11: =IF(D11=1,K11+R11,"") | T11: =H11+O11 -> 0 | U11: =IF(D11=1,RANK(S11,$S$4:$S$48)," ") | V11: =IF(D11=1,(($D$49-U11+1)+IF(U11=1,5,IF(U11=2,3,IF(U11=3,1,0))))," ")
A12: =A11+1 -> 9 | B12: Francesco Ulmo | C12: =CONCATENATE(LEFT(B12,FIND(" ",B12) + 2),".") -> Francesco Ul. | D12: 0 | S12: =IF(D12=1,K12+R12,"") | T12: =H12+O12 -> 0 | U12: =IF(D12=1,RANK(S12,$S$4:$S$48)," ") | V12: =IF(D12=1,(($D$49-U12+1)+IF(U12=1,5,IF(U12=2,3,IF(U12=3,1,0))))," ")
A13: =A12+1 -> 10 | B13: Gino Lucrezi | C13: =CONCATENATE(LEFT(B13,FIND(" ",B13) + 2),".") -> Gino Lu. | D13: 0 | K13: =SUMPRODUCT($F$1:$J$1,F13:J13) -> 0 | R13: =SUMPRODUCT($F$1:$J$1,M13:Q13) -> 0 | S13: =IF(D13=1,K13+R13,"") | T13: =H13+O13 -> 0 | U13: =IF(D13=1,RANK(S13,$S$4:$S$48)," ") | V13: =IF(D13=1,(($D$49-U13+1)+IF(U13=1,5,IF(U13=2,3,IF(U13=3,1,0))))," ")
A14: =A13+1 -> 11 | B14: Ivan Martinelli | C14: =CONCATENATE(LEFT(B14,FIND(" ",B14) + 2),".") -> Ivan Ma. | D14: 0 | S14: =IF(D14=1,K14+R14,"") | T14: =H14+O14 -> 0 | U14: =IF(D14=1,RANK(S14,$S$4:$S$48)," ") | V14: =IF(D14=1,(($D$49-U14+1)+IF(U14=1,5,IF(U14=2,3,IF(U14=3,1,0))))," ")
A15: =A14+1 -> 12 | B15: Jolly 1 | C15: =CONCATENATE(LEFT(B15,FIND(" ",B15) + 2),".") -> Jolly 1. | D15: 0 | K15: =SUMPRODUCT($F$1:$J$1,F15:J15) -> 0 | R15: =SUMPRODUCT($F$1:$J$1,M15:Q15) -> 0 | S15: =IF(D15=1,K15+R15,"") | T15: =H15+O15 -> 0 | U15: =IF(D15=1,RANK(S15,$S$4:$S$48)," ") | V15: =IF(D15=1,(($D$49-U15+1)+IF(U15=1,5,IF(U15=2,3,IF(U15=3,1,0))))," ")
A16: =A15+1 -> 13 | B16: Jolly 2 | C16: =CONCATENATE(LEFT(B16,FIND(" ",B16) + 2),".") -> Jolly 2. | D16: 0 | K16: =SUMPRODUCT($F$1:$J$1,F16:J16) -> 0 | R16: =SUMPRODUCT($F$1:$J$1,M16:Q16) -> 0 | S16: =IF(D16=1,K16+R16,"") | T16: =H16+O16 -> 0 | U16: =IF(D16=1,RANK(S16,$S$4:$S$48)," ") | V16: =IF(D16=1,(($D$49-U16+1)+IF(U16=1,5,IF(U16=2,3,IF(U16=3,1,0))))," ")
A17: =A16+1 -> 14 | B17: Laura Di Marco | C17: =CONCATENATE(LEFT(B17,FIND(" ",B17) + 2),".") -> Laura Di. | D17: 0 | K17: =SUMPRODUCT($F$1:$J$1,F17:J17) -> 0 | R17: =SUMPRODUCT($F$1:$J$1,M17:Q17) -> 0 | S17: =IF(D17=1,K17+R17,"") | T17: =H17+O17 -> 0 | U17: =IF(D17=1,RANK(S17,$S$4:$S$48)," ") | V17: =IF(D17=1,(($D$49-U17+1)+IF(U17=1,5,IF(U17=2,3,IF(U17=3,1,0))))," ")
A18: =A17+1 -> 15 | B18: Luca Postumi | C18: =CONCATENATE(LEFT(B18,FIND(" ",B18) + 2),".") -> Luca Po. | D18: 0 | K18: =SUMPRODUCT($F$1:$J$1,F18:J18) -> 0 | R18: =SUMPRODUCT($F$1:$J$1,M18:Q18) -> 0 | S18: =IF(D18=1,K18+R18,"") | T18: =H18+O18 -> 0 | U18: =IF(D18=1,RANK(S18,$S$4:$S$48)," ") | V18: =IF(D18=1,(($D$49-U18+1)+IF(U18=1,5,IF(U18=2,3,IF(U18=3,1,0))))," ")
A19: =A18+1 -> 16 | B19: Marco Tambara | C19: =CONCATENATE(LEFT(B19,FIND(" ",B19) + 2),".") -> Marco Ta. | D19: 0 | K19: =SUMPRODUCT($F$1:$J$1,F19:J19) -> 0 | R19: =SUMPRODUCT($F$1:$J$1,M19:Q19) -> 0 | S19: =IF(D19=1,K19+R19,"") | T19: =H19+O19 -> 0 | U19: =IF(D19=1,RANK(S19,$S$4:$S$48)," ") | V19: =IF(D19=1,(($D$49-U19+1)+IF(U19=1,5,IF(U19=2,3,IF(U19=3,1,0))))," ")
A20: =A19+1 -> 17 | B20: Massimo Malerba | C20: =CONCATENATE(LEFT(B20,FIND(" ",B20) + 2),".") -> Massimo Ma. | D20: 0 | K20: =SUMPRODUCT($F$1:$J$1,F20:J20) -> 0 | R20: =SUMPRODUCT($F$1:$J$1,M20:Q20) -> 0 | S20: =IF(D20=1,K20+R20,"") | T20: =H20+O20 -> 0 | U20: =IF(D20=1,RANK(S20,$S$4:$S$48)," ") | V20: =IF(D20=1,(($D$49-U20+1)+IF(U20=1,5,IF(U20=2,3,IF(U20=3,1,0))))," ")
A21: =A20+1 -> 18 | B21: Michele Balasso | C21: =CONCATENATE(LEFT(B21,FIND(" ",B21) + 2),".") -> Michele Ba. | D21: 0 | K21: =SUMPRODUCT($F$1:$J$1,F21:J21) -> 0 | R21: =SUMPRODUCT($F$1:$J$1,M21:Q21) -> 0 | S21: =IF(D21=1,K21+R21,"") | T21: =H21+O21 -> 0 | U21: =IF(D21=1,RANK(S21,$S$4:$S$48)," ") | V21: =IF(D21=1,(($D$49-U21+1)+IF(U21=1,5,IF(U21=2,3,IF(U21=3,1,0))))," ")
A22: =A21+1 -> 19 | B22: Raffaella Rovignoni | C22: =CONCATENATE(LEFT(B22,FIND(" ",B22) + 2),".") -> Raffaella Ro. | D22: 0 | K22: =SUMPRODUCT($F$1:$J$1,F22:J22) -> 0 | R22: =SUMPRODUCT($F$1:$J$1,M22:Q22) -> 0 | S22: =IF(D22=1,K22+R22,"") | T22: =H22+O22 -> 0 | U22: =IF(D22=1,RANK(S22,$S$4:$S$48)," ") | V22: =IF(D22=1,(($D$49-U22+1)+IF(U22=1,5,IF(U22=2,3,IF(U22=3,1,0))))," ")
A23: =A22+1 -> 20 | B23: Stefano Tiribocchi | C23: =CONCATENATE(LEFT(B23,FIND(" ",B23) + 2),".") -> Stefano Ti. | D23: 0 | K23: =SUMPRODUCT($F$1:$J$1,F23:J23) -> 0 | R23: =SUMPRODUCT($F$1:$J$1,M23:Q23) -> 0 | S23: =IF(D23=1,K23+R23,"") | T23: =H23+O23 -> 0 | U23: =IF(D23=1,RANK(S23,$S$4:$S$48)," ") | V23: =IF(D23=1,(($D$49-U23+1)+IF(U23=1,5,IF(U23=2,3,IF(U23=3,1,0))))," ")
A24: =A23+1 -> 21 | B24: Valerio Ferrandino | C24: =CONCATENATE(LEFT(B24,FIND(" ",B24) + 2),".") -> Valerio Fe. | D24: 0 | K24: =SUMPRODUCT($F$1:$J$1,F24:J24) -> 0 | R24: =SUMPRODUCT($F$1:$J$1,M24:Q24) -> 0 | S24: =IF(D24=1,K24+R24,"") | T24: =H24+O24 -> 0 | U24: =IF(D24=1,RANK(S24,$S$4:$S$48)," ") | V24: =IF(D24=1,(($D$49-U24+1)+IF(U24=1,5,IF(U24=2,3,IF(U24=3,1,0))))," ")
A25: =A24+1 -> 22 | B25: Alessandro Babbi | C25: =CONCATENATE(LEFT(B25,FIND(" ",B25) + 2),".") -> Alessandro Ba. | D25: 1 | E25: Intesa | F25: 1 | G25: 17 | H25: 2 | K25: =SUMPRODUCT($F$1:$J$1,F25:J25) -> 37 | L25: Imperi | M25: 1 | N25: 13 | O25: 1 | R25: =SUMPRODUCT($F$1:$J$1,M25:Q25) -> 28 | S25: =IF(D25=1,K25+R25,"") -> 65 | T25: =H25+O25 -> 3 | U25: =IF(D25=1,RANK(S25,$S$4:$S$48)," ") -> 1 | V25: =IF(D25=1,(($D$49-U25+1)+IF(U25=1,5,IF(U25=2,3,IF(U25=3,1,0))))," ") -> 29
A26: =A25+1 -> 23 | B26: Artemisia Von Rust | C26: =CONCATENATE(LEFT(B26,FIND(" ",B26) + 2),".") -> Artemisia Vo. | D26: 1 | E26: Intesa | F26: 1 | G26: 16 | H26: 1 | K26: =SUMPRODUCT($F$1:$J$1,F26:J26) -> 31 | L26: Imperi | M26: 1 | N26: 18 | R26: =SUMPRODUCT($F$1:$J$1,M26:Q26) -> 28 | S26: =IF(D26=1,K26+R26,"") -> 59 | T26: =H26+O26 -> 1 | U26: =IF(D26=1,RANK(S26,$S$4:$S$48)," ") -> 2 | V26: =IF(D26=1,(($D$49-U26+1)+IF(U26=1,5,IF(U26=2,3,IF(U26=3,1,0))))," ") -> 26
A27: =A26+1 -> 24 | B27: Massimo Mollica | C27: =CONCATENATE(LEFT(B27,FIND(" ",B27) + 2),".") -> Massimo Mo. | D27: 1 | E27: Intesa | F27: 1 | G27: 12 | H27: 1 | K27: =SUMPRODUCT($F$1:$J$1,F27:J27) -> 27 | L27: Imperi | M27: 1 | N27: 17 | R27: =SUMPRODUCT($F$1:$J$1,M27:Q27) -> 27 | S27: =IF(D27=1,K27+R27,"") -> 54 | T27: =H27+O27 -> 1 | U27: =IF(D27=1,RANK(S27,$S$4:$S$48)," ") -> 3 | V27: =IF(D27=1,(($D$49-U27+1)+IF(U27=1,5,IF(U27=2,3,IF(U27=3,1,0))))," ") -> 23
A28: =A27+1 -> 25 | B28: Stefano Von Dadden | C28: =CONCATENATE(LEFT(B28,FIND(" ",B28) + 2),".") -> Stefano Vo. | D28: 1 | E28: Intesa | F28: 1 | G28: 18 | H28: 2 | K28: =SUMPRODUCT($F$1:$J$1,F28:J28) -> 38 | L28: Imperi | N28: 19 | P28: 1 | R28: =SUMPRODUCT($F$1:$J$1,M28:Q28) -> 9 | S28: =IF(D28=1,K28+R28,"") -> 47 | T28: =H28+O28 -> 2 | U28: =IF(D28=1,RANK(S28,$S$4:$S$48)," ") -> 4 | V28: =IF(D28=1,(($D$49-U28+1)+IF(U28=1,5,IF(U28=2,3,IF(U28=3,1,0))))," ") -> 21
A29: =A28+1 -> 26 | B29: Franco Napoleoni | C29: =CONCATENATE(LEFT(B29,FIND(" ",B29) + 2),".") -> Franco Na. | D29: 1 | E29: Intesa | F29: 1 | G29: 15 | H29: 1 | K29: =SUMPRODUCT($F$1:$J$1,F29:J29) -> 30 | L29: Imperi | N29: 14 | R29: =SUMPRODUCT($F$1:$J$1,M29:Q29) -> 14 | S29: =IF(D29=1,K29+R29,"") -> 44 | T29: =H29+O29 -> 1 | U29: =IF(D29=1,RANK(S29,$S$4:$S$48)," ") -> 5 | V29: =IF(D29=1,(($D$49-U29+1)+IF(U29=1,5,IF(U29=2,3,IF(U29=3,1,0))))," ") -> 20
A30: =A29+1 -> 27 | B30: Francesco Berucci | C30: =CONCATENATE(LEFT(B30,FIND(" ",B30) + 2),".") -> Francesco Be. | D30: 1 | E30: Intesa | F30: 1 | G30: 13 | H30: 2 | K30: =SUMPRODUCT($F$1:$J$1,F30:J30) -> 33 | L30: Imperi | N30: 15 | O30: 1 | P30: 1 | R30: =SUMPRODUCT($F$1:$J$1,M30:Q30) -> 10 | S30: =IF(D30=1,K30+R30,"") -> 43 | T30: =H30+O30 -> 3 | U30: =IF(D30=1,RANK(S30,$S$4:$S$48)," ") -> 6 | V30: =IF(D30=1,(($D$49-U30+1)+IF(U30=1,5,IF(U30=2,3,IF(U30=3,1,0))))," ") -> 19
A31: =A30+1 -> 28 | B31: Riccardo Vadalà | C31: =CONCATENATE(LEFT(B31,FIND(" ",B31) + 2),".") -> Riccardo Va. | D31: 1 | E31: Intesa | F31: 1 | G31: 11 | I31: 1 | K31: =SUMPRODUCT($F$1:$J$1,F31:J31) -> 11 | L31: Imperi | M31: 1 | N31: 13 | O31: 1 | R31: =SUMPRODUCT($F$1:$J$1,M31:Q31) -> 28 | S31: =IF(D31=1,K31+R31,"") -> 39 | T31: =H31+O31 -> 1 | U31: =IF(D31=1,RANK(S31,$S$4:$S$48)," ") -> 7 | V31: =IF(D31=1,(($D$49-U31+1)+IF(U31=1,5,IF(U31=2,3,IF(U31=3,1,0))))," ") -> 18
A32: =A31+1 -> 29 | B32: Christian Vitale | C32: =CONCATENATE(LEFT(B32,FIND(" ",B32) + 2),".") -> Christian Vi. | D32: 1 | E32: Intesa | F32: 1 | G32: 16 | H32: 1 | K32: =SUMPRODUCT($F$1:$J$1,F32:J32) -> 31 | L32: Imperi | N32: 17 | P32: 1 | R32: =SUMPRODUCT($F$1:$J$1,M32:Q32) -> 7 | S32: =IF(D32=1,K32+R32,"") -> 38 | T32: =H32+O32 -> 1 | U32: =IF(D32=1,RANK(S32,$S$4:$S$48)," ") -> 8 | V32: =IF(D32=1,(($D$49-U32+1)+IF(U32=1,5,IF(U32=2,3,IF(U32=3,1,0))))," ") -> 17
A33: =A32+1 -> 30 | B33: Alberto Panicucci | C33: =CONCATENATE(LEFT(B33,FIND(" ",B33) + 2),".") -> Alberto Pa. | D33: 1 | E33: Intesa | F33: 1 | G33: 20 | H33: 2 | K33: =SUMPRODUCT($F$1:$J$1,F33:J33) -> 40 | L33: Imperi | N33: 7 | P33: 1 | R33: =SUMPRODUCT($F$1:$J$1,M33:Q33) -> -3 | S33: =IF(D33=1,K33+R33,"") -> 37 | T33: =H33+O33 -> 2 | U33: =IF(D33=1,RANK(S33,$S$4:$S$48)," ") -> 9 | V33: =IF(D33=1,(($D$49-U33+1)+IF(U33=1,5,IF(U33=2,3,IF(U33=3,1,0))))," ") -> 16
A34: =A33+1 -> 31 | B34: Giuseppe Tamba | C34: =CONCATENATE(LEFT(B34,FIND(" ",B34) + 2),".") -> Giuseppe Ta. | D34: 1 | E34: Intesa | G34: 9 | H34: 1 | K34: =SUMPRODUCT($F$1:$J$1,F34:J34) -> 14 | L34: Imperi | M34: 1 | N34: 10 | R34: =SUMPRODUCT($F$1:$J$1,M34:Q34) -> 20 | S34: =IF(D34=1,K34+R34,"") -> 34 | T34: =H34+O34 -> 1 | U34: =IF(D34=1,RANK(S34,$S$4:$S$48)," ") -> 10 | V34: =IF(D34=1,(($D$49-U34+1)+IF(U34=1,5,IF(U34=2,3,IF(U34=3,1,0))))," ") -> 15
A35: =A34+1 -> 32 | B35: Federico Mollica | C35: =CONCATENATE(LEFT(B35,FIND(" ",B35) + 2),".") -> Federico Mo. | D35: 1 | E35: Intesa | F35: 1 | G35: 17 | K35: =SUMPRODUCT($F$1:$J$1,F35:J35) -> 27 | L35: Imperi | N35: 16 | P35: 1 | R35: =SUMPRODUCT($F$1:$J$1,M35:Q35) -> 6 | S35: =IF(D35=1,K35+R35,"") -> 33 | T35: =H35+O35 -> 0 | U35: =IF(D35=1,RANK(S35,$S$4:$S$48)," ") -> 11 | V35: =IF(D35=1,(($D$49-U35+1)+IF(U35=1,5,IF(U35=2,3,IF(U35=3,1,0))))," ") -> 14
A36: =A35+1 -> 33 | B36: Andrea Morviducci | C36: =CONCATENATE(LEFT(B36,FIND(" ",B36) + 2),".") -> Andrea Mo. | D36: 1 | E36: Intesa | F36: 1 | G36: 13 | H36: 1 | K36: =SUMPRODUCT($F$1:$J$1,F36:J36) -> 28 | L36: Imperi | N36: 14 | P36: 1 | R36: =SUMPRODUCT($F$1:$J$1,M36:Q36) -> 4 | S36: =IF(D36=1,K36+R36,"") -> 32 | T36: =H36+O36 -> 1 | U36: =IF(D36=1,RANK(S36,$S$4:$S$48)," ") -> 12 | V36: =IF(D36=1,(($D$49-U36+1)+IF(U36=1,5,IF(U36=2,3,IF(U36=3,1,0))))," ") -> 13
A37: =A36+1 -> 34 | B37: Fabio Zanelli | C37: =CONCATENATE(LEFT(B37,FIND(" ",B37) + 2),".") -> Fabio Za. | D37: 1 | E37: Intesa | F37: 1 | G37: 19 | H37: 1 | K37: =SUMPRODUCT($F$1:$J$1,F37:J37) -> 34 | L37: Imperi | N37: 7 | P37: 1 | R37: =SUMPRODUCT($F$1:$J$1,M37:Q37) -> -3 | S37: =IF(D37=1,K37+R37,"") -> 31 | T37: =H37+O37 -> 1 | U37: =IF(D37=1,RANK(S37,$S$4:$S$48)," ") -> 13 | V37: =IF(D37=1,(($D$49-U37+1)+IF(U37=1,5,IF(U37=2,3,IF(U37=3,1,0))))," ") -> 12
A38: =A37+1 -> 35 | B38: Francesco Petraroli | C38: =CONCATENATE(LEFT(B38,FIND(" ",B38) + 2),".") -> Francesco Pe. | D38: 1 | E38: Intesa | G38: 19 | H38: 1 | K38: =SUMPRODUCT($F$1:$J$1,F38:J38) -> 24 | L38: Imperi | N38: 12 | P38: 1 | R38: =SUMPRODUCT($F$1:$J$1,M38:Q38) -> 2 | S38: =IF(D38=1,K38+R38,"") -> 26 | T38: =H38+O38 -> 1 | U38: =IF(D38=1,RANK(S38,$S$4:$S$48)," ") -> 14 | V38: =IF(D38=1,(($D$49-U38+1)+IF(U38=1,5,IF(U38=2,3,IF(U38=3,1,0))))," ") -> 11
A39: =A38+1 -> 36 | B39: Riccardo Rigillo | C39: =CONCATENATE(LEFT(B39,FIND(" ",B39) + 2),".") -> Riccardo Ri. | D39: 1 | E39: Intesa | F39: 1 | G39: 12 | K39: =SUMPRODUCT($F$1:$J$1,F39:J39) -> 22 | L39: Imperi | N39: 11 | P39: 1 | R39: =SUMPRODUCT($F$1:$J$1,M39:Q39) -> 1 | S39: =IF(D39=1,K39+R39,"") -> 23 | T39: =H39+O39 -> 0 | U39: =IF(D39=1,RANK(S39,$S$4:$S$48)," ") -> 15 | V39: =IF(D39=1,(($D$49-U39+1)+IF(U39=1,5,IF(U39=2,3,IF(U39=3,1,0))))," ") -> 10
A40: =A39+1 -> 37 | B40: Ken Jones | C40: =CONCATENATE(LEFT(B40,FIND(" ",B40) + 2),".") -> Ken Jo. | D40: 1 | E40: Intesa | F40: 1 | G40: 10 | H40: 1 | K40: =SUMPRODUCT($F$1:$J$1,F40:J40) -> 25 | L40: Imperi | N40: 6 | P40: 1 | R40: =SUMPRODUCT($F$1:$J$1,M40:Q40) -> -4 | S40: =IF(D40=1,K40+R40,"") -> 21 | T40: =H40+O40 -> 1 | U40: =IF(D40=1,RANK(S40,$S$4:$S$48)," ") -> 16 | V40: =IF(D40=1,(($D$49-U40+1)+IF(U40=1,5,IF(U40=2,3,IF(U40=3,1,0))))," ") -> 9
A41: =A40+1 -> 38 | B41: Maurizio Vitale | C41: =CONCATENATE(LEFT(B41,FIND(" ",B41) + 2),".") -> Maurizio Vi. | D41: 1 | E41: Intesa | F41: 1 | G41: 12 | K41: =SUMPRODUCT($F$1:$J$1,F41:J41) -> 22 | L41: Imperi | N41: 6 | P41: 1 | R41: =SUMPRODUCT($F$1:$J$1,M41:Q41) -> -4 | S41: =IF(D41=1,K41+R41,"") -> 18 | T41: =H41+O41 -> 0 | U41: =IF(D41=1,RANK(S41,$S$4:$S$48)," ") -> 17 | V41: =IF(D41=1,(($D$49-U41+1)+IF(U41=1,5,IF(U41=2,3,IF(U41=3,1,0))))," ") -> 8
A42: =A41+1 -> 39 | B42: Andrea Garello | C42: =CONCATENATE(LEFT(B42,FIND(" ",B42) + 2),".") -> Andrea Ga. | D42: 1 | E42: Intesa | G42: 10 | J42: 1 | K42: =SUMPRODUCT($F$1:$J$1,F42:J42) -> -10 | L42: Imperi | M42: 1 | N42: 15 | R42: =SUMPRODUCT($F$1:$J$1,M42:Q42) -> 25 | S42: =IF(D42=1,K42+R42,"") -> 15 | T42: =H42+O42 -> 0 | U42: =IF(D42=1,RANK(S42,$S$4:$S$48)," ") -> 18 | V42: =IF(D42=1,(($D$49-U42+1)+IF(U42=1,5,IF(U42=2,3,IF(U42=3,1,0))))," ") -> 7
A43: =A42+1 -> 40 | B43: Daniel Terracina | C43: =CONCATENATE(LEFT(B43,FIND(" ",B43) + 2),".") -> Daniel Te. | D43: 1 | E43: Intesa | G43: 12 | I43: 1 | K43: =SUMPRODUCT($F$1:$J$1,F43:J43) -> 2 | L43: Imperi | M43: 1 | N43: 8 | O43: 1 | P43: 1 | R43: =SUMPRODUCT($F$1:$J$1,M43:Q43) -> 13 | S43: =IF(D43=1,K43+R43,"") -> 15 | T43: =O44+O43 -> 1 | U43: =IF(D43=1,RANK(S43,$S$4:$S$48)," ") -> 18 | V43: =IF(D43=1,(($D$49-U43+1)+IF(U43=1,5,IF(U43=2,3,IF(U43=3,1,0))))," ") -> 7
A44: =A43+1 -> 41 | B44: Massimo Berucci | C44: =CONCATENATE(LEFT(B44,FIND(" ",B44) + 2),".") -> Massimo Be. | D44: 1 | E44: Intesa | F44: 1 | G44: 10 | H44: 1 | K44: =SUMPRODUCT($F$1:$J$1,F44:J44) -> 25 | L44: Imperi | N44: 0 | P44: 1 | R44: =SUMPRODUCT($F$1:$J$1,M44:Q44) -> -10 | S44: =IF(D44=1,K44+R44,"") -> 15 | T44: =H44+O44 -> 1 | U44: =IF(D44=1,RANK(S44,$S$4:$S$48)," ") -> 18 | V44: =IF(D44=1,(($D$49-U44+1)+IF(U44=1,5,IF(U44=2,3,IF(U44=3,1,0))))," ") -> 7
A45: =A44+1 -> 42 | B45: Alberto Garello | C45: =CONCATENATE(LEFT(B45,FIND(" ",B45) + 2),".") -> Alberto Ga. | D45: 1 | E45: Intesa | G45: 5 | I45: 1 | K45: =SUMPRODUCT($F$1:$J$1,F45:J45) -> -5 | L45: Imperi | M45: 1 | N45: 13 | O45: 1 | P45: 1 | R45: =SUMPRODUCT($F$1:$J$1,M45:Q45) -> 18 | S45: =IF(D45=1,K45+R45,"") -> 13 | T45: =H45+O45 -> 1 | U45: =IF(D45=1,RANK(S45,$S$4:$S$48)," ") -> 21 | V45: =IF(D45=1,(($D$49-U45+1)+IF(U45=1,5,IF(U45=2,3,IF(U45=3,1,0))))," ") -> 4
A46: =A45+1 -> 43 | B46: Daniele Petraroli | C46: =CONCATENATE(LEFT(B46,FIND(" ",B46) + 2),".") -> Daniele Pe. | D46: 1 | E46: Intesa | G46: 4 | K46: =SUMPRODUCT($F$1:$J$1,F46:J46) -> 4 | L46: Imperi | N46: 11 | P46: 1 | R46: =SUMPRODUCT($F$1:$J$1,M46:Q46) -> 1 | S46: =IF(D46=1,K46+R46,"") -> 5 | T46: =H46+O46 -> 0 | U46: =IF(D46=1,RANK(S46,$S$4:$S$48)," ") -> 22 | V46: =IF(D46=1,(($D$49-U46+1)+IF(U46=1,5,IF(U46=2,3,IF(U46=3,1,0))))," ") -> 3
A47: =A46+1 -> 44 | B47: Paolo Valerio | C47: =CONCATENATE(LEFT(B47,FIND(" ",B47) + 2),".") -> Paolo Va. | D47: 1 | E47: Intesa | G47: 8 | I47: 1 | K47: =SUMPRODUCT($F$1:$J$1,F47:J47) -> -2 | L47: Imperi | N47: 8 | P47: 1 | R47: =SUMPRODUCT($F$1:$J$1,M47:Q47) -> -2 | S47: =IF(D47=1,K47+R47,"") -> -4 | T47: =H47+O47 -> 0 | U47: =IF(D47=1,RANK(S47,$S$4:$S$48)," ") -> 23 | V47: =IF(D47=1,(($D$49-U47+1)+IF(U47=1,5,IF(U47=2,3,IF(U47=3,1,0))))," ") -> 2
A48: =A47+1 -> 45 | B48: Erminio Serio | C48: =CONCATENATE(LEFT(B48,FIND(" ",B48) + 2),".") -> Erminio Se. | D48: 1 | E48: Intesa | G48: 4 | I48: 1 | K48: =SUMPRODUCT($F$1:$J$1,F48:J48) -> -6 | L48: Imperi | N48: 4 | P48: 1 | R48: =SUMPRODUCT($F$1:$J$1,M48:Q48) -> -6 | S48: =IF(D48=1,K48+R48,"") -> -12 | T48: =H48+O48 -> 0 | U48: =IF(D48=1,RANK(S48,$S$4:$S$48)," ") -> 24 | V48: =IF(D48=1,(($D$49-U48+1)+IF(U48=1,5,IF(U48=2,3,IF(U48=3,1,0))))," ") -> 1
C49: Tot Presenti | D49: =SUM(D4:D48) -> 24

Sheet Giornata 2
E1: 10 | F1: 1 | G1: 2 | H1: 5 | I1: 10 | J1: -10 | K1: -20
C2: RIEPILOGO PUNTEGGI SECONDA GIORNATA
E3: INTESA | M3: IMPERI | U3: TOTALE
A4: 0 | B4: Nome Cognome | C4: Nome | D4: Presenza | E4: Vittoria | F4: Colpi Inferti | G4: Machine Gun Straffing | H4: Aerial Victory | I4: Postazione distrutta | J4: Abbattuto | K4: Uscito | L4: Punti Intesa | M4: Vittoria | N4: Colpi Inferti | O4: Machine Gun Straffing | P4: Aerial Victory | Q4: Postazione distrutta | R4: Abbattuto | S4: Uscito | T4: Punti Imperi | U4: Punti Giornata | V4: Abbatimenti | W4: Ordine | X4: Punti Classifica
A5: =A4+1 -> 1 | B5: Alberto Garello | C5: =CONCATENATE(LEFT(B5,FIND(" ",B5) + 2),".") -> Alberto Ga. | L5: =SUM(E5:K5) -> 0 | T5: =SUM(M5:S5) -> 0 | U5: =IF(D5=1,L5+T5,"") | V5: =(H5+P5)/5 -> 0 | W5: =IF(D5=1,RANK(U5,$U$5:$U$49)," ") | X5: =IF(D5=1,(($D$50-W5+1)+IF(W5=1,5,IF(W5=2,3,IF(W5=3,1,0))))," ")
A6: =A5+1 -> 2 | B6: Fabio Zanelli | C6: =CONCATENATE(LEFT(B6,FIND(" ",B6) + 2),".") -> Fabio Za. | D6: 1 | E6: 10 | F6: 21 | G6: 0 | H6: 10 | I6: 20 | L6: =SUM(E6:K6) -> 61 | M6: 10 | N6: 20 | O6: 10 | P6: 10 | Q6: 20 | T6: =SUM(M6:S6) -> 70 | U6: =IF(D6=1,L6+T6,"") -> 131 | V6: =(H6+P6)/5 -> 4 | W6: =IF(D6=1,RANK(U6,$U$5:$U$49)," ") -> 1 | X6: =IF(D6=1,(($D$50-W6+1)+IF(W6=1,5,IF(W6=2,3,IF(W6=3,1,0))))," ") -> 25
A7: =A6+1 -> 3 | B7: Riccardo Rigillo | C7: =CONCATENATE(LEFT(B7,FIND(" ",B7) + 2),".") -> Riccardo Ri. | D7: 1 | E7: 10 | F7: 17 | H7: 10 | I7: 20 | L7: =SUM(E7:K7) -> 57 | M7: 10 | N7: 10 | O7: 20 | P7: 10 | Q7: 20 | T7: =SUM(M7:S7) -> 70 | U7: =IF(D7=1,L7+T7,"") -> 127 | V7: =(H7+P7)/5 -> 4 | W7: =IF(D7=1,RANK(U7,$U$5:$U$49)," ") -> 2 | X7: =IF(D7=1,(($D$50-W7+1)+IF(W7=1,5,IF(W7=2,3,IF(W7=3,1,0))))," ") -> 22
A8: =A7+1 -> 4 | B8: Alessandrro Corradi | C8: =CONCATENATE(LEFT(B8,FIND(" ",B8) + 2),".") -> Alessandrro Co. | L8: =SUM(E8:K8) -> 0 | T8: =SUM(M8:S8) -> 0 | U8: =IF(D8=1,L8+T8,"") | V8: =(H8+P8)/5 -> 0 | W8: =IF(D8=1,RANK(U8,$U$5:$U$49)," ") | X8: =IF(D8=1,(($D$50-W8+1)+IF(W8=1,5,IF(W8=2,3,IF(W8=3,1,0))))," ")
A9: =A8+1 -> 5 | B9: Andrea Garello | C9: =CONCATENATE(LEFT(B9,FIND(" ",B9) + 2),".") -> Andrea Ga. | L9: =SUM(E9:K9) -> 0 | T9: =SUM(M9:S9) -> 0 | U9: =IF(D9=1,L9+T9,"") | V9: =(H9+P9)/5 -> 0 | W9: =IF(D9=1,RANK(U9,$U$5:$U$49)," ") | X9: =IF(D9=1,(($D$50-W9+1)+IF(W9=1,5,IF(W9=2,3,IF(W9=3,1,0))))," ")
A10: =A9+1 -> 6 | B10: Andrea Morviducci | C10: =CONCATENATE(LEFT(B10,FIND(" ",B10) + 2),".") -> Andrea Mo. | L10: =SUM(E10:K10) -> 0 | T10: =SUM(M10:S10) -> 0 | U10: =IF(D10=1,L10+T10,"") | V10: =(H10+P10)/5 -> 0 | W10: =IF(D10=1,RANK(U10,$U$5:$U$49)," ") | X10: =IF(D10=1,(($D$50-W10+1)+IF(W10=1,5,IF(W10=2,3,IF(W10=3,1,0))))," ")
A11: =A10+1 -> 7 | B11: Andrea Procaccino | C11: =CONCATENATE(LEFT(B11,FIND(" ",B11) + 2),".") -> Andrea Pr. | L11: =SUM(E11:K11) -> 0 | T11: =SUM(M11:S11) -> 0 | U11: =IF(D11=1,L11+T11,"") | V11: =(H11+P11)/5 -> 0 | W11: =IF(D11=1,RANK(U11,$U$5:$U$49)," ") | X11: =IF(D11=1,(($D$50-W11+1)+IF(W11=1,5,IF(W11=2,3,IF(W11=3,1,0))))," ")
A12: =A11+1 -> 8 | B12: Artemisia Von Rust | C12: =CONCATENATE(LEFT(B12,FIND(" ",B12) + 2),".") -> Artemisia Vo. | L12: =SUM(E12:K12) -> 0 | T12: =SUM(M12:S12) -> 0 | U12: =IF(D12=1,L12+T12,"") | V12: =(H12+P12)/5 -> 0 | W12: =IF(D12=1,RANK(U12,$U$5:$U$49)," ") | X12: =IF(D12=1,(($D$50-W12+1)+IF(W12=1,5,IF(W12=2,3,IF(W12=3,1,0))))," ")
A13: =A12+1 -> 9 | B13: Francesco Marradi | C13: =CONCATENATE(LEFT(B13,FIND(" ",B13) + 2),".") -> Francesco Ma. | D13: 1 | E13: 10 | F13: 10 | G13: 16 | I13: 20 | L13: =SUM(E13:K13) -> 56 | M13: 10 | N13: 6 | O13: 20 | Q13: 20 | T13: =SUM(M13:S13) -> 56 | U13: =IF(D13=1,L13+T13,"") -> 112 | V13: =(H13+P13)/5 -> 0 | W13: =IF(D13=1,RANK(U13,$U$5:$U$49)," ") -> 3 | X13: =IF(D13=1,(($D$50-W13+1)+IF(W13=1,5,IF(W13=2,3,IF(W13=3,1,0))))," ") -> 19
A14: =A13+1 -> 10 | B14: Bruno Padronetti | C14: =CONCATENATE(LEFT(B14,FIND(" ",B14) + 2),".") -> Bruno Pa. | L14: =SUM(E14:K14) -> 0 | T14: =SUM(M14:S14) -> 0 | U14: =IF(D14=1,L14+T14,"") | V14: =(H14+P14)/5 -> 0 | W14: =IF(D14=1,RANK(U14,$U$5:$U$49)," ") | X14: =IF(D14=1,(($D$50-W14+1)+IF(W14=1,5,IF(W14=2,3,IF(W14=3,1,0))))," ")
A15: =A14+1 -> 11 | B15: Paolo Valerio | C15: =CONCATENATE(LEFT(B15,FIND(" ",B15) + 2),".") -> Paolo Va. | D15: 1 | E15: 10 | F15: 9 | G15: 20 | I15: 20 | L15: =SUM(E15:K15) -> 59 | N15: 8 | O15: 20 | Q15: 20 | R15: -10 | T15: =SUM(M15:S15) -> 38 | U15: =IF(D15=1,L15+T15,"") -> 97 | V15: =(H15+P15)/5 -> 0 | W15: =IF(D15=1,RANK(U15,$U$5:$U$49)," ") -> 4 | X15: =IF(D15=1,(($D$50-W15+1)+IF(W15=1,5,IF(W15=2,3,IF(W15=3,1,0))))," ") -> 17
A16: =A15+1 -> 12 | B16: Claudio Marinangeli | C16: =CONCATENATE(LEFT(B16,FIND(" ",B16) + 2),".") -> Claudio Ma. | L16: =SUM(E16:K16) -> 0 | T16: =SUM(M16:S16) -> 0 | U16: =IF(D16=1,L16+T16,"") | V16: =(H16+P16)/5 -> 0 | W16: =IF(D16=1,RANK(U16,$U$5:$U$49)," ") | X16: =IF(D16=1,(($D$50-W16+1)+IF(W16=1,5,IF(W16=2,3,IF(W16=3,1,0))))," ")
A17: =A16+1 -> 13 | B17: Franco Napoleoni | C17: =CONCATENATE(LEFT(B17,FIND(" ",B17) + 2),".") -> Franco Na. | D17: 1 | E17: 10 | F17: 3 | G17: 10 | I17: 20 | L17: =SUM(E17:K17) -> 43 | M17: 10 | N17: 17 | P17: 5 | Q17: 20 | T17: =SUM(M17:S17) -> 52 | U17: =IF(D17=1,L17+T17,"") -> 95 | V17: =(H17+P17)/5 -> 1 | W17: =IF(D17=1,RANK(U17,$U$5:$U$49)," ") -> 5 | X17: =IF(D17=1,(($D$50-W17+1)+IF(W17=1,5,IF(W17=2,3,IF(W17=3,1,0))))," ") -> 16
A18: =A17+1 -> 14 | B18: Daniele Ferrini | C18: =CONCATENATE(LEFT(B18,FIND(" ",B18) + 2),".") -> Daniele Fe. | L18: =SUM(E18:K18) -> 0 | T18: =SUM(M18:S18) -> 0 | U18: =IF(D18=1,L18+T18,"") | V18: =(H18+P18)/5 -> 0 | W18: =IF(D18=1,RANK(U18,$U$5:$U$49)," ") | X18: =IF(D18=1,(($D$50-W18+1)+IF(W18=1,5,IF(W18=2,3,IF(W18=3,1,0))))," ")
A19: =A18+1 -> 15 | B19: Daniele Pagliuca | C19: =CONCATENATE(LEFT(B19,FIND(" ",B19) + 2),".") -> Daniele Pa. | L19: =SUM(E19:K19) -> 0 | T19: =SUM(M19:S19) -> 0 | U19: =IF(D19=1,L19+T19,"") | V19: =(H19+P19)/5 -> 0 | W19: =IF(D19=1,RANK(U19,$U$5:$U$49)," ") | X19: =IF(D19=1,(($D$50-W19+1)+IF(W19=1,5,IF(W19=2,3,IF(W19=3,1,0))))," ")
A20: =A19+1 -> 16 | B20: Massimo Berucci | C20: =CONCATENATE(LEFT(B20,FIND(" ",B20) + 2),".") -> Massimo Be. | D20: 1 | E20: 10 | F20: 11 | G20: 10 | H20: 10 | I20: 20 | L20: =SUM(E20:K20) -> 61 | N20: 12 | O20: 10 | Q20: 20 | R20: -10 | T20: =SUM(M20:S20) -> 32 | U20: =IF(D20=1,L20+T20,"") -> 93 | V20: =(H20+P20)/5 -> 2 | W20: =IF(D20=1,RANK(U20,$U$5:$U$49)," ") -> 6 | X20: =IF(D20=1,(($D$50-W20+1)+IF(W20=1,5,IF(W20=2,3,IF(W20=3,1,0))))," ") -> 15
A21: =A20+1 -> 17 | B21: Erminio Serio | C21: =CONCATENATE(LEFT(B21,FIND(" ",B21) + 2),".") -> Erminio Se. | L21: =SUM(E21:K21) -> 0 | T21: =SUM(M21:S21) -> 0 | U21: =IF(D21=1,L21+T21,"") | V21: =(H21+P21)/5 -> 0 | W21: =IF(D21=1,RANK(U21,$U$5:$U$49)," ") | X21: =IF(D21=1,(($D$50-W21+1)+IF(W21=1,5,IF(W21=2,3,IF(W21=3,1,0))))," ")
A22: =A21+1 -> 18 | B22: Massimo Mollica | C22: =CONCATENATE(LEFT(B22,FIND(" ",B22) + 2),".") -> Massimo Mo. | D22: 1 | E22: 10 | F22: 10 | G22: 16 | H22: 10 | I22: 20 | L22: =SUM(E22:K22) -> 66 | M22: 0 | N22: 7 | O22: 10 | Q22: 20 | R22: -10 | T22: =SUM(M22:S22) -> 27 | U22: =IF(D22=1,L22+T22,"") -> 93 | V22: =(H22+P22)/5 -> 2 | W22: =IF(D22=1,RANK(U22,$U$5:$U$49)," ") -> 6 | X22: =IF(D22=1,(($D$50-W22+1)+IF(W22=1,5,IF(W22=2,3,IF(W22=3,1,0))))," ") -> 15
A23: =A22+1 -> 19 | B23: Giuseppe Tamba | C23: =CONCATENATE(LEFT(B23,FIND(" ",B23) + 2),".") -> Giuseppe Ta. | D23: 1 | E23: 10 | F23: 16 | G23: 6 | H23: 5 | I23: 20 | L23: =SUM(E23:K23) -> 57 | N23: 8 | O23: 16 | Q23: 20 | R23: -10 | T23: =SUM(M23:S23) -> 34 | U23: =IF(D23=1,L23+T23,"") -> 91 | V23: =(H23+P23)/5 -> 1 | W23: =IF(D23=1,RANK(U23,$U$5:$U$49)," ") -> 8 | X23: =IF(D23=1,(($D$50-W23+1)+IF(W23=1,5,IF(W23=2,3,IF(W23=3,1,0))))," ") -> 13
A24: =A23+1 -> 20 | B24: Francesco Berucci | C24: =CONCATENATE(LEFT(B24,FIND(" ",B24) + 2),".") -> Francesco Be. | L24: =SUM(E24:K24) -> 0 | T24: =SUM(M24:S24) -> 0 | U24: =IF(D24=1,L24+T24,"") | V24: =(H24+P24)/5 -> 0 | W24: =IF(D24=1,RANK(U24,$U$5:$U$49)," ") | X24: =IF(D24=1,(($D$50-W24+1)+IF(W24=1,5,IF(W24=2,3,IF(W24=3,1,0))))," ")
A25: =A24+1 -> 21 | B25: Daniel Terracina | C25: =CONCATENATE(LEFT(B25,FIND(" ",B25) + 2),".") -> Daniel Te. | D25: 1 | E25: 10 | F25: 14 | H25: 5 | I25: 20 | L25: =SUM(E25:K25) -> 49 | N25: 11 | O25: 10 | Q25: 20 | T25: =SUM(M25:S25) -> 41 | U25: =IF(D25=1,L25+T25,"") -> 90 | V25: =(H25+P25)/5 -> 1 | W25: =IF(D25=1,RANK(U25,$U$5:$U$49)," ") -> 9 | X25: =IF(D25=1,(($D$50-W25+1)+IF(W25=1,5,IF(W25=2,3,IF(W25=3,1,0))))," ") -> 12
A26: =A25+1 -> 22 | B26: Jolly 1 | C26: =CONCATENATE(LEFT(B26,FIND(" ",B26) + 2),".") -> Jolly 1. | D26: 1 | E26: 10 | F26: 18 | G26: 4 | H26: 10 | I26: 20 | L26: =SUM(E26:K26) -> 62 | M26: 0 | N26: 4 | O26: 12 | P26: 0 | Q26: 20 | R26: -10 | T26: =SUM(M26:S26) -> 26 | U26: =IF(D26=1,L26+T26,"") -> 88 | V26: =(H26+P26)/5 -> 2 | W26: =IF(D26=1,RANK(U26,$U$5:$U$49)," ") -> 10 | X26: =IF(D26=1,(($D$50-W26+1)+IF(W26=1,5,IF(W26=2,3,IF(W26=3,1,0))))," ") -> 11
A27: =A26+1 -> 23 | B27: Alessandro Babbi | C27: =CONCATENATE(LEFT(B27,FIND(" ",B27) + 2),".") -> Alessandro Ba. | D27: 1 | E27: 10 | F27: 11 | H27: 5 | I27: 20 | L27: =SUM(E27:K27) -> 46 | M27: 0 | N27: 14 | P27: 5 | Q27: 20 | T27: =SUM(M27:S27) -> 39 | U27: =IF(D27=1,L27+T27,"") -> 85 | V27: =(H27+P27)/5 -> 2 | W27: =IF(D27=1,RANK(U27,$U$5:$U$49)," ") -> 11 | X27: =IF(D27=1,(($D$50-W27+1)+IF(W27=1,5,IF(W27=2,3,IF(W27=3,1,0))))," ") -> 10
A28: =A27+1 -> 24 | B28: Marco Tambara | C28: =CONCATENATE(LEFT(B28,FIND(" ",B28) + 2),".") -> Marco Ta. | D28: 1 | F28: 14 | G28: 20 | H28: 5 | I28: 20 | J28: -10 | L28: =SUM(E28:K28) -> 49 | N28: 7 | O28: 16 | Q28: 20 | R28: -10 | T28: =SUM(M28:S28) -> 33 | U28: =IF(D28=1,L28+T28,"") -> 82 | V28: =(H28+P28)/5 -> 1 | W28: =IF(D28=1,RANK(U28,$U$5:$U$49)," ") -> 12 | X28: =IF(D28=1,(($D$50-W28+1)+IF(W28=1,5,IF(W28=2,3,IF(W28=3,1,0))))," ") -> 9
A29: =A28+1 -> 25 | B29: Gino Lucrezi | C29: =CONCATENATE(LEFT(B29,FIND(" ",B29) + 2),".") -> Gino Lu. | L29: =SUM(E29:K29) -> 0 | T29: =SUM(M29:S29) -> 0 | U29: =IF(D29=1,L29+T29,"") | V29: =(H29+P29)/5 -> 0 | W29: =IF(D29=1,RANK(U29,$U$5:$U$49)," ") | X29: =IF(D29=1,(($D$50-W29+1)+IF(W29=1,5,IF(W29=2,3,IF(W29=3,1,0))))," ")
A30: =A29+1 -> 26 | B30: Francesco Ulmo | C30: =CONCATENATE(LEFT(B30,FIND(" ",B30) + 2),".") -> Francesco Ul. | D30: 1 | E30: 10 | F30: 7 | G30: 20 | I30: 20 | L30: =SUM(E30:K30) -> 57 | N30: 4 | O30: 8 | Q30: 20 | R30: -10 | T30: =SUM(M30:S30) -> 22 | U30: =IF(D30=1,L30+T30,"") -> 79 | V30: =(H30+P30)/5 -> 0 | W30: =IF(D30=1,RANK(U30,$U$5:$U$49)," ") -> 13 | X30: =IF(D30=1,(($D$50-W30+1)+IF(W30=1,5,IF(W30=2,3,IF(W30=3,1,0))))," ") -> 8
A31: =A30+1 -> 27 | B31: Ivan Martinelli | C31: =CONCATENATE(LEFT(B31,FIND(" ",B31) + 2),".") -> Ivan Ma. | U31: =IF(D31=1,L31+T31,"") | V31: =(H31+P31)/5 -> 0 | W31: =IF(D31=1,RANK(U31,$U$5:$U$49)," ") | X31: =IF(D31=1,(($D$50-W31+1)+IF(W31=1,5,IF(W31=2,3,IF(W31=3,1,0))))," ")
A32: =A31+1 -> 28 | B32: Daniele Petraroli | C32: =CONCATENATE(LEFT(B32,FIND(" ",B32) + 2),".") -> Daniele Pe. | D32: 1 | E32: 10 | F32: 6 | G32: 20 | H32: 5 | I32: 20 | L32: =SUM(E32:K32) -> 61 | N32: 4 | Q32: 20 | R32: -10 | T32: =SUM(M32:S32) -> 14 | U32: =IF(D32=1,L32+T32,"") -> 75 | V32: =(H32+P32)/5 -> 1 | W32: =IF(D32=1,RANK(U32,$U$5:$U$49)," ") -> 14 | X32: =IF(D32=1,(($D$50-W32+1)+IF(W32=1,5,IF(W32=2,3,IF(W32=3,1,0))))," ") -> 7
A33: =A32+1 -> 29 | B33: Jolly 2 | C33: =CONCATENATE(LEFT(B33,FIND(" ",B33) + 2),".") -> Jolly 2. | L33: =SUM(E33:K33) -> 0 | T33: =SUM(M33:S33) -> 0 | U33: =IF(D33=1,L33+T33,"") | V33: =(H33+P33)/5 -> 0 | W33: =IF(D33=1,RANK(U33,$U$5:$U$49)," ") | X33: =IF(D33=1,(($D$50-W33+1)+IF(W33=1,5,IF(W33=2,3,IF(W33=3,1,0))))," ")
A34: =A33+1 -> 30 | B34: Christian Vitale | C34: =CONCATENATE(LEFT(B34,FIND(" ",B34) + 2),".") -> Christian Vi. | D34: 1 | E34: 10 | F34: 17 | H34: 5 | I34: 20 | L34: =SUM(E34:K34) -> 52 | N34: 2 | O34: 6 | Q34: 20 | R34: -10 | T34: =SUM(M34:S34) -> 18 | U34: =IF(D34=1,L34+T34,"") -> 70 | V34: =(H34+P34)/5 -> 1 | W34: =IF(D34=1,RANK(U34,$U$5:$U$49)," ") -> 15 | X34: =IF(D34=1,(($D$50-W34+1)+IF(W34=1,5,IF(W34=2,3,IF(W34=3,1,0))))," ") -> 6
A35: =A34+1 -> 31 | B35: Laura Di Marco | C35: =CONCATENATE(LEFT(B35,FIND(" ",B35) + 2),".") -> Laura Di. | L35: =SUM(E35:K35) -> 0 | T35: =SUM(M35:S35) -> 0 | U35: =IF(D35=1,L35+T35,"") | V35: =(H35+P35)/5 -> 0 | W35: =IF(D35=1,RANK(U35,$U$5:$U$49)," ") | X35: =IF(D35=1,(($D$50-W35+1)+IF(W35=1,5,IF(W35=2,3,IF(W35=3,1,0))))," ")
A36: =A35+1 -> 32 | B36: Luca Postumi | C36: =CONCATENATE(LEFT(B36,FIND(" ",B36) + 2),".") -> Luca Po. | L36: =SUM(E36:K36) -> 0 | T36: =SUM(M36:S36) -> 0 | U36: =IF(D36=1,L36+T36,"") | V36: =(H36+P36)/5 -> 0 | W36: =IF(D36=1,RANK(U36,$U$5:$U$49)," ") | X36: =IF(D36=1,(($D$50-W36+1)+IF(W36=1,5,IF(W36=2,3,IF(W36=3,1,0))))," ")
A37: =A36+1 -> 33 | B37: Federico Mollica | C37: =CONCATENATE(LEFT(B37,FIND(" ",B37) + 2),".") -> Federico Mo. | D37: 1 | F37: 7 | G37: 20 | I37: 20 | J37: -10 | L37: =SUM(E37:K37) -> 37 | N37: 5 | O37: 6 | Q37: 20 | R37: -10 | T37: =SUM(M37:S37) -> 21 | U37: =IF(D37=1,L37+T37,"") -> 58 | V37: =(H37+P37)/5 -> 0 | W37: =IF(D37=1,RANK(U37,$U$5:$U$49)," ") -> 16 | X37: =IF(D37=1,(($D$50-W37+1)+IF(W37=1,5,IF(W37=2,3,IF(W37=3,1,0))))," ") -> 5
A38: =A37+1 -> 34 | B38: Ken Jones | C38: =CONCATENATE(LEFT(B38,FIND(" ",B38) + 2),".") -> Ken Jo. | D38: 1 | F38: 4 | G38: 8 | I38: 20 | J38: -10 | L38: =SUM(E38:K38) -> 22 | N38: 2 | O38: 20 | Q38: 20 | R38: -10 | T38: =SUM(M38:S38) -> 32 | U38: =IF(D38=1,L38+T38,"") -> 54 | V38: =(H38+P38)/5 -> 0 | W38: =IF(D38=1,RANK(U38,$U$5:$U$49)," ") -> 17 | X38: =IF(D38=1,(($D$50-W38+1)+IF(W38=1,5,IF(W38=2,3,IF(W38=3,1,0))))," ") -> 4
A39: =A38+1 -> 35 | B39: Massimo Malerba | C39: =CONCATENATE(LEFT(B39,FIND(" ",B39) + 2),".") -> Massimo Ma. | U39: =IF(D39=1,L39+T39,"") | V39: =(H39+P39)/5 -> 0 | W39: =IF(D39=1,RANK(U39,$U$5:$U$49)," ") | X39: =IF(D39=1,(($D$50-W39+1)+IF(W39=1,5,IF(W39=2,3,IF(W39=3,1,0))))," ")
A40: =A39+1 -> 36 | B40: Barbara Von Rust | C40: =CONCATENATE(LEFT(B40,FIND(" ",B40) + 2),".") -> Barbara Vo. | D40: 1 | F40: 7 | G40: 12 | I40: 20 | J40: -10 | L40: =SUM(E40:K40) -> 29 | N40: 10 | Q40: 20 | R40: -10 | T40: =SUM(M40:S40) -> 20 | U40: =IF(D40=1,L40+T40,"") -> 49 | V40: =(H40+P40)/5 -> 0 | W40: =IF(D40=1,RANK(U40,$U$5:$U$49)," ") -> 18 | X40: =IF(D40=1,(($D$50-W40+1)+IF(W40=1,5,IF(W40=2,3,IF(W40=3,1,0))))," ") -> 3
A41: =A40+1 -> 37 | B41: Maurizio Vitale | C41: =CONCATENATE(LEFT(B41,FIND(" ",B41) + 2),".") -> Maurizio Vi. | L41: =SUM(E41:K41) -> 0 | T41: =SUM(M41:S41) -> 0 | U41: =IF(D41=1,L41+T41,"") | V41: =(H41+P41)/5 -> 0 | W41: =IF(D41=1,RANK(U41,$U$5:$U$49)," ") | X41: =IF(D41=1,(($D$50-W41+1)+IF(W41=1,5,IF(W41=2,3,IF(W41=3,1,0))))," ")
A42: =A41+1 -> 38 | B42: Michele Balasso | C42: =CONCATENATE(LEFT(B42,FIND(" ",B42) + 2),".") -> Michele Ba. | L42: =SUM(E42:K42) -> 0 | T42: =SUM(M42:S42) -> 0 | U42: =IF(D42=1,L42+T42,"") | V42: =(H42+P42)/5 -> 0 | W42: =IF(D42=1,RANK(U42,$U$5:$U$49)," ") | X42: =IF(D42=1,(($D$50-W42+1)+IF(W42=1,5,IF(W42=2,3,IF(W42=3,1,0))))," ")
A43: =A42+1 -> 39 | B43: Alberto Panicucci | C43: =CONCATENATE(LEFT(B43,FIND(" ",B43) + 2),".") -> Alberto Pa. | D43: 1 | F43: 3 | G43: 16 | I43: 20 | J43: -10 | L43: =SUM(E43:K43) -> 29 | M43: 0 | N43: 5 | O43: 4 | Q43: 20 | R43: -10 | T43: =SUM(M43:S43) -> 19 | U43: =IF(D43=1,L43+T43,"") -> 48 | V43: =(H43+P43)/5 -> 0 | W43: =IF(D43=1,RANK(U43,$U$5:$U$49)," ") -> 19 | X43: =IF(D43=1,(($D$50-W43+1)+IF(W43=1,5,IF(W43=2,3,IF(W43=3,1,0))))," ") -> 2
A44: =A43+1 -> 40 | B44: Raffaella Rovignoni | C44: =CONCATENATE(LEFT(B44,FIND(" ",B44) + 2),".") -> Raffaella Ro. | L44: =SUM(E44:K44) -> 0 | T44: =SUM(M44:S44) -> 0 | U44: =IF(D44=1,L44+T44,"") | V44: =(H44+P44)/5 -> 0 | W44: =IF(D44=1,RANK(U44,$U$5:$U$49)," ") | X44: =IF(D44=1,(($D$50-W44+1)+IF(W44=1,5,IF(W44=2,3,IF(W44=3,1,0))))," ")
A45: =A44+1 -> 41 | B45: Francesco Petraroli | C45: =CONCATENATE(LEFT(B45,FIND(" ",B45) + 2),".") -> Francesco Pe. | D45: 1 | F45: 9 | I45: 20 | J45: -10 | L45: =SUM(E45:K45) -> 19 | N45: 6 | O45: 12 | Q45: 20 | R45: -10 | T45: =SUM(M45:S45) -> 28 | U45: =IF(D45=1,L45+T45,"") -> 47 | V45: =(H45+P45)/5 -> 0 | W45: =IF(D45=1,RANK(U45,$U$5:$U$49)," ") -> 20 | X45: =IF(D45=1,(($D$50-W45+1)+IF(W45=1,5,IF(W45=2,3,IF(W45=3,1,0))))," ") -> 1
A46: =A45+1 -> 42 | B46: Riccardo Vadalà | C46: =CONCATENATE(LEFT(B46,FIND(" ",B46) + 2),".") -> Riccardo Va. | L46: =SUM(E46:K46) -> 0 | T46: =SUM(M46:S46) -> 0 | U46: =IF(D46=1,L46+T46,"") | V46: =(H46+P46)/5 -> 0 | W46: =IF(D46=1,RANK(U46,$U$5:$U$49)," ") | X46: =IF(D46=1,(($D$50-W46+1)+IF(W46=1,5,IF(W46=2,3,IF(W46=3,1,0))))," ")
A47: =A46+1 -> 43 | B47: Stefano Tiribocchi | C47: =CONCATENATE(LEFT(B47,FIND(" ",B47) + 2),".") -> Stefano Ti. | L47: =SUM(E47:K47) -> 0 | T47: =SUM(M47:S47) -> 0 | U47: =IF(D47=1,L47+T47,"") | V47: =(H47+P47)/5 -> 0 | W47: =IF(D47=1,RANK(U47,$U$5:$U$49)," ") | X47: =IF(D47=1,(($D$50-W47+1)+IF(W47=1,5,IF(W47=2,3,IF(W47=3,1,0))))," ")
A48: =A47+1 -> 44 | B48: Stefano Von Dadden | C48: =CONCATENATE(LEFT(B48,FIND(" ",B48) + 2),".") -> Stefano Vo. | L48: =SUM(E48:K48) -> 0 | T48: =SUM(M48:S48) -> 0 | U48: =IF(D48=1,L48+T48,"") | V48: =(H48+P48)/5 -> 0 | W48: =IF(D48=1,RANK(U48,$U$5:$U$49)," ") | X48: =IF(D48=1,(($D$50-W48+1)+IF(W48=1,5,IF(W48=2,3,IF(W48=3,1,0))))," ")
A49: =A48+1 -> 45 | B49: Valerio Ferrandino | C49: =CONCATENATE(LEFT(B49,FIND(" ",B49) + 2),".") -> Valerio Fe. | L49: =SUM(E49:K49) -> 0 | T49: =SUM(M49:S49) -> 0 | U49: =IF(D49=1,L49+T49,"") | V49: =(H49+P49)/5 -> 0 | W49: =IF(D49=1,RANK(U49,$U$5:$U$49)," ") | X49: =IF(D49=1,(($D$50-W49+1)+IF(W49=1,5,IF(W49=2,3,IF(W49=3,1,0))))," ")
D50: =SUM(D5:D49) -> 20
C51: Punti Giornata: sono i punti accumulati durante le partitre dell'evento e che determinano la classifica della giornata.
C52: Punti Classifica: sono i punti che l'ordine di classifica di giornata assegna e concorrono alla classifica generale

Sheet Giornata 3
I1: 5 | J1: 10
C2: RIEPILOGO PUNTEGGI SECONDA GIORNATA
F3: IMPERI | N3: INTESA | U3: TOTALE
A4: 0 | B4: Nome Cognome | C4: Nome | D4: Presenza | E4: Squadra | F4: Vittoria Parita | G4: Colpi Inflitti | H4: Aereal Victory | I4: Fotografie | J4: Uscito Tavolo | K4: Abbatuto | L4: Punti Intesa | M4: Squadra | N4: Vittoria Parita | O4: Colpi Inflitti | P4: Aereal Victory | Q4: Fotografie | R4: Uscito Tavolo | S4: Abbatuto | T4: Punti Intesa | U4: Punti Giornata | V4: Aereal Victory | W4: Ordine | X4: Punti Classifica
A5: =A4+1 -> 1 | B5: Alessandrro Corradi | C5: =CONCATENATE(LEFT(B5,FIND(" ",B5) + 2),".") -> Alessandrro Co. | L5: =SUM(F5:K5) -> 0 | T5: =SUM(N5:S5) -> 0 | U5: =IF(D5=1,L5+T5,"") | V5: =IF((H5+P5)>0,(H5+P5)/5,0) -> 0 | W5: =IF(D5=1,RANK(U5,$U$5:$U$49,1)," ") | X5: =IF(D5=1,(($D$49-W5+1)+IF(W5=1,5,IF(W5=2,3,IF(W5=3,1,0))))," ")
A6: =A5+1 -> 2 | B6: Andrea Procaccino | C6: =CONCATENATE(LEFT(B6,FIND(" ",B6) + 2),".") -> Andrea Pr. | L6: =SUM(F6:K6) -> 0 | T6: =SUM(N6:S6) -> 0 | U6: =IF(D6=1,L6+T6,"") | V6: =IF((H6+P6)>0,(H6+P6)/5,0) -> 0 | W6: =IF(D6=1,RANK(U6,$U$5:$U$49,1)," ") | X6: =IF(D6=1,(($D$49-W6+1)+IF(W6=1,5,IF(W6=2,3,IF(W6=3,1,0))))," ")
A7: =A6+1 -> 3 | B7: Bruno Padronetti | C7: =CONCATENATE(LEFT(B7,FIND(" ",B7) + 2),".") -> Bruno Pa. | L7: =SUM(F7:K7) -> 0 | T7: =SUM(N7:S7) -> 0 | U7: =IF(D7=1,L7+T7,"") | V7: =IF((H7+P7)>0,(H7+P7)/5,0) -> 0 | W7: =IF(D7=1,RANK(U7,$U$5:$U$49,1)," ") | X7: =IF(D7=1,(($D$49-W7+1)+IF(W7=1,5,IF(W7=2,3,IF(W7=3,1,0))))," ")
A8: =A7+1 -> 4 | B8: Claudio Marinangeli | C8: =CONCATENATE(LEFT(B8,FIND(" ",B8) + 2),".") -> Claudio Ma. | L8: =SUM(F8:K8) -> 0 | T8: =SUM(N8:S8) -> 0 | U8: =IF(D8=1,L8+T8,"") | V8: =IF((H8+P8)>0,(H8+P8)/5,0) -> 0 | W8: =IF(D8=1,RANK(U8,$U$5:$U$49,1)," ") | X8: =IF(D8=1,(($D$49-W8+1)+IF(W8=1,5,IF(W8=2,3,IF(W8=3,1,0))))," ")
A9: =A8+1 -> 5 | B9: Daniele Pagliuca | C9: =CONCATENATE(LEFT(B9,FIND(" ",B9) + 2),".") -> Daniele Pa. | L9: =SUM(F9:K9) -> 0 | T9: =SUM(N9:S9) -> 0 | U9: =IF(D9=1,L9+T9,"") | V9: =IF((H9+P9)>0,(H9+P9)/5,0) -> 0 | W9: =IF(D9=1,RANK(U9,$U$5:$U$49,1)," ") | X9: =IF(D9=1,(($D$49-W9+1)+IF(W9=1,5,IF(W9=2,3,IF(W9=3,1,0))))," ")
A10: =A9+1 -> 6 | B10: Erminio Serio | C10: =CONCATENATE(LEFT(B10,FIND(" ",B10) + 2),".") -> Erminio Se. | L10: =SUM(F10:K10) -> 0 | T10: =SUM(N10:S10) -> 0 | U10: =IF(D10=1,L10+T10,"") | V10: =IF((H10+P10)>0,(H10+P10)/5,0) -> 0 | W10: =IF(D10=1,RANK(U10,$U$5:$U$49,1)," ") | X10: =IF(D10=1,(($D$49-W10+1)+IF(W10=1,5,IF(W10=2,3,IF(W10=3,1,0))))," ")
A11: =A10+1 -> 7 | B11: Fabio Zanelli | C11: =CONCATENATE(LEFT(B11,FIND(" ",B11) + 2),".") -> Fabio Za. | L11: =SUM(F11:K11) -> 0 | T11: =SUM(N11:S11) -> 0 | U11: =IF(D11=1,L11+T11,"") | V11: =IF((H11+P11)>0,(H11+P11)/5,0) -> 0 | W11: =IF(D11=1,RANK(U11,$U$5:$U$49,1)," ") | X11: =IF(D11=1,(($D$49-W11+1)+IF(W11=1,5,IF(W11=2,3,IF(W11=3,1,0))))," ")
A12: =A11+1 -> 8 | B12: Gino Lucrezi | C12: =CONCATENATE(LEFT(B12,FIND(" ",B12) + 2),".") -> Gino Lu. | L12: =SUM(F12:K12) -> 0 | T12: =SUM(N12:S12) -> 0 | U12: =IF(D12=1,L12+T12,"") | V12: =IF((H12+P12)>0,(H12+P12)/5,0) -> 0 | W12: =IF(D12=1,RANK(U12,$U$5:$U$49,1)," ") | X12: =IF(D12=1,(($D$49-W12+1)+IF(W12=1,5,IF(W12=2,3,IF(W12=3,1,0))))," ")
A13: =A12+1 -> 9 | B13: Jolly 1 | C13: =CONCATENATE(LEFT(B13,FIND(" ",B13) + 2),".") -> Jolly 1. | L13: =SUM(F13:K13) -> 0 | T13: =SUM(N13:S13) -> 0 | U13: =IF(D13=1,L13+T13,"") | V13: =IF((H13+P13)>0,(H13+P13)/5,0) -> 0 | W13: =IF(D13=1,RANK(U13,$U$5:$U$49,1)," ") | X13: =W13
A14: =A13+1 -> 10 | B14: Jolly 2 | C14: =CONCATENATE(LEFT(B14,FIND(" ",B14) + 2),".") -> Jolly 2. | L14: =SUM(F14:K14) -> 0 | T14: =SUM(N14:S14) -> 0 | U14: =IF(D14=1,L14+T14,"") | V14: =IF((H14+P14)>0,(H14+P14)/5,0) -> 0 | W14: =IF(D14=1,RANK(U14,$U$5:$U$49,1)," ") | X14: =W14
A15: =A14+1 -> 11 | B15: Ken Jones | C15: =CONCATENATE(LEFT(B15,FIND(" ",B15) + 2),".") -> Ken Jo. | L15: =SUM(F15:K15) -> 0 | T15: =SUM(N15:S15) -> 0 | U15: =IF(D15=1,L15+T15,"") | V15: =IF((H15+P15)>0,(H15+P15)/5,0) -> 0 | W15: =IF(D15=1,RANK(U15,$U$5:$U$49,1)," ") | X15: =W15
A16: =A15+1 -> 12 | B16: Marco Tambara | C16: =CONCATENATE(LEFT(B16,FIND(" ",B16) + 2),".") -> Marco Ta. | L16: =SUM(F16:K16) -> 0 | T16: =SUM(N16:S16) -> 0 | U16: =IF(D16=1,L16+T16,"") | V16: =IF((H16+P16)>0,(H16+P16)/5,0) -> 0 | W16: =IF(D16=1,RANK(U16,$U$5:$U$49,1)," ") | X16: =IF(D16=1,(($D$49-W16+1)+IF(W16=1,5,IF(W16=2,3,IF(W16=3,1,0))))," ")
A17: =A16+1 -> 13 | B17: Raffaella Rovignoni | C17: =CONCATENATE(LEFT(B17,FIND(" ",B17) + 2),".") -> Raffaella Ro. | L17: =SUM(F17:K17) -> 0 | T17: =SUM(N17:S17) -> 0 | U17: =IF(D17=1,L17+T17,"") | V17: =IF((H17+P17)>0,(H17+P17)/5,0) -> 0 | W17: =IF(D17=1,RANK(U17,$U$5:$U$49,1)," ") | X17: =IF(D17=1,(($D$49-W17+1)+IF(W17=1,5,IF(W17=2,3,IF(W17=3,1,0))))," ")
A18: =A17+1 -> 14 | B18: Stefano Von Dadden | C18: =CONCATENATE(LEFT(B18,FIND(" ",B18) + 2),".") -> Stefano Vo. | L18: =SUM(F18:K18) -> 0 | T18: =SUM(N18:S18) -> 0 | U18: =IF(D18=1,L18+T18,"") | V18: =IF((H18+P18)>0,(H18+P18)/5,0) -> 0 | W18: =IF(D18=1,RANK(U18,$U$5:$U$49,1)," ") | X18: =IF(D18=1,(($D$49-W18+1)+IF(W18=1,5,IF(W18=2,3,IF(W18=3,1,0))))," ")
A19: =A18+1 -> 15 | B19: Alessandro Babbi | C19: =CONCATENATE(LEFT(B19,FIND(" ",B19) + 2),".") -> Alessandro Ba. | D19: 1 | E19: 4 | F19: 10 | G19: 30 | H19: 5 | I19: 16 | L19: =SUM(F19:K19) -> 61 | M19: 6 | N19: 10 | O19: 30 | P19: 10 | T19: =SUM(N19:S19) -> 50 | U19: =IF(D19=1,L19+T19,"") -> 111 | V19: =IF((H19+P19)>0,(H19+P19)/5,0) -> 3 | W19: =IF(D19=1,RANK(U19,$U$5:$U$49)," ") -> 1 | X19: =IF(D19=1,(($D$50-W19+1)+IF(W19=1,5,IF(W19=2,3,IF(W19=3,1,0))))," ") -> 36
A20: =A19+1 -> 16 | B20: Andrea Garello | C20: =CONCATENATE(LEFT(B20,FIND(" ",B20) + 2),".") -> Andrea Ga. | D20: 1 | E20: 9 | F20: 10 | G20: 29 | H20: 10 | I20: 17 | L20: =SUM(F20:K20) -> 66 | M20: 4 | N20: 10 | O20: 27 | P20: 5 | T20: =SUM(N20:S20) -> 42 | U20: =IF(D20=1,L20+T20,"") -> 108 | V20: =IF((H20+P20)>0,(H20+P20)/5,0) -> 3 | W20: =IF(D20=1,RANK(U20,$U$5:$U$49)," ") -> 2 | X20: =IF(D20=1,(($D$50-W20+1)+IF(W20=1,5,IF(W20=2,3,IF(W20=3,1,0))))," ") -> 33
A21: =A20+1 -> 17 | B21: Valerio Ferrandino | C21: =CONCATENATE(LEFT(B21,FIND(" ",B21) + 2),".") -> Valerio Fe. | D21: 1 | E21: 7 | F21: 10 | G21: 20 | H21: 5 | I21: 13 | L21: =SUM(F21:K21) -> 48 | M21: 6 | N21: 10 | O21: 30 | P21: 10 | T21: =SUM(N21:S21) -> 50 | U21: =IF(D21=1,L21+T21,"") -> 98 | V21: =IF((H21+P21)>0,(H21+P21)/5,0) -> 3 | W21: =IF(D21=1,RANK(U21,$U$5:$U$49)," ") -> 3 | X21: =IF(D21=1,(($D$50-W21+1)+IF(W21=1,5,IF(W21=2,3,IF(W21=3,1,0))))," ") -> 30
A22: =A21+1 -> 18 | B22: Massimo Berucci | C22: =CONCATENATE(LEFT(B22,FIND(" ",B22) + 2),".") -> Massimo Be. | D22: 1 | E22: 10 | F22: 10 | G22: 20 | I22: 16 | L22: =SUM(F22:K22) -> 46 | M22: 2 | N22: 10 | O22: 31 | P22: 10 | T22: =SUM(N22:S22) -> 51 | U22: =IF(D22=1,L22+T22,"") -> 97 | V22: =IF((H22+P22)>0,(H22+P22)/5,0) -> 2 | W22: =IF(D22=1,RANK(U22,$U$5:$U$49)," ") -> 4 | X22: =IF(D22=1,(($D$50-W22+1)+IF(W22=1,5,IF(W22=2,3,IF(W22=3,1,0))))," ") -> 28
A23: =A22+1 -> 19 | B23: Daniele Petraroli | C23: =CONCATENATE(LEFT(B23,FIND(" ",B23) + 2),".") -> Daniele Pe. | D23: 1 | E23: 5 | F23: 10 | G23: 23 | I23: 16 | L23: =SUM(F23:K23) -> 49 | M23: 4 | N23: 10 | O23: 27 | P23: 5 | T23: =SUM(N23:S23) -> 42 | U23: =IF(D23=1,L23+T23,"") -> 91 | V23: =IF((H23+P23)>0,(H23+P23)/5,0) -> 1 | W23: =IF(D23=1,RANK(U23,$U$5:$U$49)," ") -> 5 | X23: =IF(D23=1,(($D$50-W23+1)+IF(W23=1,5,IF(W23=2,3,IF(W23=3,1,0))))," ") -> 27
A24: =A23+1 -> 20 | B24: Daniele Ferrini | C24: =CONCATENATE(LEFT(B24,FIND(" ",B24) + 2),".") -> Daniele Fe. | D24: 1 | E24: 7 | F24: 10 | G24: 20 | H24: 5 | I24: 13 | L24: =SUM(F24:K24) -> 48 | M24: 2 | N24: 10 | O24: 18 | P24: 10 | T24: =SUM(N24:S24) -> 38 | U24: =IF(D24=1,L24+T24,"") -> 86 | V24: =IF((H24+P24)>0,(H24+P24)/5,0) -> 3 | W24: =IF(D24=1,RANK(U24,$U$5:$U$49)," ") -> 6 | X24: =IF(D24=1,(($D$50-W24+1)+IF(W24=1,5,IF(W24=2,3,IF(W24=3,1,0))))," ") -> 26
A25: =A24+1 -> 21 | B25: Francesco Berucci | C25: =CONCATENATE(LEFT(B25,FIND(" ",B25) + 2),".") -> Francesco Be. | D25: 1 | E25: 3 | F25: 10 | G25: 25 | H25: 5 | I25: 8 | K25: -10 | L25: =SUM(F25:K25) -> 38 | M25: 8 | N25: 10 | O25: 27 | P25: 5 | T25: =SUM(N25:S25) -> 42 | U25: =IF(D25=1,L25+T25,"") -> 80 | V25: =IF((H25+P25)>0,(H25+P25)/5,0) -> 2 | W25: =IF(D25=1,RANK(U25,$U$5:$U$49)," ") -> 7 | X25: =IF(D25=1,(($D$50-W25+1)+IF(W25=1,5,IF(W25=2,3,IF(W25=3,1,0))))," ") -> 25
A26: =A25+1 -> 22 | B26: Alberto Garello | C26: =CONCATENATE(LEFT(B26,FIND(" ",B26) + 2),".") -> Alberto Ga. | D26: 1 | E26: 9 | F26: 10 | G26: 29 | H26: 10 | I26: 17 | L26: =SUM(F26:K26) -> 66 | M26: 5 | O26: 17 | P26: 5 | S26: -10 | T26: =SUM(N26:S26) -> 12 | U26: =IF(D26=1,L26+T26,"") -> 78 | V26: =IF((H26+P26)>0,(H26+P26)/5,0) -> 3 | W26: =IF(D26=1,RANK(U26,$U$5:$U$49)," ") -> 8 | X26: =IF(D26=1,(($D$50-W26+1)+IF(W26=1,5,IF(W26=2,3,IF(W26=3,1,0))))," ") -> 24
A27: =A26+1 -> 23 | B27: Riccardo Vadalà | C27: =CONCATENATE(LEFT(B27,FIND(" ",B27) + 2),".") -> Riccardo Va. | D27: 1 | E27: 1 | F27: 10 | G27: 27 | H27: 5 | I27: 17 | L27: =SUM(F27:K27) -> 59 | M27: 9 | O27: 19 | T27: =SUM(N27:S27) -> 19 | U27: =IF(D27=1,L27+T27,"") -> 78 | V27: =IF((H27+P27)>0,(H27+P27)/5,0) -> 1 | W27: =IF(D27=1,RANK(U27,$U$5:$U$49)," ") -> 8 | X27: =IF(D27=1,(($D$50-W27+1)+IF(W27=1,5,IF(W27=2,3,IF(W27=3,1,0))))," ") -> 24
A28: =A27+1 -> 24 | B28: Federico Mollica | C28: =CONCATENATE(LEFT(B28,FIND(" ",B28) + 2),".") -> Federico Mo. | D28: 1 | E28: 4 | F28: 10 | G28: 30 | H28: 5 | I28: 16 | L28: =SUM(F28:K28) -> 61 | M28: 10 | O28: 15 | T28: =SUM(N28:S28) -> 15 | U28: =IF(D28=1,L28+T28,"") -> 76 | V28: =IF((H28+P28)>0,(H28+P28)/5,0) -> 1 | W28: =IF(D28=1,RANK(U28,$U$5:$U$49)," ") -> 10 | X28: =IF(D28=1,(($D$50-W28+1)+IF(W28=1,5,IF(W28=2,3,IF(W28=3,1,0))))," ") -> 22
A29: =A28+1 -> 25 | B29: Massimo Malerba | C29: =CONCATENATE(LEFT(B29,FIND(" ",B29) + 2),".") -> Massimo Ma. | D29: 1 | E29: 8 | F29: 10 | G29: 29 | H29: 5 | I29: 3 | K29: -10 | L29: =SUM(F29:K29) -> 37 | N29: 10 | O29: 18 | P29: 10 | T29: =SUM(N29:S29) -> 38 | U29: =IF(D29=1,L29+T29,"") -> 75 | V29: =IF((H29+P29)>0,(H29+P29)/5,0) -> 3 | W29: =IF(D29=1,RANK(U29,$U$5:$U$49)," ") -> 11 | X29: =IF(D29=1,(($D$50-W29+1)+IF(W29=1,5,IF(W29=2,3,IF(W29=3,1,0))))," ") -> 21
A30: =A29+1 -> 26 | B30: Christian Vitale | C30: =CONCATENATE(LEFT(B30,FIND(" ",B30) + 2),".") -> Christian Vi. | D30: 1 | E30: 10 | F30: 10 | G30: 20 | I30: 16 | L30: =SUM(F30:K30) -> 46 | M30: 5 | O30: 26 | T30: =SUM(N30:S30) -> 26 | U30: =IF(D30=1,L30+T30,"") -> 72 | V30: =IF((H30+P30)>0,(H30+P30)/5,0) -> 0 | W30: =IF(D30=1,RANK(U30,$U$5:$U$49)," ") -> 12 | X30: =IF(D30=1,(($D$50-W30+1)+IF(W30=1,5,IF(W30=2,3,IF(W30=3,1,0))))," ") -> 20
A31: =A30+1 -> 27 | B31: Francesco Ulmo | C31: =CONCATENATE(LEFT(B31,FIND(" ",B31) + 2),".") -> Francesco Ul. | D31: 1 | E31: 5 | F31: 10 | G31: 23 | I31: 16 | L31: =SUM(F31:K31) -> 49 | M31: 10 | O31: 15 | T31: =SUM(N31:S31) -> 15 | U31: =IF(D31=1,L31+T31,"") -> 64 | V31: =IF((H31+P31)>0,(H31+P31)/5,0) -> 0 | W31: =IF(D31=1,RANK(U31,$U$5:$U$49)," ") -> 13 | X31: =IF(D31=1,(($D$50-W31+1)+IF(W31=1,5,IF(W31=2,3,IF(W31=3,1,0))))," ") -> 19
A32: =A31+1 -> 28 | B32: Giuseppe Tamba | C32: =CONCATENATE(LEFT(B32,FIND(" ",B32) + 2),".") -> Giuseppe Ta. | D32: 1 | E32: 7 | F32: 10 | G32: 18 | H32: 5 | I32: 16 | L32: =SUM(F32:K32) -> 49 | M32: 8 | O32: 19 | P32: 5 | S32: -10 | T32: =SUM(N32:S32) -> 14 | U32: =IF(D32=1,L32+T32,"") -> 63 | V32: =IF((H32+P32)>0,(H32+P32)/5,0) -> 2 | W32: =IF(D32=1,RANK(U32,$U$5:$U$49)," ") -> 14 | X32: =IF(D32=1,(($D$50-W32+1)+IF(W32=1,5,IF(W32=2,3,IF(W32=3,1,0))))," ") -> 18
A33: =A32+1 -> 29 | B33: Paolo Valerio | C33: =CONCATENATE(LEFT(B33,FIND(" ",B33) + 2),".") -> Paolo Va. | D33: 1 | E33: 3 | F33: 10 | G33: 25 | H33: 5 | I33: 8 | K33: -10 | L33: =SUM(F33:K33) -> 38 | M33: 3 | O33: 19 | P33: 5 | T33: =SUM(N33:S33) -> 24 | U33: =IF(D33=1,L33+T33,"") -> 62 | V33: =IF((H33+P33)>0,(H33+P33)/5,0) -> 2 | W33: =IF(D33=1,RANK(U33,$U$5:$U$49)," ") -> 15 | X33: =IF(D33=1,(($D$50-W33+1)+IF(W33=1,5,IF(W33=2,3,IF(W33=3,1,0))))," ") -> 17
A34: =A33+1 -> 30 | B34: Francesco Petraroli | C34: =CONCATENATE(LEFT(B34,FIND(" ",B34) + 2),".") -> Francesco Pe. | D34: 1 | E34: 3 | F34: 10 | G34: 8 | I34: 17 | K34: -10 | L34: =SUM(F34:K34) -> 25 | M34: 6 | N34: 10 | O34: 20 | P34: 5 | T34: =SUM(N34:S34) -> 35 | U34: =IF(D34=1,L34+T34,"") -> 60 | V34: =IF((H34+P34)>0,(H34+P34)/5,0) -> 1 | W34: =IF(D34=1,RANK(U34,$U$5:$U$49)," ") -> 16 | X34: =IF(D34=1,(($D$50-W34+1)+IF(W34=1,5,IF(W34=2,3,IF(W34=3,1,0))))," ") -> 16
A35: =A34+1 -> 31 | B35: Artemisia Von Rust | C35: =CONCATENATE(LEFT(B35,FIND(" ",B35) + 2),".") -> Artemisia Vo. | D35: 1 | E35: 8 | F35: 10 | G35: 29 | H35: 5 | I35: 3 | K35: -10 | L35: =SUM(F35:K35) -> 37 | M35: 9 | O35: 19 | T35: =SUM(N35:S35) -> 19 | U35: =IF(D35=1,L35+T35,"") -> 56 | V35: =IF((H35+P35)>0,(H35+P35)/5,0) -> 1 | W35: =IF(D35=1,RANK(U35,$U$5:$U$49)," ") -> 17 | X35: =IF(D35=1,(($D$50-W35+1)+IF(W35=1,5,IF(W35=2,3,IF(W35=3,1,0))))," ") -> 15
A36: =A35+1 -> 32 | B36: Luca Postumi | C36: =CONCATENATE(LEFT(B36,FIND(" ",B36) + 2),".") -> Luca Po. | D36: 1 | E36: 10 | F36: 10 | G36: 16 | I36: 17 | L36: =SUM(F36:K36) -> 43 | M36: 2 | O36: 17 | P36: 5 | S36: -10 | T36: =SUM(N36:S36) -> 12 | U36: =IF(D36=1,L36+T36,"") -> 55 | V36: =IF((H36+P36)>0,(H36+P36)/5,0) -> 1 | W36: =IF(D36=1,RANK(U36,$U$5:$U$49)," ") -> 18 | X36: =IF(D36=1,(($D$50-W36+1)+IF(W36=1,5,IF(W36=2,3,IF(W36=3,1,0))))," ") -> 14
A37: =A36+1 -> 33 | B37: Andrea Morviducci | C37: =CONCATENATE(LEFT(B37,FIND(" ",B37) + 2),".") -> Andrea Mo. | D37: 1 | E37: 1 | F37: 10 | G37: 20 | H37: 5 | I37: 6 | J37: -20 | L37: =SUM(F37:K37) -> 21 | M37: 3 | O37: 28 | P37: 5 | S37: -10 | T37: =SUM(N37:S37) -> 23 | U37: =IF(D37=1,L37+T37,"") -> 44 | V37: =IF((H37+P37)>0,(H37+P37)/5,0) -> 2 | W37: =IF(D37=1,RANK(U37,$U$5:$U$49)," ") -> 19 | X37: =IF(D37=1,(($D$50-W37+1)+IF(W37=1,5,IF(W37=2,3,IF(W37=3,1,0))))," ") -> 13
A38: =A37+1 -> 34 | B38: Massimo Mollica | C38: =CONCATENATE(LEFT(B38,FIND(" ",B38) + 2),".") -> Massimo Mo. | D38: 1 | E38: 1 | F38: 10 | G38: 27 | H38: 5 | I38: 17 | L38: =SUM(F38:K38) -> 59 | M38: 7 | O38: 14 | R38: -20 | S38: -10 | T38: =SUM(N38:S38) -> -16 | U38: =IF(D38=1,L38+T38,"") -> 43 | V38: =IF((H38+P38)>0,(H38+P38)/5,0) -> 1 | W38: =IF(D38=1,RANK(U38,$U$5:$U$49)," ") -> 20 | X38: =IF(D38=1,(($D$50-W38+1)+IF(W38=1,5,IF(W38=2,3,IF(W38=3,1,0))))," ") -> 12
A39: =A38+1 -> 35 | B39: Franco Napoleoni | C39: =CONCATENATE(LEFT(B39,FIND(" ",B39) + 2),".") -> Franco Na. | D39: 1 | E39: 5 | G39: 25 | H39: 5 | I39: 8 | K39: -10 | L39: =SUM(F39:K39) -> 28 | M39: 10 | O39: 9 | T39: =SUM(N39:S39) -> 9 | U39: =IF(D39=1,L39+T39,"") -> 37 | V39: =IF((H39+P39)>0,(H39+P39)/5,0) -> 1 | W39: =IF(D39=1,RANK(U39,$U$5:$U$49)," ") -> 21 | X39: =IF(D39=1,(($D$50-W39+1)+IF(W39=1,5,IF(W39=2,3,IF(W39=3,1,0))))," ") -> 11
A40: =A39+1 -> 36 | B40: Riccardo Rigillo | C40: =CONCATENATE(LEFT(B40,FIND(" ",B40) + 2),".") -> Riccardo Ri. | D40: 1 | E40: 3 | F40: 10 | G40: 8 | I40: 17 | K40: -10 | L40: =SUM(F40:K40) -> 25 | M40: 4 | O40: 14 | S40: -10 | T40: =SUM(N40:S40) -> 4 | U40: =IF(D40=1,L40+T40,"") -> 29 | V40: =IF((H40+P40)>0,(H40+P40)/5,0) -> 0 | W40: =IF(D40=1,RANK(U40,$U$5:$U$49)," ") -> 22 | X40: =IF(D40=1,(($D$50-W40+1)+IF(W40=1,5,IF(W40=2,3,IF(W40=3,1,0))))," ") -> 10
A41: =A40+1 -> 37 | B41: Daniel Terracina | C41: =CONCATENATE(LEFT(B41,FIND(" ",B41) + 2),".") -> Daniel Te. | D41: 1 | E41: 9 | G41: 19 | L41: =SUM(F41:K41) -> 19 | M41: 10 | O41: 9 | T41: =SUM(N41:S41) -> 9 | U41: =IF(D41=1,L41+T41,"") -> 28 | V41: =IF((H41+P41)>0,(H41+P41)/5,0) -> 0 | W41: =IF(D41=1,RANK(U41,$U$5:$U$49)," ") -> 23 | X41: =IF(D41=1,(($D$50-W41+1)+IF(W41=1,5,IF(W41=2,3,IF(W41=3,1,0))))," ") -> 9
A42: =A41+1 -> 38 | B42: Laura Di Marco | C42: =CONCATENATE(LEFT(B42,FIND(" ",B42) + 2),".") -> Laura Di. | D42: 1 | E42: 9 | G42: 19 | I42: 0 | L42: =SUM(F42:K42) -> 19 | M42: 5 | O42: 11 | S42: -10 | T42: =SUM(N42:S42) -> 1 | U42: =IF(D42=1,L42+T42,"") -> 20 | V42: =IF((H42+P42)>0,(H42+P42)/5,0) -> 0 | W42: =IF(D42=1,RANK(U42,$U$5:$U$49)," ") -> 24 | X42: =IF(D42=1,(($D$50-W42+1)+IF(W42=1,5,IF(W42=2,3,IF(W42=3,1,0))))," ") -> 8
A43: =A42+1 -> 39 | B43: Barbara Von Rust | C43: =CONCATENATE(LEFT(B43,FIND(" ",B43) + 2),".") -> Barbara Vo. | D43: 1 | E43: 10 | F43: 10 | G43: 16 | I43: 17 | L43: =SUM(F43:K43) -> 43 | M43: 1 | O43: 6 | R43: -20 | S43: -10 | T43: =SUM(N43:S43) -> -24 | U43: =IF(D43=1,L43+T43,"") -> 19 | V43: =IF((H43+P43)>0,(H43+P43)/5,0) -> 0 | W43: =IF(D43=1,RANK(U43,$U$5:$U$49)," ") -> 25 | X43: =IF(D43=1,(($D$50-W43+1)+IF(W43=1,5,IF(W43=2,3,IF(W43=3,1,0))))," ") -> 7
A44: =A43+1 -> 40 | B44: Francesco Marradi | C44: =CONCATENATE(LEFT(B44,FIND(" ",B44) + 2),".") -> Francesco Ma. | D44: 1 | E44: 2 | G44: 5 | I44: 0 | J44: -20 | K44: -10 | L44: =SUM(F44:K44) -> -25 | M44: 5 | O44: 26 | T44: =SUM(N44:S44) -> 26 | U44: =IF(D44=1,L44+T44,"") -> 1 | V44: =IF((H44+P44)>0,(H44+P44)/5,0) -> 0 | W44: =IF(D44=1,RANK(U44,$U$5:$U$49)," ") -> 26 | X44: =IF(D44=1,(($D$50-W44+1)+IF(W44=1,5,IF(W44=2,3,IF(W44=3,1,0))))," ") -> 6
A45: =A44+1 -> 41 | B45: Michele Balasso | C45: =CONCATENATE(LEFT(B45,FIND(" ",B45) + 2),".") -> Michele Ba. | D45: 1 | E45: 6 | G45: 7 | I45: 0 | K45: -10 | L45: =SUM(F45:K45) -> -3 | M45: 7 | O45: 11 | S45: -10 | T45: =SUM(N45:S45) -> 1 | U45: =IF(D45=1,L45+T45,"") -> -2 | V45: =IF((H45+P45)>0,(H45+P45)/5,0) -> 0 | W45: =IF(D45=1,RANK(U45,$U$5:$U$49)," ") -> 27 | X45: =IF(D45=1,(($D$50-W45+1)+IF(W45=1,5,IF(W45=2,3,IF(W45=3,1,0))))," ") -> 5
A46: =A45+1 -> 42 | B46: Alberto Panicucci | C46: =CONCATENATE(LEFT(B46,FIND(" ",B46) + 2),".") -> Alberto Pa. | D46: 1 | E46: 1 | F46: 10 | G46: 20 | H46: 5 | I46: 6 | J46: -20 | L46: =SUM(F46:K46) -> 21 | M46: 1 | O46: 2 | R46: -20 | S46: -10 | T46: =SUM(N46:S46) -> -28 | U46: =IF(D46=1,L46+T46,"") -> -7 | V46: =IF((H46+P46)>0,(H46+P46)/5,0) -> 1 | W46: =IF(D46=1,RANK(U46,$U$5:$U$49)," ") -> 28 | X46: =IF(D46=1,(($D$50-W46+1)+IF(W46=1,5,IF(W46=2,3,IF(W46=3,1,0))))," ") -> 4
A47: =A46+1 -> 43 | B47: Stefano Tiribocchi | C47: =CONCATENATE(LEFT(B47,FIND(" ",B47) + 2),".") -> Stefano Ti. | D47: 1 | E47: 6 | G47: 10 | I47: 8 | K47: -10 | L47: =SUM(F47:K47) -> 8 | M47: 7 | O47: 14 | R47: -20 | S47: -10 | T47: =SUM(N47:S47) -> -16 | U47: =IF(D47=1,L47+T47,"") -> -8 | V47: =IF((H47+P47)>0,(H47+P47)/5,0) -> 0 | W47: =IF(D47=1,RANK(U47,$U$5:$U$49)," ") -> 29 | X47: =IF(D47=1,(($D$50-W47+1)+IF(W47=1,5,IF(W47=2,3,IF(W47=3,1,0))))," ") -> 3
A48: =A47+1 -> 44 | B48: Ivan Martinelli | C48: =CONCATENATE(LEFT(B48,FIND(" ",B48) + 2),".") -> Ivan Ma. | D48: 1 | E48: 2 | G48: 16 | I48: 0 | K48: -20 | L48: =SUM(F48:K48) -> -4 | M48: 1 | O48: 6 | R48: -20 | S48: -10 | T48: =SUM(N48:S48) -> -24 | U48: =IF(D48=1,L48+T48,"") -> -28 | V48: =IF((H48+P48)>0,(H48+P48)/5,0) -> 0 | W48: =IF(D48=1,RANK(U48,$U$5:$U$49)," ") -> 30 | X48: =IF(D48=1,(($D$50-W48+1)+IF(W48=1,5,IF(W48=2,3,IF(W48=3,1,0))))," ") -> 2
A49: =A48+1 -> 45 | B49: Maurizio Vitale | C49: =CONCATENATE(LEFT(B49,FIND(" ",B49) + 2),".") -> Maurizio Vi. | D49: 1 | E49: 2 | G49: 5 | I49: 0 | J49: -20 | K49: -10 | L49: =SUM(F49:K49) -> -25 | M49: 9 | O49: 8 | S49: -20 | T49: =SUM(N49:S49) -> -12 | U49: =IF(D49=1,L49+T49,"") -> -37 | V49: =IF((H49+P49)>0,(H49+P49)/5,0) -> 0 | W49: =IF(D49=1,RANK(U49,$U$5:$U$49)," ") -> 31 | X49: =IF(D49=1,(($D$50-W49+1)+IF(W49=1,5,IF(W49=2,3,IF(W49=3,1,0))))," ") -> 1
D50: =SUM(D5:D49) -> 31
C53: Punti Giornata: sono i punti accumulati durante le partitre dell'evento e che determinano la classifica della giornata.
C54: Punti Classifica: sono i punti che l'ordine di classifica di giornata assegna e concorrono alla classifica generale

Sheet Giornata 4
K1: 5 | N1: 10
E2: RIEPILOGO PUNTEGGI QUARTA GIORNATA
E3: IMPERI | R3: INTESA | AE3: TOTALE
A4: 0 | B4: Nome Cognome | C4: Nome | D4: Presenza | E4: Tavolo | F4: Turno | G4: Colpi a Segno | H4: Vittorie Aere | I4: Obiettivi | J4: Ospedale | K4: Uscita | L4: Abbattutto | M4: Punti personali | N4: Punti Partner | O4: Vittoria | P4: Abbattimenti | Q4: Punti Team Imperi | R4: Tavolo | S4: Turno | T4: Colpi a Segno | U4: Vittorie Aere | V4: Obiettivi | W4: Ospedale | X4: Uscita | Y4: Abbattuto | Z4: Punti personali | AA4: Pubti Partner | AB4: Vittoria | AC4: Abbattimenti | AD4: Punti Team Intesa | AE4: Punti Giornata | AF4: Abbatimenti | AG4: Ordine | AH4: Punti Classifica
A5: =A4+1 -> 1 | B5: Alberto Garello | C5: =CONCATENATE(LEFT(B5,FIND(" ",B5) + 2),".") -> Alberto Ga. | Q5: =SUM(E5:O5) -> 0 | AD5: =SUM(R5:AB5) -> 0 | AE5: =IF(D5=1,Q5+AD5,"") | AF5: =P5+AC5 -> 0 | AG5: =IF(D5=1,RANK(AE5,$AE$5:$AE$49)," ") | AH5: =IF(D5=1,(($D$49-AG5+1)+IF(AG5=1,5,IF(AG5=2,3,IF(AG5=3,1,0))))," ")
A6: =A5+1 -> 2 | B6: Luca Postumi | C6: =CONCATENATE(LEFT(B6,FIND(" ",B6) + 2),".") -> Luca Po. | D6: 1 | E6: 1 | F6: 2 | G6: 13 | H6: 5 | L6: -10 | M6: =SUM(G6:L6) -> 8 | N6: 22 | O6: 10 | P6: 1 | Q6: =M6+N6+O6 -> 40 | R6: 7 | S6: 1 | T6: 13 | U6: 5 | Z6: =SUM(T6:Y6) -> 18 | AA6: 20 | AB6: 10 | AC6: 1 | AD6: =Z6+AA6+AB6 -> 48 | AE6: =IF(D6=1,Q6+AD6,"") -> 88 | AF6: =P6+AC6 -> 2 | AG6: =IF(D6=1,RANK(AE6,$AE$5:$AE$49)," ") -> 1 | AH6: =IF(D6=1,(($D$50-AG6+1)+IF(AG6=1,5,IF(AG6=2,3,IF(AG6=3,1,0))))," ") -> 25
A7: =A6+1 -> 3 | B7: Gino Lucrezi | C7: =CONCATENATE(LEFT(B7,FIND(" ",B7) + 2),".") -> Gino Lu. | D7: 1 | E7: 1 | F7: 2 | G7: 17 | H7: 5 | M7: =SUM(G7:L7) -> 22 | N7: 8 | O7: 10 | P7: 1 | Q7: =M7+N7+O7 -> 40 | R7: 5 | S7: 1 | T7: 11 | Z7: =SUM(T7:Y7) -> 11 | AA7: 23 | AB7: 10 | AC7: 1 | AD7: =Z7+AA7+AB7 -> 44 | AE7: =IF(D7=1,Q7+AD7,"") -> 84 | AF7: =P7+AC7 -> 2 | AG7: =IF(D7=1,RANK(AE7,$AE$5:$AE$49)," ") -> 2 | AH7: =IF(D7=1,(($D$50-AG7+1)+IF(AG7=1,5,IF(AG7=2,3,IF(AG7=3,1,0))))," ") -> 22
A8: =A7+1 -> 4 | B8: Alessandrro Corradi | C8: =CONCATENATE(LEFT(B8,FIND(" ",B8) + 2),".") -> Alessandrro Co. | Q8: =SUM(E8:O8) -> 0 | AD8: =SUM(R8:AB8) -> 0 | AE8: =IF(D8=1,Q8+AD8,"") | AF8: =P8+AC8 -> 0 | AG8: =IF(D8=1,RANK(AE8,$AE$5:$AE$49)," ") | AH8: =IF(D8=1,(($D$49-AG8+1)+IF(AG8=1,5,IF(AG8=2,3,IF(AG8=3,1,0))))," ")
A9: =A8+1 -> 5 | B9: Andrea Garello | C9: =CONCATENATE(LEFT(B9,FIND(" ",B9) + 2),".") -> Andrea Ga. | Q9: =SUM(E9:O9) -> 0 | AD9: =SUM(R9:AB9) -> 0 | AE9: =IF(D9=1,Q9+AD9,"") | AF9: =P9+AC9 -> 0 | AG9: =IF(D9=1,RANK(AE9,$AE$5:$AE$49)," ") | AH9: =IF(D9=1,(($D$49-AG9+1)+IF(AG9=1,5,IF(AG9=2,3,IF(AG9=3,1,0))))," ")
A10: =A9+1 -> 6 | B10: Francesco Ulmo | C10: =CONCATENATE(LEFT(B10,FIND(" ",B10) + 2),".") -> Francesco Ul. | D10: 1 | E10: 2 | F10: 2 | G10: 13 | I10: 5 | L10: -10 | M10: =SUM(G10:L10) -> 8 | N10: 17 | O10: 10 | P10: 1 | Q10: =M10+N10+O10 -> 35 | R10: 7 | S10: 1 | T10: 15 | U10: 5 | Z10: =SUM(T10:Y10) -> 20 | AA10: 18 | AB10: 10 | AC10: 1 | AD10: =Z10+AA10+AB10 -> 48 | AE10: =IF(D10=1,Q10+AD10,"") -> 83 | AF10: =P10+AC10 -> 2 | AG10: =IF(D10=1,RANK(AE10,$AE$5:$AE$49)," ") -> 3 | AH10: =IF(D10=1,(($D$50-AG10+1)+IF(AG10=1,5,IF(AG10=2,3,IF(AG10=3,1,0))))," ") -> 19
A11: =A10+1 -> 7 | B11: Andrea Procaccino | C11: =CONCATENATE(LEFT(B11,FIND(" ",B11) + 2),".") -> Andrea Pr. | Q11: =SUM(E11:O11) -> 0 | AD11: =SUM(R11:AB11) -> 0 | AE11: =IF(D11=1,Q11+AD11,"") | AF11: =P11+AC11 -> 0 | AG11: =IF(D11=1,RANK(AE11,$AE$5:$AE$49)," ") | AH11: =IF(D11=1,(($D$49-AG11+1)+IF(AG11=1,5,IF(AG11=2,3,IF(AG11=3,1,0))))," ")
A12: =A11+1 -> 8 | B12: Paolo Valerio | C12: =CONCATENATE(LEFT(B12,FIND(" ",B12) + 2),".") -> Paolo Va. | D12: 1 | E12: 3 | F12: 2 | G12: 7 | I12: 10 | M12: =SUM(G12:L12) -> 17 | N12: 5 | O12: 10 | Q12: =M12+N12+O12 -> 32 | R12: 2 | S12: 1 | T12: 19 | U12: 5 | Z12: =SUM(T12:Y12) -> 24 | AA12: 17 | AB12: 10 | AC12: 1 | AD12: =Z12+AA12+AB12 -> 51 | AE12: =IF(D12=1,Q12+AD12,"") -> 83 | AF12: =P12+AC12 -> 1 | AG12: =IF(D12=1,RANK(AE12,$AE$5:$AE$49)," ") -> 3 | AH12: =IF(D12=1,(($D$50-AG12+1)+IF(AG12=1,5,IF(AG12=2,3,IF(AG12=3,1,0))))," ") -> 19
A13: =A12+1 -> 9 | B13: Barbara Von Rust | C13: =CONCATENATE(LEFT(B13,FIND(" ",B13) + 2),".") -> Barbara Vo. | Q13: =SUM(E13:O13) -> 0 | AD13: =SUM(R13:AB13) -> 0 | AE13: =IF(D13=1,Q13+AD13,"") | AF13: =P13+AC13 -> 0 | AG13: =IF(D13=1,RANK(AE13,$AE$5:$AE$49)," ") | AH13: =IF(D13=1,(($D$49-AG13+1)+IF(AG13=1,5,IF(AG13=2,3,IF(AG13=3,1,0))))," ")
A14: =A13+1 -> 10 | B14: Bruno Padronetti | C14: =CONCATENATE(LEFT(B14,FIND(" ",B14) + 2),".") -> Bruno Pa. | Q14: =SUM(E14:O14) -> 0 | AD14: =SUM(R14:AB14) -> 0 | AE14: =IF(D14=1,Q14+AD14,"") | AF14: =P14+AC14 -> 0 | AG14: =IF(D14=1,RANK(AE14,$AE$5:$AE$49)," ") | AH14: =IF(D14=1,(($D$49-AG14+1)+IF(AG14=1,5,IF(AG14=2,3,IF(AG14=3,1,0))))," ")
A15: =A14+1 -> 11 | B15: Christian Vitale | C15: =CONCATENATE(LEFT(B15,FIND(" ",B15) + 2),".") -> Christian Vi. | Q15: =SUM(E15:O15) -> 0 | AD15: =SUM(R15:AB15) -> 0 | AE15: =IF(D15=1,Q15+AD15,"") | AF15: =P15+AC15 -> 0 | AG15: =IF(D15=1,RANK(AE15,$AE$5:$AE$49)," ") | AH15: =IF(D15=1,(($D$49-AG15+1)+IF(AG15=1,5,IF(AG15=2,3,IF(AG15=3,1,0))))," ")
A16: =A15+1 -> 12 | B16: Claudio Marinangeli | C16: =CONCATENATE(LEFT(B16,FIND(" ",B16) + 2),".") -> Claudio Ma. | Q16: =SUM(E16:O16) -> 0 | AD16: =SUM(R16:AB16) -> 0 | AE16: =IF(D16=1,Q16+AD16,"") | AF16: =P16+AC16 -> 0 | AG16: =IF(D16=1,RANK(AE16,$AE$5:$AE$49)," ") | AH16: =IF(D16=1,(($D$49-AG16+1)+IF(AG16=1,5,IF(AG16=2,3,IF(AG16=3,1,0))))," ")
A17: =A16+1 -> 13 | B17: Daniel Terracina | C17: =CONCATENATE(LEFT(B17,FIND(" ",B17) + 2),".") -> Daniel Te. | Q17: =SUM(E17:O17) -> 0 | AD17: =SUM(R17:AB17) -> 0 | AE17: =IF(D17=1,Q17+AD17,"") | AF17: =P17+AC17 -> 0 | AG17: =IF(D17=1,RANK(AE17,$AE$5:$AE$49)," ") | AH17: =IF(D17=1,(($D$49-AG17+1)+IF(AG17=1,5,IF(AG17=2,3,IF(AG17=3,1,0))))," ")
A18: =A17+1 -> 14 | B18: Daniele Ferrini | C18: =CONCATENATE(LEFT(B18,FIND(" ",B18) + 2),".") -> Daniele Fe. | Q18: =SUM(E18:O18) -> 0 | AD18: =SUM(R18:AB18) -> 0 | AE18: =IF(D18=1,Q18+AD18,"") | AF18: =P18+AC18 -> 0 | AG18: =IF(D18=1,RANK(AE18,$AE$5:$AE$49)," ") | AH18: =IF(D18=1,(($D$49-AG18+1)+IF(AG18=1,5,IF(AG18=2,3,IF(AG18=3,1,0))))," ")
A19: =A18+1 -> 15 | B19: Daniele Pagliuca | C19: =CONCATENATE(LEFT(B19,FIND(" ",B19) + 2),".") -> Daniele Pa. | Q19: =SUM(E19:O19) -> 0 | AD19: =SUM(R19:AB19) -> 0 | AE19: =IF(D19=1,Q19+AD19,"") | AF19: =P19+AC19 -> 0 | AG19: =IF(D19=1,RANK(AE19,$AE$5:$AE$49)," ") | AH19: =IF(D19=1,(($D$49-AG19+1)+IF(AG19=1,5,IF(AG19=2,3,IF(AG19=3,1,0))))," ")
A20: =A19+1 -> 16 | B20: Riccardo Vadalà | C20: =CONCATENATE(LEFT(B20,FIND(" ",B20) + 2),".") -> Riccardo Va. | D20: 1 | E20: 3 | F20: 2 | G20: 5 | M20: =SUM(G20:L20) -> 5 | N20: 17 | O20: 10 | Q20: =M20+N20+O20 -> 32 | R20: 2 | S20: 1 | T20: 12 | U20: 5 | Z20: =SUM(T20:Y20) -> 17 | AA20: 24 | AB20: 10 | AC20: 1 | AD20: =Z20+AA20+AB20 -> 51 | AE20: =IF(D20=1,Q20+AD20,"") -> 83 | AF20: =P20+AC20 -> 1 | AG20: =IF(D20=1,RANK(AE20,$AE$5:$AE$49)," ") -> 3 | AH20: =IF(D20=1,(($D$50-AG20+1)+IF(AG20=1,5,IF(AG20=2,3,IF(AG20=3,1,0))))," ") -> 19
A21: =A20+1 -> 17 | B21: Daniele Petraroli | C21: =CONCATENATE(LEFT(B21,FIND(" ",B21) + 2),".") -> Daniele Pe. | D21: 1 | E21: 5 | F21: 2 | G21: 7 | M21: =SUM(G21:L21) -> 7 | N21: 13 | O21: 10 | Q21: =M21+N21+O21 -> 30 | R21: 5 | S21: 1 | T21: 18 | U21: 5 | Z21: =SUM(T21:Y21) -> 23 | AA21: 11 | AB21: 10 | AC21: 1 | AD21: =Z21+AA21+AB21 -> 44 | AE21: =IF(D21=1,Q21+AD21,"") -> 74 | AF21: =P21+AC21 -> 1 | AG21: =IF(D21=1,RANK(AE21,$AE$5:$AE$49)," ") -> 6 | AH21: =IF(D21=1,(($D$50-AG21+1)+IF(AG21=1,5,IF(AG21=2,3,IF(AG21=3,1,0))))," ") -> 15
A22: =A21+1 -> 18 | B22: Fabio Zanelli | C22: =CONCATENATE(LEFT(B22,FIND(" ",B22) + 2),".") -> Fabio Za. | Q22: =SUM(E22:O22) -> 0 | AD22: =SUM(R22:AB22) -> 0 | AE22: =IF(D22=1,Q22+AD22,"") | AF22: =P22+AC22 -> 0 | AG22: =IF(D22=1,RANK(AE22,$AE$5:$AE$49)," ") | AH22: =IF(D22=1,(($D$49-AG22+1)+IF(AG22=1,5,IF(AG22=2,3,IF(AG22=3,1,0))))," ")
A23: =A22+1 -> 19 | B23: Federico Mollica | C23: =CONCATENATE(LEFT(B23,FIND(" ",B23) + 2),".") -> Federico Mo. | D23: 1 | E23: 1 | F23: 1 | G23: 11 | I23: 3 | M23: =SUM(G23:L23) -> 14 | N23: 20 | O23: 10 | P23: 1 | Q23: =M23+N23+O23 -> 44 | R23: 3 | S23: 2 | T23: 11 | Z23: =SUM(T23:Y23) -> 11 | AA23: 5 | AD23: =Z23+AA23+AB23 -> 16 | AE23: =IF(D23=1,Q23+AD23,"") -> 60 | AF23: =P23+AC23 -> 1 | AG23: =IF(D23=1,RANK(AE23,$AE$5:$AE$49)," ") -> 7 | AH23: =IF(D23=1,(($D$50-AG23+1)+IF(AG23=1,5,IF(AG23=2,3,IF(AG23=3,1,0))))," ") -> 14
A24: =A23+1 -> 20 | B24: Francesco Berucci | C24: =CONCATENATE(LEFT(B24,FIND(" ",B24) + 2),".") -> Francesco Be. | Q24: =SUM(E24:O24) -> 0 | AD24: =SUM(R24:AB24) -> 0 | AE24: =IF(D24=1,Q24+AD24,"") | AF24: =P24+AC24 -> 0 | AG24: =IF(D24=1,RANK(AE24,$AE$5:$AE$49)," ") | AH24: =IF(D24=1,(($D$49-AG24+1)+IF(AG24=1,5,IF(AG24=2,3,IF(AG24=3,1,0))))," ")
A25: =A24+1 -> 21 | B25: Alberto Panicucci | C25: =CONCATENATE(LEFT(B25,FIND(" ",B25) + 2),".") -> Alberto Pa. | D25: 1 | E25: 5 | F25: 1 | G25: 7 | I25: 6 | L25: -10 | M25: =SUM(G25:L25) -> 3 | N25: 8 | Q25: =M25+N25+O25 -> 11 | R25: 7 | S25: 2 | T25: 7 | Z25: =SUM(T25:Y25) -> 7 | AA25: 25 | AB25: 10 | AD25: =Z25+AA25+AB25 -> 42 | AE25: =IF(D25=1,Q25+AD25,"") -> 53 | AF25: =P25+AC25 -> 0 | AG25: =IF(D25=1,RANK(AE25,$AE$5:$AE$49)," ") -> 8 | AH25: =IF(D25=1,(($D$50-AG25+1)+IF(AG25=1,5,IF(AG25=2,3,IF(AG25=3,1,0))))," ") -> 13
A26: =A25+1 -> 22 | B26: Alessandro Babbi | C26: =CONCATENATE(LEFT(B26,FIND(" ",B26) + 2),".") -> Alessandro Ba. | D26: 1 | E26: 1 | F26: 1 | G26: 15 | H26: 5 | M26: =SUM(G26:L26) -> 20 | N26: 14 | O26: 10 | P26: 1 | Q26: =M26+N26+O26 -> 44 | R26: 1 | S26: 2 | T26: 3 | Y26: -10 | Z26: =SUM(T26:Y26) -> -7 | AA26: 9 | AD26: =Z26+AA26+AB26 -> 2 | AE26: =IF(D26=1,Q26+AD26,"") -> 46 | AF26: =P26+AC26 -> 1 | AG26: =IF(D26=1,RANK(AE26,$AE$5:$AE$49)," ") -> 9 | AH26: =IF(D26=1,(($D$50-AG26+1)+IF(AG26=1,5,IF(AG26=2,3,IF(AG26=3,1,0))))," ") -> 12
A27: =A26+1 -> 23 | B27: Artemisia Von Rust | C27: =CONCATENATE(LEFT(B27,FIND(" ",B27) + 2),".") -> Artemisia Vo. | D27: 1 | E27: 7 | F27: 1 | G27: 5 | L27: -10 | M27: =SUM(G27:L27) -> -5 | N27: 9 | Q27: =M27+N27+O27 -> 4 | R27: 7 | S27: 2 | T27: 20 | U27: 5 | Z27: =SUM(T27:Y27) -> 25 | AA27: 7 | AB27: 10 | AC27: 1 | AD27: =Z27+AA27+AB27 -> 42 | AE27: =IF(D27=1,Q27+AD27,"") -> 46 | AF27: =P27+AC27 -> 1 | AG27: =IF(D27=1,RANK(AE27,$AE$5:$AE$49)," ") -> 9 | AH27: =IF(D27=1,(($D$50-AG27+1)+IF(AG27=1,5,IF(AG27=2,3,IF(AG27=3,1,0))))," ") -> 12
A28: =A27+1 -> 24 | B28: Erminio Serio | C28: =CONCATENATE(LEFT(B28,FIND(" ",B28) + 2),".") -> Erminio Se. | D28: 1 | E28: 3 | F28: 1 | G28: 2 | K28: -20 | M28: =SUM(G28:L28) -> -18 | N28: 25 | O28: 10 | Q28: =M28+N28+O28 -> 17 | R28: 5 | S28: 2 | T28: 4 | Z28: =SUM(T28:Y28) -> 4 | AA28: 15 | AD28: =Z28+AA28+AB28 -> 19 | AE28: =IF(D28=1,Q28+AD28,"") -> 36 | AF28: =P28+AC28 -> 0 | AG28: =IF(D28=1,RANK(AE28,$AE$5:$AE$49)," ") -> 11 | AH28: =IF(D28=1,(($D$50-AG28+1)+IF(AG28=1,5,IF(AG28=2,3,IF(AG28=3,1,0))))," ") -> 10
A29: =A28+1 -> 25 | B29: Valerio Ferrandino | C29: =CONCATENATE(LEFT(B29,FIND(" ",B29) + 2),".") -> Valerio Fe. | D29: 1 | E29: 3 | F29: 1 | G29: 14 | H29: 5 | I29: 6 | M29: =SUM(G29:L29) -> 25 | N29: -18 | O29: 10 | P29: 1 | Q29: =M29+N29+O29 -> 17 | R29: 5 | S29: 2 | T29: 15 | Z29: =SUM(T29:Y29) -> 15 | AA29: 4 | AD29: =Z29+AA29+AB29 -> 19 | AE29: =IF(D29=1,Q29+AD29,"") -> 36 | AF29: =P29+AC29 -> 1 | AG29: =IF(D29=1,RANK(AE29,$AE$5:$AE$49)," ") -> 11 | AH29: =IF(D29=1,(($D$50-AG29+1)+IF(AG29=1,5,IF(AG29=2,3,IF(AG29=3,1,0))))," ") -> 10
A30: =A29+1 -> 26 | B30: Ken Jones | C30: =CONCATENATE(LEFT(B30,FIND(" ",B30) + 2),".") -> Ken Jo. | D30: 1 | E30: 2 | F30: 2 | G30: 17 | H30: 10 | L30: -10 | M30: =SUM(G30:L30) -> 17 | N30: 8 | O30: 10 | P30: 2 | Q30: =M30+N30+O30 -> 35 | R30: 3 | S30: 1 | T30: 5 | X30: -20 | Z30: =SUM(T30:Y30) -> -15 | AA30: 5 | AD30: =Z30+AA30+AB30 -> -10 | AE30: =IF(D30=1,Q30+AD30,"") -> 25 | AF30: =P30+AC30 -> 2 | AG30: =IF(D30=1,RANK(AE30,$AE$5:$AE$49)," ") -> 13 | AH30: =IF(D30=1,(($D$50-AG30+1)+IF(AG30=1,5,IF(AG30=2,3,IF(AG30=3,1,0))))," ") -> 8
A31: =A30+1 -> 27 | B31: Giuseppe Tamba | C31: =CONCATENATE(LEFT(B31,FIND(" ",B31) + 2),".") -> Giuseppe Ta. | D31: 1 | E31: 7 | F31: 1 | G31: 14 | H31: 5 | L31: -10 | M31: =SUM(G31:L31) -> 9 | N31: -5 | P31: 1 | Q31: =M31+N31+O31 -> 4 | R31: 2 | S31: 2 | T31: 11 | U31: 5 | Y31: -10 | Z31: =SUM(T31:Y31) -> 6 | AA31: 14 | AC31: 1 | AD31: =Z31+AA31+AB31 -> 20 | AE31: =IF(D31=1,Q31+AD31,"") -> 24 | AF31: =P31+AC31 -> 2 | AG31: =IF(D31=1,RANK(AE31,$AE$5:$AE$49)," ") -> 14 | AH31: =IF(D31=1,(($D$50-AG31+1)+IF(AG31=1,5,IF(AG31=2,3,IF(AG31=3,1,0))))," ") -> 7
A32: =A31+1 -> 28 | B32: Jolly 1 | C32: =CONCATENATE(LEFT(B32,FIND(" ",B32) + 2),".") -> Jolly 1. | Q32: =SUM(E32:O32) -> 0 | AD32: =SUM(R32:AB32) -> 0 | AE32: =IF(D32=1,Q32+AD32,"") | AF32: =P32+AC32 -> 0 | AG32: =IF(D32=1,RANK(AE32,$AE$5:$AE$49)," ") | AH32: =IF(D32=1,(($D$49-AG32+1)+IF(AG32=1,5,IF(AG32=2,3,IF(AG32=3,1,0))))," ")
A33: =A32+1 -> 29 | B33: Jolly 2 | C33: =CONCATENATE(LEFT(B33,FIND(" ",B33) + 2),".") -> Jolly 2. | Q33: =SUM(E33:O33) -> 0 | AD33: =SUM(R33:AB33) -> 0 | AE33: =IF(D33=1,Q33+AD33,"") | AF33: =P33+AC33 -> 0 | AG33: =IF(D33=1,RANK(AE33,$AE$5:$AE$49)," ") | AH33: =IF(D33=1,(($D$49-AG33+1)+IF(AG33=1,5,IF(AG33=2,3,IF(AG33=3,1,0))))," ")
A34: =A33+1 -> 30 | B34: Franco Napoleoni | C34: =CONCATENATE(LEFT(B34,FIND(" ",B34) + 2),".") -> Franco Na. | D34: 1 | E34: 2 | F34: 1 | G34: 3 | L34: -10 | M34: =SUM(G34:L34) -> -7 | N34: 9 | Q34: =M34+N34+O34 -> 2 | R34: 2 | S34: 2 | T34: 19 | U34: 5 | Y34: -10 | Z34: =SUM(T34:Y34) -> 14 | AA34: 6 | AC34: 1 | AD34: =Z34+AA34+AB34 -> 20 | AE34: =IF(D34=1,Q34+AD34,"") -> 22 | AF34: =P34+AC34 -> 1 | AG34: =IF(D34=1,RANK(AE34,$AE$5:$AE$49)," ") -> 15 | AH34: =IF(D34=1,(($D$50-AG34+1)+IF(AG34=1,5,IF(AG34=2,3,IF(AG34=3,1,0))))," ") -> 6
A35: =A34+1 -> 31 | B35: Laura Di Marco | C35: =CONCATENATE(LEFT(B35,FIND(" ",B35) + 2),".") -> Laura Di. | Q35: =SUM(E35:O35) -> 0 | AD35: =SUM(R35:AB35) -> 0 | AE35: =IF(D35=1,Q35+AD35,"") | AF35: =P35+AC35 -> 0 | AG35: =IF(D35=1,RANK(AE35,$AE$5:$AE$49)," ") | AH35: =IF(D35=1,(($D$49-AG35+1)+IF(AG35=1,5,IF(AG35=2,3,IF(AG35=3,1,0))))," ")
A36: =A35+1 -> 32 | B36: Francesco Marradi | C36: =CONCATENATE(LEFT(B36,FIND(" ",B36) + 2),".") -> Francesco Ma. | D36: 1 | E36: 5 | F36: 2 | G36: 13 | M36: =SUM(G36:L36) -> 13 | N36: 7 | O36: 10 | Q36: =M36+N36+O36 -> 30 | R36: 3 | S36: 1 | T36: 15 | Y36: -10 | Z36: =SUM(T36:Y36) -> 5 | AA36: -15 | AD36: =Z36+AA36+AB36 -> -10 | AE36: =IF(D36=1,Q36+AD36,"") -> 20 | AF36: =P36+AC36 -> 0 | AG36: =IF(D36=1,RANK(AE36,$AE$5:$AE$49)," ") -> 16 | AH36: =IF(D36=1,(($D$50-AG36+1)+IF(AG36=1,5,IF(AG36=2,3,IF(AG36=3,1,0))))," ") -> 5
A37: =A36+1 -> 33 | B37: Marco Tambara | C37: =CONCATENATE(LEFT(B37,FIND(" ",B37) + 2),".") -> Marco Ta. | Q37: =SUM(E37:O37) -> 0 | AD37: =SUM(R37:AB37) -> 0 | AE37: =IF(D37=1,Q37+AD37,"") | AF37: =P37+AC37 -> 0 | AG37: =IF(D37=1,RANK(AE37,$AE$5:$AE$49)," ") | AH37: =IF(D37=1,(($D$49-AG37+1)+IF(AG37=1,5,IF(AG37=2,3,IF(AG37=3,1,0))))," ")
A38: =A37+1 -> 34 | B38: Massimo Berucci | C38: =CONCATENATE(LEFT(B38,FIND(" ",B38) + 2),".") -> Massimo Be. | Q38: =SUM(E38:O38) -> 0 | AD38: =SUM(R38:AB38) -> 0 | AE38: =IF(D38=1,Q38+AD38,"") | AF38: =P38+AC38 -> 0 | AG38: =IF(D38=1,RANK(AE38,$AE$5:$AE$49)," ") | AH38: =IF(D38=1,(($D$49-AG38+1)+IF(AG38=1,5,IF(AG38=2,3,IF(AG38=3,1,0))))," ")
A39: =A38+1 -> 35 | B39: Massimo Malerba | C39: =CONCATENATE(LEFT(B39,FIND(" ",B39) + 2),".") -> Massimo Ma. | Q39: =SUM(E39:O39) -> 0 | AD39: =SUM(R39:AB39) -> 0 | AE39: =IF(D39=1,Q39+AD39,"") | AF39: =P39+AC39 -> 0 | AG39: =IF(D39=1,RANK(AE39,$AE$5:$AE$49)," ") | AH39: =IF(D39=1,(($D$49-AG39+1)+IF(AG39=1,5,IF(AG39=2,3,IF(AG39=3,1,0))))," ")
A40: =A39+1 -> 36 | B40: Massimo Mollica | C40: =CONCATENATE(LEFT(B40,FIND(" ",B40) + 2),".") -> Massimo Mo. | Q40: =SUM(E40:O40) -> 0 | AD40: =SUM(R40:AB40) -> 0 | AE40: =IF(D40=1,Q40+AD40,"") | AF40: =P40+AC40 -> 0 | AG40: =IF(D40=1,RANK(AE40,$AE$5:$AE$49)," ") | AH40: =IF(D40=1,(($D$49-AG40+1)+IF(AG40=1,5,IF(AG40=2,3,IF(AG40=3,1,0))))," ")
A41: =A40+1 -> 37 | B41: Maurizio Vitale | C41: =CONCATENATE(LEFT(B41,FIND(" ",B41) + 2),".") -> Maurizio Vi. | Q41: =SUM(E41:O41) -> 0 | AD41: =SUM(R41:AB41) -> 0 | AE41: =IF(D41=1,Q41+AD41,"") | AF41: =P41+AC41 -> 0 | AG41: =IF(D41=1,RANK(AE41,$AE$5:$AE$49)," ") | AH41: =IF(D41=1,(($D$49-AG41+1)+IF(AG41=1,5,IF(AG41=2,3,IF(AG41=3,1,0))))," ")
A42: =A41+1 -> 38 | B42: Michele Balasso | C42: =CONCATENATE(LEFT(B42,FIND(" ",B42) + 2),".") -> Michele Ba. | Q42: =SUM(E42:O42) -> 0 | AD42: =SUM(R42:AB42) -> 0 | AE42: =IF(D42=1,Q42+AD42,"") | AF42: =P42+AC42 -> 0 | AG42: =IF(D42=1,RANK(AE42,$AE$5:$AE$49)," ") | AH42: =IF(D42=1,(($D$49-AG42+1)+IF(AG42=1,5,IF(AG42=2,3,IF(AG42=3,1,0))))," ")
A43: =A42+1 -> 39 | B43: Stefano Tiribocchi | C43: =CONCATENATE(LEFT(B43,FIND(" ",B43) + 2),".") -> Stefano Ti. | D43: 1 | E43: 2 | F43: 1 | G43: 16 | I43: 3 | L43: -10 | M43: =SUM(G43:L43) -> 9 | N43: -7 | Q43: =M43+N43+O43 -> 2 | R43: 3 | S43: 2 | T43: 5 | Z43: =SUM(T43:Y43) -> 5 | AA43: 11 | AD43: =Z43+AA43+AB43 -> 16 | AE43: =IF(D43=1,Q43+AD43,"") -> 18 | AF43: =P43+AC43 -> 0 | AG43: =IF(D43=1,RANK(AE43,$AE$5:$AE$49)," ") -> 17 | AH43: =IF(D43=1,(($D$50-AG43+1)+IF(AG43=1,5,IF(AG43=2,3,IF(AG43=3,1,0))))," ") -> 4
A44: =A43+1 -> 40 | B44: Raffaella Rovignoni | C44: =CONCATENATE(LEFT(B44,FIND(" ",B44) + 2),".") -> Raffaella Ro. | Q44: =SUM(E44:O44) -> 0 | AD44: =SUM(R44:AB44) -> 0 | AE44: =IF(D44=1,Q44+AD44,"") | AF44: =P44+AC44 -> 0 | AG44: =IF(D44=1,RANK(AE44,$AE$5:$AE$49)," ") | AH44: =IF(D44=1,(($D$49-AG44+1)+IF(AG44=1,5,IF(AG44=2,3,IF(AG44=3,1,0))))," ")
A45: =A44+1 -> 41 | B45: Riccardo Rigillo | C45: =CONCATENATE(LEFT(B45,FIND(" ",B45) + 2),".") -> Riccardo Ri. | Q45: =SUM(E45:O45) -> 0 | AD45: =SUM(R45:AB45) -> 0 | AE45: =IF(D45=1,Q45+AD45,"") | AF45: =P45+AC45 -> 0 | AG45: =IF(D45=1,RANK(AE45,$AE$5:$AE$49)," ") | AH45: =IF(D45=1,(($D$49-AG45+1)+IF(AG45=1,5,IF(AG45=2,3,IF(AG45=3,1,0))))," ")
A46: =A45+1 -> 42 | B46: Francesco Petraroli | C46: =CONCATENATE(LEFT(B46,FIND(" ",B46) + 2),".") -> Francesco Pe. | D46: 1 | E46: 5 | F46: 1 | G46: 8 | M46: =SUM(G46:L46) -> 8 | N46: 3 | Q46: =M46+N46+O46 -> 11 | R46: 1 | S46: 2 | T46: 14 | U46: 5 | Y46: -10 | Z46: =SUM(T46:Y46) -> 9 | AA46: -7 | AC46: 1 | AD46: =Z46+AA46+AB46 -> 2 | AE46: =IF(D46=1,Q46+AD46,"") -> 13 | AF46: =P46+AC46 -> 1 | AG46: =IF(D46=1,RANK(AE46,$AE$5:$AE$49)," ") -> 18 | AH46: =IF(D46=1,(($D$50-AG46+1)+IF(AG46=1,5,IF(AG46=2,3,IF(AG46=3,1,0))))," ") -> 3
A47: =A46+1 -> 43 | B47: Andrea Morviducci | C47: =CONCATENATE(LEFT(B47,FIND(" ",B47) + 2),".") -> Andrea Mo. | D47: 1 | E47: 7 | F47: 2 | G47: 9 | I47: 10 | L47: -10 | M47: =SUM(G47:L47) -> 9 | N47: 5 | Q47: =M47+N47+O47 -> 14 | R47: 1 | S47: 1 | T47: 15 | Y47: -10 | Z47: =SUM(T47:Y47) -> 5 | AA47: -13 | AD47: =Z47+AA47+AB47 -> -8 | AE47: =IF(D47=1,Q47+AD47,"") -> 6 | AF47: =P47+AC47 -> 0 | AG47: =IF(D47=1,RANK(AE47,$AE$5:$AE$49)," ") -> 19 | AH47: =IF(D47=1,(($D$50-AG47+1)+IF(AG47=1,5,IF(AG47=2,3,IF(AG47=3,1,0))))," ") -> 2
A48: =A47+1 -> 44 | B48: Stefano Von Dadden | C48: =CONCATENATE(LEFT(B48,FIND(" ",B48) + 2),".") -> Stefano Vo. | Q48: =SUM(E48:O48) -> 0 | AD48: =SUM(R48:AB48) -> 0 | AE48: =IF(D48=1,Q48+AD48,"") | AF48: =P48+AC48 -> 0 | AG48: =IF(D48=1,RANK(AE48,$AE$5:$AE$49)," ") | AH48: =IF(D48=1,(($D$49-AG48+1)+IF(AG48=1,5,IF(AG48=2,3,IF(AG48=3,1,0))))," ")
A49: =A48+1 -> 45 | B49: Ivan Martinelli | C49: =CONCATENATE(LEFT(B49,FIND(" ",B49) + 2),".") -> Ivan Ma. | D49: 1 | E49: 7 | F49: 2 | G49: 5 | M49: =SUM(G49:L49) -> 5 | N49: 9 | Q49: =M49+N49+O49 -> 14 | R49: 1 | S49: 1 | T49: 7 | X49: -20 | Z49: =SUM(T49:Y49) -> -13 | AA49: 5 | AD49: =Z49+AA49+AB49 -> -8 | AE49: =IF(D49=1,Q49+AD49,"") -> 6 | AF49: =P49+AC49 -> 0 | AG49: =IF(D49=1,RANK(AE49,$AE$5:$AE$49)," ") -> 19 | AH49: =IF(D49=1,(($D$50-AG49+1)+IF(AG49=1,5,IF(AG49=2,3,IF(AG49=3,1,0))))," ") -> 2
D50: =SUM(D5:D49) -> 20 | Z50: =SUM(T50:Y50) -> 0 | AH50: =IF(D50=1,(($D$49-AG50+1)+IF(AG50=1,5,IF(AG50=2,3,IF(AG50=3,1,0))))," ")
C51: Punti Giornata: sono i punti accumulati durante le partitre dell'evento e che determinano la classifica della giornata. | M51: =SUM(G51:L51) -> 0 | Z51: =SUM(T51:Y51) -> 0 | AH51: =IF(D51=1,(($D$49-AG51+1)+IF(AG51=1,5,IF(AG51=2,3,IF(AG51=3,1,0))))," ")
C52: Punti Classifica: sono i punti che l'ordine di classifica di giornata assegna e concorrono alla classifica generale | M52: =SUM(G52:L52) -> 0 | Z52: =SUM(T52:Y52) -> 0 | AH52: =IF(D52=1,(($D$49-AG52+1)+IF(AG52=1,5,IF(AG52=2,3,IF(AG52=3,1,0))))," ")

Sheet Giornata 5
O1: 10 | P1: 1 | Q1: 5 | R1: -10 | S1: -20
E2: IMPERI | M2: INTESA | U2: TOTALE
A3: 0 | B3: Nome Cognome | C3: Nome | D3: Presenza | E3: Tavolo | F3: Turno | G3: Vittoria | H3: Colpi Inferti | I3: Aerial Victory | J3: Abbattuto | K3: Uscito | L3: Punti Imperi | M3: Tavolo | N3: Turno | O3: Vittoria | P3: Colpi Inferti | Q3: Aerial Victory | R3: Abbattuto | S3: Uscito | T3: Punti Intesa | U3: Punti | V3: Abbatimenti | W3: Ordine | X3: Pt
A4: =A3+1 -> 1 | B4: Alberto Garello | C4: =CONCATENATE(LEFT(B4,FIND(" ",B4) + 2),".") -> Alberto Ga. | L4: =SUMPRODUCT($O$1:$S$1,G4:K4) -> 0 | T4: =SUMPRODUCT($O$1:$S$1,O4:S4) -> 0 | U4: =IF(D4=1,L4+T4,"") | V4: =I4+Q4 -> 0 | W4: =IF(D4=1,RANK(U4,$U$4:$U$48)," ") | X4: =IF(D4=1,(($D$49-W4+1)+IF(W4=1,5,IF(W4=2,3,IF(W4=3,1,0))))," ")
A5: =A4+1 -> 2 | B5: Alberto Panicucci | C5: =CONCATENATE(LEFT(B5,FIND(" ",B5) + 2),".") -> Alberto Pa. | L5: =SUMPRODUCT($O$1:$S$1,G5:K5) -> 0 | T5: =SUMPRODUCT($O$1:$S$1,O5:S5) -> 0 | U5: =IF(D5=1,L5+T5,"") | V5: =I5+Q5 -> 0 | W5: =IF(D5=1,RANK(U5,$U$4:$U$48)," ") | X5: =IF(D5=1,(($D$49-W5+1)+IF(W5=1,5,IF(W5=2,3,IF(W5=3,1,0))))," ")
A6: =A5+1 -> 3 | B6: Riccardo Vadalà | C6: =CONCATENATE(LEFT(B6,FIND(" ",B6) + 2),".") -> Riccardo Va. | D6: 1 | E6: 2 | F6: 1 | G6: 1 | H6: 13 | I6: 1 | J6: 1 | K6: 0 | L6: =SUMPRODUCT($O$1:$S$1,G6:K6) -> 18 | M6: 3 | N6: 2 | O6: 1 | P6: 19 | Q6: 2 | R6: 0 | S6: 0 | T6: =SUMPRODUCT($O$1:$S$1,O6:S6) -> 39 | U6: =IF(D6=1,L6+T6,"") -> 57 | V6: =I6+Q6 -> 3 | W6: =IF(D6=1,RANK(U6,$U$4:$U$48)," ") -> 1 | X6: =IF(D6=1,(($D$49-W6+1)+IF(W6=1,5,IF(W6=2,3,IF(W6=3,1,0))))," ") -> 25
A7: =A6+1 -> 4 | B7: Alessandrro Corradi | C7: =CONCATENATE(LEFT(B7,FIND(" ",B7) + 2),".") -> Alessandrro Co. | L7: =SUMPRODUCT($O$1:$S$1,G7:K7) -> 0 | T7: =SUMPRODUCT($O$1:$S$1,O7:S7) -> 0 | U7: =IF(D7=1,L7+T7,"") | V7: =I7+Q7 -> 0 | W7: =IF(D7=1,RANK(U7,$U$4:$U$48)," ") | X7: =IF(D7=1,(($D$49-W7+1)+IF(W7=1,5,IF(W7=2,3,IF(W7=3,1,0))))," ")
A8: =A7+1 -> 5 | B8: Andrea Garello | C8: =CONCATENATE(LEFT(B8,FIND(" ",B8) + 2),".") -> Andrea Ga. | L8: =SUMPRODUCT($O$1:$S$1,G8:K8) -> 0 | T8: =SUMPRODUCT($O$1:$S$1,O8:S8) -> 0 | U8: =IF(D8=1,L8+T8,"") | V8: =I8+Q8 -> 0 | W8: =IF(D8=1,RANK(U8,$U$4:$U$48)," ") | X8: =IF(D8=1,(($D$49-W8+1)+IF(W8=1,5,IF(W8=2,3,IF(W8=3,1,0))))," ")
A9: =A8+1 -> 6 | B9: Gino Lucrezi | C9: =CONCATENATE(LEFT(B9,FIND(" ",B9) + 2),".") -> Gino Lu. | D9: 1 | E9: 1 | F9: 1 | G9: 1 | H9: 10 | I9: 1 | J9: 0 | K9: 0 | L9: =SUMPRODUCT($O$1:$S$1,G9:K9) -> 25 | M9: 2 | N9: 2 | O9: 1 | P9: 15 | Q9: 0 | R9: 0 | S9: 0 | T9: =SUMPRODUCT($O$1:$S$1,O9:S9) -> 25 | U9: =IF(D9=1,L9+T9,"") -> 50 | V9: =I9+Q9 -> 1 | W9: =IF(D9=1,RANK(U9,$U$4:$U$48)," ") -> 2 | X9: =IF(D9=1,(($D$49-W9+1)+IF(W9=1,5,IF(W9=2,3,IF(W9=3,1,0))))," ") -> 22
A10: =A9+1 -> 7 | B10: Andrea Procaccino | C10: =CONCATENATE(LEFT(B10,FIND(" ",B10) + 2),".") -> Andrea Pr. | L10: =SUMPRODUCT($O$1:$S$1,G10:K10) -> 0 | T10: =SUMPRODUCT($O$1:$S$1,O10:S10) -> 0 | U10: =IF(D10=1,L10+T10,"") | V10: =I10+Q10 -> 0 | W10: =IF(D10=1,RANK(U10,$U$4:$U$48)," ") | X10: =IF(D10=1,(($D$49-W10+1)+IF(W10=1,5,IF(W10=2,3,IF(W10=3,1,0))))," ")
A11: =A10+1 -> 8 | B11: Daniele Petraroli | C11: =CONCATENATE(LEFT(B11,FIND(" ",B11) + 2),".") -> Daniele Pe. | D11: 1 | E11: 5 | F11: 2 | G11: 0 | H11: 7 | I11: 0 | J11: 0 | K11: 0 | L11: =SUMPRODUCT($O$1:$S$1,G11:K11) -> 7 | M11: 5 | N11: 1 | O11: 1 | P11: 21 | Q11: 2 | R11: 0 | S11: 0 | T11: =SUMPRODUCT($O$1:$S$1,O11:S11) -> 41 | U11: =IF(D11=1,L11+T11,"") -> 48 | V11: =I11+Q11 -> 2 | W11: =IF(D11=1,RANK(U11,$U$4:$U$48)," ") -> 3 | X11: =IF(D11=1,(($D$49-W11+1)+IF(W11=1,5,IF(W11=2,3,IF(W11=3,1,0))))," ") -> 19
A12: =A11+1 -> 9 | B12: Barbara Von Rust | C12: =CONCATENATE(LEFT(B12,FIND(" ",B12) + 2),".") -> Barbara Vo. | L12: =SUMPRODUCT($O$1:$S$1,G12:K12) -> 0 | T12: =SUMPRODUCT($O$1:$S$1,O12:S12) -> 0 | U12: =IF(D12=1,L12+T12,"") | V12: =I12+Q12 -> 0 | W12: =IF(D12=1,RANK(U12,$U$4:$U$48)," ") | X12: =IF(D12=1,(($D$49-W12+1)+IF(W12=1,5,IF(W12=2,3,IF(W12=3,1,0))))," ")
A13: =A12+1 -> 10 | B13: Bruno Padronetti | C13: =CONCATENATE(LEFT(B13,FIND(" ",B13) + 2),".") -> Bruno Pa. | L13: =SUMPRODUCT($O$1:$S$1,G13:K13) -> 0 | T13: =SUMPRODUCT($O$1:$S$1,O13:S13) -> 0 | U13: =IF(D13=1,L13+T13,"") | V13: =I13+Q13 -> 0 | W13: =IF(D13=1,RANK(U13,$U$4:$U$48)," ") | X13: =IF(D13=1,(($D$49-W13+1)+IF(W13=1,5,IF(W13=2,3,IF(W13=3,1,0))))," ")
A14: =A13+1 -> 11 | B14: Christian Vitale | C14: =CONCATENATE(LEFT(B14,FIND(" ",B14) + 2),".") -> Christian Vi. | L14: =SUMPRODUCT($O$1:$S$1,G14:K14) -> 0 | T14: =SUMPRODUCT($O$1:$S$1,O14:S14) -> 0 | U14: =IF(D14=1,L14+T14,"") | V14: =I14+Q14 -> 0 | W14: =IF(D14=1,RANK(U14,$U$4:$U$48)," ") | X14: =IF(D14=1,(($D$49-W14+1)+IF(W14=1,5,IF(W14=2,3,IF(W14=3,1,0))))," ")
A15: =A14+1 -> 12 | B15: Claudio Marinangeli | C15: =CONCATENATE(LEFT(B15,FIND(" ",B15) + 2),".") -> Claudio Ma. | L15: =SUMPRODUCT($O$1:$S$1,G15:K15) -> 0 | T15: =SUMPRODUCT($O$1:$S$1,O15:S15) -> 0 | U15: =IF(D15=1,L15+T15,"") | V15: =I15+Q15 -> 0 | W15: =IF(D15=1,RANK(U15,$U$4:$U$48)," ") | X15: =IF(D15=1,(($D$49-W15+1)+IF(W15=1,5,IF(W15=2,3,IF(W15=3,1,0))))," ")
A16: =A15+1 -> 13 | B16: Daniel Terracina | C16: =CONCATENATE(LEFT(B16,FIND(" ",B16) + 2),".") -> Daniel Te. | L16: =SUMPRODUCT($O$1:$S$1,G16:K16) -> 0 | T16: =SUMPRODUCT($O$1:$S$1,O16:S16) -> 0 | U16: =IF(D16=1,L16+T16,"") | V16: =I16+Q16 -> 0 | W16: =IF(D16=1,RANK(U16,$U$4:$U$48)," ") | X16: =IF(D16=1,(($D$49-W16+1)+IF(W16=1,5,IF(W16=2,3,IF(W16=3,1,0))))," ")
A17: =A16+1 -> 14 | B17: Daniele Ferrini | C17: =CONCATENATE(LEFT(B17,FIND(" ",B17) + 2),".") -> Daniele Fe. | L17: =SUMPRODUCT($O$1:$S$1,G17:K17) -> 0 | T17: =SUMPRODUCT($O$1:$S$1,O17:S17) -> 0 | U17: =IF(D17=1,L17+T17,"") | V17: =I17+Q17 -> 0 | W17: =IF(D17=1,RANK(U17,$U$4:$U$48)," ") | X17: =IF(D17=1,(($D$49-W17+1)+IF(W17=1,5,IF(W17=2,3,IF(W17=3,1,0))))," ")
A18: =A17+1 -> 15 | B18: Daniele Pagliuca | C18: =CONCATENATE(LEFT(B18,FIND(" ",B18) + 2),".") -> Daniele Pa. | L18: =SUMPRODUCT($O$1:$S$1,G18:K18) -> 0 | T18: =SUMPRODUCT($O$1:$S$1,O18:S18) -> 0 | U18: =IF(D18=1,L18+T18,"") | V18: =I18+Q18 -> 0 | W18: =IF(D18=1,RANK(U18,$U$4:$U$48)," ") | X18: =IF(D18=1,(($D$49-W18+1)+IF(W18=1,5,IF(W18=2,3,IF(W18=3,1,0))))," ")
A19: =A18+1 -> 16 | B19: Francesco Berucci | C19: =CONCATENATE(LEFT(B19,FIND(" ",B19) + 2),".") -> Francesco Be. | D19: 1 | E19: 2 | F19: 1 | G19: 1 | H19: 16 | I19: 2 | J19: 0 | K19: 0 | L19: =SUMPRODUCT($O$1:$S$1,G19:K19) -> 36 | M19: 1 | N19: 2 | O19: 0 | P19: 16 | Q19: 1 | R19: 1 | S19: 0 | T19: =SUMPRODUCT($O$1:$S$1,O19:S19) -> 11 | U19: =IF(D19=1,L19+T19,"") -> 47 | V19: =I19+Q19 -> 3 | W19: =IF(D19=1,RANK(U19,$U$4:$U$48)," ") -> 4 | X19: =IF(D19=1,(($D$49-W19+1)+IF(W19=1,5,IF(W19=2,3,IF(W19=3,1,0))))," ") -> 17
A20: =A19+1 -> 17 | B20: Erminio Serio | C20: =CONCATENATE(LEFT(B20,FIND(" ",B20) + 2),".") -> Erminio Se. | L20: =SUMPRODUCT($O$1:$S$1,G20:K20) -> 0 | T20: =SUMPRODUCT($O$1:$S$1,O20:S20) -> 0 | U20: =IF(D20=1,L20+T20,"") | V20: =I20+Q20 -> 0 | W20: =IF(D20=1,RANK(U20,$U$4:$U$48)," ") | X20: =IF(D20=1,(($D$49-W20+1)+IF(W20=1,5,IF(W20=2,3,IF(W20=3,1,0))))," ")
A21: =A20+1 -> 18 | B21: Fabio Zanelli | C21: =CONCATENATE(LEFT(B21,FIND(" ",B21) + 2),".") -> Fabio Za. | L21: =SUMPRODUCT($O$1:$S$1,G21:K21) -> 0 | T21: =SUMPRODUCT($O$1:$S$1,O21:S21) -> 0 | U21: =IF(D21=1,L21+T21,"") | V21: =I21+Q21 -> 0 | W21: =IF(D21=1,RANK(U21,$U$4:$U$48)," ") | X21: =IF(D21=1,(($D$49-W21+1)+IF(W21=1,5,IF(W21=2,3,IF(W21=3,1,0))))," ")
A22: =A21+1 -> 19 | B22: Alessandro Babbi | C22: =CONCATENATE(LEFT(B22,FIND(" ",B22) + 2),".") -> Alessandro Ba. | D22: 1 | E22: 5 | F22: 2 | G22: 0 | H22: 14 | I22: 0 | J22: 0 | K22: 0 | L22: =SUMPRODUCT($O$1:$S$1,G22:K22) -> 14 | M22: 4 | N22: 1 | O22: 1 | P22: 13 | Q22: 1 | R22: 0 | S22: 0 | T22: =SUMPRODUCT($O$1:$S$1,O22:S22) -> 28 | U22: =IF(D22=1,L22+T22,"") -> 42 | V22: =I22+Q22 -> 1 | W22: =IF(D22=1,RANK(U22,$U$4:$U$48)," ") -> 5 | X22: =IF(D22=1,(($D$49-W22+1)+IF(W22=1,5,IF(W22=2,3,IF(W22=3,1,0))))," ") -> 16
A23: =A22+1 -> 20 | B23: Francesco Petraroli | C23: =CONCATENATE(LEFT(B23,FIND(" ",B23) + 2),".") -> Francesco Pe. | D23: 1 | E23: 1 | F23: ? | G23: 1 | H23: 19 | I23: 2 | J23: 0 | K23: 0 | L23: =SUMPRODUCT($O$1:$S$1,G23:K23) -> 39 | M23: 1 | N23: ? | O23: 0 | P23: 12 | Q23: 0 | R23: 1 | S23: 0 | T23: =SUMPRODUCT($O$1:$S$1,O23:S23) -> 2 | U23: =IF(D23=1,L23+T23,"") -> 41 | V23: =I23+Q23 -> 2 | W23: =IF(D23=1,RANK(U23,$U$4:$U$48)," ") -> 6 | X23: =IF(D23=1,(($D$49-W23+1)+IF(W23=1,5,IF(W23=2,3,IF(W23=3,1,0))))," ") -> 15
A24: =A23+1 -> 21 | B24: Massimo Mollica | C24: =CONCATENATE(LEFT(B24,FIND(" ",B24) + 2),".") -> Massimo Mo. | D24: 1 | E24: 3 | F24: 2 | G24: 0 | H24: 8 | I24: 0 | J24: 1 | K24: 0 | L24: =SUMPRODUCT($O$1:$S$1,G24:K24) -> -2 | M24: 3 | N24: 1 | O24: 1 | P24: 21 | Q24: 2 | R24: 0 | S24: 0 | T24: =SUMPRODUCT($O$1:$S$1,O24:S24) -> 41 | U24: =IF(D24=1,L24+T24,"") -> 39 | V24: =I24+Q24 -> 2 | W24: =IF(D24=1,RANK(U24,$U$4:$U$48)," ") -> 7 | X24: =IF(D24=1,(($D$49-W24+1)+IF(W24=1,5,IF(W24=2,3,IF(W24=3,1,0))))," ") -> 14
A25: =A24+1 -> 22 | B25: Riccardo Rigillo | C25: =CONCATENATE(LEFT(B25,FIND(" ",B25) + 2),".") -> Riccardo Ri. | D25: 1 | E25: 1 | F25: 2 | G25: 1 | H25: 20 | I25: 2 | J25: 0 | K25: 0 | L25: =SUMPRODUCT($O$1:$S$1,G25:K25) -> 40 | M25: 2 | N25: 1 | O25: 0 | P25: 7 | Q25: 0 | R25: 1 | S25: 0 | T25: =SUMPRODUCT($O$1:$S$1,O25:S25) -> -3 | U25: =IF(D25=1,L25+T25,"") -> 37 | V25: =I25+Q25 -> 2 | W25: =IF(D25=1,RANK(U25,$U$4:$U$48)," ") -> 8 | X25: =IF(D25=1,(($D$49-W25+1)+IF(W25=1,5,IF(W25=2,3,IF(W25=3,1,0))))," ") -> 13
A26: =A25+1 -> 23 | B26: Ken Jones | C26: =CONCATENATE(LEFT(B26,FIND(" ",B26) + 2),".") -> Ken Jo. | D26: 1 | E26: 5 | F26: 1 | G26: 0 | H26: 17 | I26: 1 | J26: 1 | K26: 0 | L26: =SUMPRODUCT($O$1:$S$1,G26:K26) -> 12 | M26: 4 | N26: 1 | O26: 1 | P26: 8 | Q26: 1 | R26: 0 | S26: 0 | T26: =SUMPRODUCT($O$1:$S$1,O26:S26) -> 23 | U26: =IF(D26=1,L26+T26,"") -> 35 | V26: =I26+Q26 -> 2 | W26: =IF(D26=1,RANK(U26,$U$4:$U$48)," ") -> 9 | X26: =IF(D26=1,(($D$49-W26+1)+IF(W26=1,5,IF(W26=2,3,IF(W26=3,1,0))))," ") -> 12
A27: =A26+1 -> 24 | B27: Andrea Morviducci | C27: =CONCATENATE(LEFT(B27,FIND(" ",B27) + 2),".") -> Andrea Mo. | D27: 1 | E27: 4 | F27: ? | G27: 0 | H27: 5 | I27: 0 | J27: 1 | K27: 0 | L27: =SUMPRODUCT($O$1:$S$1,G27:K27) -> -5 | M27: 2 | N27: ? | O27: 1 | P27: 16 | Q27: 2 | R27: 0 | S27: 0 | T27: =SUMPRODUCT($O$1:$S$1,O27:S27) -> 36 | U27: =IF(D27=1,L27+T27,"") -> 31 | V27: =I27+Q27 -> 2 | W27: =IF(D27=1,RANK(U27,$U$4:$U$48)," ") -> 10 | X27: =IF(D27=1,(($D$49-W27+1)+IF(W27=1,5,IF(W27=2,3,IF(W27=3,1,0))))," ") -> 11
A28: =A27+1 -> 25 | B28: Federico Mollica | C28: =CONCATENATE(LEFT(B28,FIND(" ",B28) + 2),".") -> Federico Mo. | D28: 1 | E28: 3 | F28: 1 | G28: 0 | H28: 17 | I28: 0 | J28: 1 | K28: 0 | L28: =SUMPRODUCT($O$1:$S$1,G28:K28) -> 7 | M28: 5 | N28: 2 | O28: 1 | P28: 13 | Q28: 0 | R28: 0 | S28: 0 | T28: =SUMPRODUCT($O$1:$S$1,O28:S28) -> 23 | U28: =IF(D28=1,L28+T28,"") -> 30 | V28: =I28+Q28 -> 0 | W28: =IF(D28=1,RANK(U28,$U$4:$U$48)," ") -> 11 | X28: =IF(D28=1,(($D$49-W28+1)+IF(W28=1,5,IF(W28=2,3,IF(W28=3,1,0))))," ") -> 10
A29: =A28+1 -> 26 | B29: Franco Napoleoni | C29: =CONCATENATE(LEFT(B29,FIND(" ",B29) + 2),".") -> Franco Na. | D29: 1 | E29: 2 | F29: 2 | G29: 0 | H29: 8 | I29: 0 | J29: 1 | K29: 0 | L29: =SUMPRODUCT($O$1:$S$1,G29:K29) -> -2 | M29: 4 | N29: 1 | O29: 1 | P29: 17 | Q29: 1 | R29: 0 | S29: 0 | T29: =SUMPRODUCT($O$1:$S$1,O29:S29) -> 32 | U29: =IF(D29=1,L29+T29,"") -> 30 | V29: =I29+Q29 -> 1 | W29: =IF(D29=1,RANK(U29,$U$4:$U$48)," ") -> 11 | X29: =IF(D29=1,(($D$49-W29+1)+IF(W29=1,5,IF(W29=2,3,IF(W29=3,1,0))))," ") -> 10
A30: =A29+1 -> 27 | B30: Ivan Martinelli | C30: =CONCATENATE(LEFT(B30,FIND(" ",B30) + 2),".") -> Ivan Ma. | L30: =SUMPRODUCT($O$1:$S$1,G30:K30) -> 0 | T30: =SUMPRODUCT($O$1:$S$1,O30:S30) -> 0 | U30: =IF(D30=1,L30+T30,"") | V30: =I30+Q30 -> 0 | W30: =IF(D30=1,RANK(U30,$U$4:$U$48)," ") | X30: =IF(D30=1,(($D$49-W30+1)+IF(W30=1,5,IF(W30=2,3,IF(W30=3,1,0))))," ")
A31: =A30+1 -> 28 | B31: Jolly 1 | C31: =CONCATENATE(LEFT(B31,FIND(" ",B31) + 2),".") -> Jolly 1. | L31: =SUMPRODUCT($O$1:$S$1,G31:K31) -> 0 | T31: =SUMPRODUCT($O$1:$S$1,O31:S31) -> 0 | U31: =IF(D31=1,L31+T31,"") | V31: =I31+Q31 -> 0 | W31: =IF(D31=1,RANK(U31,$U$4:$U$48)," ") | X31: =IF(D31=1,(($D$49-W31+1)+IF(W31=1,5,IF(W31=2,3,IF(W31=3,1,0))))," ")
A32: =A31+1 -> 29 | B32: Jolly 2 | C32: =CONCATENATE(LEFT(B32,FIND(" ",B32) + 2),".") -> Jolly 2. | L32: =SUMPRODUCT($O$1:$S$1,G32:K32) -> 0 | T32: =SUMPRODUCT($O$1:$S$1,O32:S32) -> 0 | U32: =IF(D32=1,L32+T32,"") | V32: =I32+Q32 -> 0 | W32: =IF(D32=1,RANK(U32,$U$4:$U$48)," ") | X32: =IF(D32=1,(($D$49-W32+1)+IF(W32=1,5,IF(W32=2,3,IF(W32=3,1,0))))," ")
A33: =A32+1 -> 30 | B33: Artemisia Von Rust | C33: =CONCATENATE(LEFT(B33,FIND(" ",B33) + 2),".") -> Artemisia Vo. | D33: 1 | E33: 5 | F33: 1 | G33: 0 | H33: 8 | I33: 0 | J33: 1 | K33: 0 | L33: =SUMPRODUCT($O$1:$S$1,G33:K33) -> -2 | M33: 3 | N33: 2 | O33: 1 | P33: 14 | Q33: 1 | R33: 0 | S33: 0 | T33: =SUMPRODUCT($O$1:$S$1,O33:S33) -> 29 | U33: =IF(D33=1,L33+T33,"") -> 27 | V33: =I33+Q33 -> 1 | W33: =IF(D33=1,RANK(U33,$U$4:$U$48)," ") -> 13 | X33: =IF(D33=1,(($D$49-W33+1)+IF(W33=1,5,IF(W33=2,3,IF(W33=3,1,0))))," ") -> 8
A34: =A33+1 -> 31 | B34: Laura Di Marco | C34: =CONCATENATE(LEFT(B34,FIND(" ",B34) + 2),".") -> Laura Di. | L34: =SUMPRODUCT($O$1:$S$1,G34:K34) -> 0 | T34: =SUMPRODUCT($O$1:$S$1,O34:S34) -> 0 | U34: =IF(D34=1,L34+T34,"") | V34: =I34+Q34 -> 0 | W34: =IF(D34=1,RANK(U34,$U$4:$U$48)," ") | X34: =IF(D34=1,(($D$49-W34+1)+IF(W34=1,5,IF(W34=2,3,IF(W34=3,1,0))))," ")
A35: =A34+1 -> 32 | B35: Francesco Marradi | C35: =CONCATENATE(LEFT(B35,FIND(" ",B35) + 2),".") -> Francesco Ma. | D35: 1 | E35: 5 | F35: 1 | G35: 0 | H35: 11 | I35: 0 | J35: 1 | K35: 0 | L35: =SUMPRODUCT($O$1:$S$1,G35:K35) -> 1 | M35: 5 | N35: 2 | O35: 1 | P35: 11 | Q35: 0 | R35: 0 | S35: 0 | T35: =SUMPRODUCT($O$1:$S$1,O35:S35) -> 21 | U35: =IF(D35=1,L35+T35,"") -> 22 | V35: =I35+Q35 -> 0 | W35: =IF(D35=1,RANK(U35,$U$4:$U$48)," ") -> 14 | X35: =IF(D35=1,(($D$49-W35+1)+IF(W35=1,5,IF(W35=2,3,IF(W35=3,1,0))))," ") -> 7
A36: =A35+1 -> 33 | B36: Marco Tambara | C36: =CONCATENATE(LEFT(B36,FIND(" ",B36) + 2),".") -> Marco Ta. | L36: =SUMPRODUCT($O$1:$S$1,G36:K36) -> 0 | T36: =SUMPRODUCT($O$1:$S$1,O36:S36) -> 0 | U36: =IF(D36=1,L36+T36,"") | V36: =I36+Q36 -> 0 | W36: =IF(D36=1,RANK(U36,$U$4:$U$48)," ") | X36: =IF(D36=1,(($D$49-W36+1)+IF(W36=1,5,IF(W36=2,3,IF(W36=3,1,0))))," ")
A37: =A36+1 -> 34 | B37: Massimo Berucci | C37: =CONCATENATE(LEFT(B37,FIND(" ",B37) + 2),".") -> Massimo Be. | L37: =SUMPRODUCT($O$1:$S$1,G37:K37) -> 0 | T37: =SUMPRODUCT($O$1:$S$1,O37:S37) -> 0 | U37: =IF(D37=1,L37+T37,"") | V37: =I37+Q37 -> 0 | W37: =IF(D37=1,RANK(U37,$U$4:$U$48)," ") | X37: =IF(D37=1,(($D$49-W37+1)+IF(W37=1,5,IF(W37=2,3,IF(W37=3,1,0))))," ")
A38: =A37+1 -> 35 | B38: Massimo Malerba | C38: =CONCATENATE(LEFT(B38,FIND(" ",B38) + 2),".") -> Massimo Ma. | L38: =SUMPRODUCT($O$1:$S$1,G38:K38) -> 0 | T38: =SUMPRODUCT($O$1:$S$1,O38:S38) -> 0 | U38: =IF(D38=1,L38+T38,"") | V38: =I38+Q38 -> 0 | W38: =IF(D38=1,RANK(U38,$U$4:$U$48)," ") | X38: =IF(D38=1,(($D$49-W38+1)+IF(W38=1,5,IF(W38=2,3,IF(W38=3,1,0))))," ")
A39: =A38+1 -> 36 | B39: Francesco Ulmo | C39: =CONCATENATE(LEFT(B39,FIND(" ",B39) + 2),".") -> Francesco Ul. | D39: 1 | E39: 3 | F39: 1 | G39: 0 | H39: 9 | I39: 1 | J39: 1 | K39: 0 | L39: =SUMPRODUCT($O$1:$S$1,G39:K39) -> 4 | M39: 4 | N39: 2 | O39: 1 | P39: 7 | Q39: 0 | R39: 0 | S39: 0 | T39: =SUMPRODUCT($O$1:$S$1,O39:S39) -> 17 | U39: =IF(D39=1,L39+T39,"") -> 21 | V39: =I39+Q39 -> 1 | W39: =IF(D39=1,RANK(U39,$U$4:$U$48)," ") -> 15 | X39: =IF(D39=1,(($D$49-W39+1)+IF(W39=1,5,IF(W39=2,3,IF(W39=3,1,0))))," ") -> 6
A40: =A39+1 -> 37 | B40: Maurizio Vitale | C40: =CONCATENATE(LEFT(B40,FIND(" ",B40) + 2),".") -> Maurizio Vi. | L40: =SUMPRODUCT($O$1:$S$1,G40:K40) -> 0 | T40: =SUMPRODUCT($O$1:$S$1,O40:S40) -> 0 | U40: =IF(D40=1,L40+T40,"") | V40: =I40+Q40 -> 0 | W40: =IF(D40=1,RANK(U40,$U$4:$U$48)," ") | X40: =IF(D40=1,(($D$49-W40+1)+IF(W40=1,5,IF(W40=2,3,IF(W40=3,1,0))))," ")
A41: =A40+1 -> 38 | B41: Michele Balasso | C41: =CONCATENATE(LEFT(B41,FIND(" ",B41) + 2),".") -> Michele Ba. | L41: =SUMPRODUCT($O$1:$S$1,G41:K41) -> 0 | T41: =SUMPRODUCT($G$1:$K$1,O41:S41) -> 0 | U41: =IF(D41=1,L41+T41,"") | V41: =I41+Q41 -> 0 | W41: =IF(D41=1,RANK(U41,$U$4:$U$48)," ") | X41: =IF(D41=1,(($D$49-W41+1)+IF(W41=1,5,IF(W41=2,3,IF(W41=3,1,0))))," ")
A42: =A41+1 -> 39 | B42: Valerio Ferrandino | C42: =CONCATENATE(LEFT(B42,FIND(" ",B42) + 2),".") -> Valerio Fe. | D42: 1 | E42: 2 | F42: 2 | G42: 0 | H42: 8 | I42: 0 | J42: 1 | K42: 0 | L42: =SUMPRODUCT($O$1:$S$1,G42:K42) -> -2 | M42: 2 | N42: 1 | O42: 0 | P42: 12 | Q42: 1 | R42: 0 | S42: 0 | T42: =SUMPRODUCT($O$1:$S$1,O42:S42) -> 17 | U42: =IF(D42=1,L42+T42,"") -> 15 | V42: =I42+Q42 -> 1 | W42: =IF(D42=1,RANK(U42,$U$4:$U$48)," ") -> 16 | X42: =IF(D42=1,(($D$49-W42+1)+IF(W42=1,5,IF(W42=2,3,IF(W42=3,1,0))))," ") -> 5
A43: =A42+1 -> 40 | B43: Raffaella Rovignoni | C43: =CONCATENATE(LEFT(B43,FIND(" ",B43) + 2),".") -> Raffaella Ro. | L43: =SUMPRODUCT($O$1:$S$1,G43:K43) -> 0 | T43: =SUMPRODUCT($O$1:$S$1,O43:S43) -> 0 | U43: =IF(D43=1,L43+T43,"") | V43: =I43+Q43 -> 0 | W43: =IF(D43=1,RANK(U43,$U$4:$U$48)," ") | X43: =IF(D43=1,(($D$49-W43+1)+IF(W43=1,5,IF(W43=2,3,IF(W43=3,1,0))))," ")
A44: =A43+1 -> 41 | B44: Giuseppe Tamba | C44: =CONCATENATE(LEFT(B44,FIND(" ",B44) + 2),".") -> Giuseppe Ta. | D44: 1 | E44: 1 | F44: 2 | G44: 1 | H44: 12 | I44: 0 | J44: 1 | K44: 0 | L44: =SUMPRODUCT($O$1:$S$1,G44:K44) -> 12 | M44: 1 | N44: 1 | O44: 0 | P44: 12 | Q44: 0 | R44: 1 | S44: 0 | T44: =SUMPRODUCT($O$1:$S$1,O44:S44) -> 2 | U44: =IF(D44=1,L44+T44,"") -> 14 | V44: =I44+Q44 -> 0 | W44: =IF(D44=1,RANK(U44,$U$4:$U$48)," ") -> 17 | X44: =IF(D44=1,(($D$49-W44+1)+IF(W44=1,5,IF(W44=2,3,IF(W44=3,1,0))))," ") -> 4
A45: =A44+1 -> 42 | B45: Stefano Tiribocchi | C45: =CONCATENATE(LEFT(B45,FIND(" ",B45) + 2),".") -> Stefano Ti. | D45: 1 | E45: 3 | F45: 1 | G45: 1 | H45: 12 | I45: 0 | J45: 1 | K45: 0 | L45: =SUMPRODUCT($O$1:$S$1,G45:K45) -> 12 | M45: 3 | N45: 2 | O45: 0 | P45: 7 | Q45: 0 | R45: 1 | S45: 0 | T45: =SUMPRODUCT($O$1:$S$1,O45:S45) -> -3 | U45: =IF(D45=1,L45+T45,"") -> 9 | V45: =I45+Q45 -> 0 | W45: =IF(D45=1,RANK(U45,$U$4:$U$48)," ") -> 18 | X45: =IF(D45=1,(($D$49-W45+1)+IF(W45=1,5,IF(W45=2,3,IF(W45=3,1,0))))," ") -> 3
A46: =A45+1 -> 43 | B46: Paolo Valerio | C46: =CONCATENATE(LEFT(B46,FIND(" ",B46) + 2),".") -> Paolo Va. | D46: 1 | E46: 4 | F46: 2 | G46: 0 | H46: 5 | I46: 0 | J46: 1 | K46: 0 | L46: =SUMPRODUCT($O$1:$S$1,G46:K46) -> -5 | M46: 1 | N46: 1 | O46: 0 | P46: 12 | Q46: 0 | R46: 1 | S46: 0 | T46: =SUMPRODUCT($O$1:$S$1,O46:S46) -> 2 | U46: =IF(D46=1,L46+T46,"") -> -3 | V46: =I46+Q46 -> 0 | W46: =IF(D46=1,RANK(U46,$U$4:$U$48)," ") -> 19 | X46: =IF(D46=1,(($D$49-W46+1)+IF(W46=1,5,IF(W46=2,3,IF(W46=3,1,0))))," ") -> 2
A47: =A46+1 -> 44 | B47: Stefano Von Dadden | C47: =CONCATENATE(LEFT(B47,FIND(" ",B47) + 2),".") -> Stefano Vo. | L47: =SUMPRODUCT($O$1:$S$1,G47:K47) -> 0 | T47: =SUMPRODUCT($O$1:$S$1,O47:S47) -> 0 | U47: =IF(D47=1,L47+T47,"") | V47: =I47+Q47 -> 0 | W47: =IF(D47=1,RANK(U47,$U$4:$U$48)," ") | X47: =IF(D47=1,(($D$49-W47+1)+IF(W47=1,5,IF(W47=2,3,IF(W47=3,1,0))))," ")
A48: =A47+1 -> 45 | B48: Luca Postumi | C48: =CONCATENATE(LEFT(B48,FIND(" ",B48) + 2),".") -> Luca Po. | D48: 1 | E48: 4 | F48: 2 | G48: 0 | H48: 0 | I48: 0 | J48: 0 | K48: 1 | L48: =SUMPRODUCT($O$1:$S$1,G48:K48) -> -20 | M48: 5 | N48: 1 | O48: 1 | P48: 6 | Q48: 0 | R48: 1 | S48: 0 | T48: =SUMPRODUCT($O$1:$S$1,O48:S48) -> 6 | U48: =IF(D48=1,L48+T48,"") -> -14 | V48: =I48+Q48 -> 0 | W48: =IF(D48=1,RANK(U48,$U$4:$U$48)," ") -> 20 | X48: =IF(D48=1,(($D$49-W48+1)+IF(W48=1,5,IF(W48=2,3,IF(W48=3,1,0))))," ") -> 1
D49: =SUM(D4:D48) -> 20

Sheet Giornata 6
E1: 10 | F1: 1 | G1: 5 | H1: -10 | I1: -20
E2: IMPERI | K2: INTESA | Q2: TOTALE
A3: 0 | B3: Nome Cognome | C3: Nome | D3: Presenza | E3: Vittoria | F3: Colpi Inferti | G3: Aerial Victory | H3: Abbattuto | I3: Uscito | J3: Punti Intesa | K3: Vittoria | L3: Colpi Inferti | M3: Aerial Victory | N3: Abbattuto | O3: Uscito | P3: Punti Imperi | Q3: Punti | R3: Abbatimenti | S3: Ordine | T3: Pt
A4: =A3+1 -> 1 | B4: Alberto Garello | C4: =CONCATENATE(LEFT(B4,FIND(" ",B4) + 2),".") -> Alberto Ga. | D4: 0 | J4: =SUMPRODUCT($E$1:$I$1,E4:I4) -> 0 | P4: =SUMPRODUCT($E$1:$I$1,K4:O4) -> 0 | Q4: =IF(D4=1,J4+P4,"") | R4: =G4+M4 -> 0 | S4: =IF(D4=1,RANK(Q4,$Q$4:$Q$48)," ") | T4: =IF(D4=1,(($D$49-S4+1)+IF(S4=1,5,IF(S4=2,3,IF(S4=3,1,0))))," ")
A5: =A4+1 -> 2 | B5: Alberto Panicucci | C5: =CONCATENATE(LEFT(B5,FIND(" ",B5) + 2),".") -> Alberto Pa. | J5: =SUMPRODUCT($E$1:$I$1,E5:I5) -> 0 | P5: =SUMPRODUCT($E$1:$I$1,K5:O5) -> 0 | Q5: =IF(D5=1,J5+P5,"") | R5: =G5+M5 -> 0 | S5: =IF(D5=1,RANK(Q5,$Q$4:$Q$48)," ") | T5: =IF(D5=1,(($D$49-S5+1)+IF(S5=1,5,IF(S5=2,3,IF(S5=3,1,0))))," ")
A6: =A5+1 -> 3 | B6: Alessandro Babbi | C6: =CONCATENATE(LEFT(B6,FIND(" ",B6) + 2),".") -> Alessandro Ba. | J6: =SUMPRODUCT($E$1:$I$1,E6:I6) -> 0 | P6: =SUMPRODUCT($E$1:$I$1,K6:O6) -> 0 | Q6: =IF(D6=1,J6+P6,"") | R6: =G6+M6 -> 0 | S6: =IF(D6=1,RANK(Q6,$Q$4:$Q$48)," ") | T6: =IF(D6=1,(($D$49-S6+1)+IF(S6=1,5,IF(S6=2,3,IF(S6=3,1,0))))," ")
A7: =A6+1 -> 4 | B7: Alessandrro Corradi | C7: =CONCATENATE(LEFT(B7,FIND(" ",B7) + 2),".") -> Alessandrro Co. | J7: =SUMPRODUCT($E$1:$I$1,E7:I7) -> 0 | P7: =SUMPRODUCT($E$1:$I$1,K7:O7) -> 0 | Q7: =IF(D7=1,J7+P7,"") | R7: =G7+M7 -> 0 | S7: =IF(D7=1,RANK(Q7,$Q$4:$Q$48)," ") | T7: =IF(D7=1,(($D$49-S7+1)+IF(S7=1,5,IF(S7=2,3,IF(S7=3,1,0))))," ")
A8: =A7+1 -> 5 | B8: Andrea Garello | C8: =CONCATENATE(LEFT(B8,FIND(" ",B8) + 2),".") -> Andrea Ga. | J8: =SUMPRODUCT($E$1:$I$1,E8:I8) -> 0 | P8: =SUMPRODUCT($E$1:$I$1,K8:O8) -> 0 | Q8: =IF(D8=1,J8+P8,"") | R8: =G8+M8 -> 0 | S8: =IF(D8=1,RANK(Q8,$Q$4:$Q$48)," ") | T8: =IF(D8=1,(($D$49-S8+1)+IF(S8=1,5,IF(S8=2,3,IF(S8=3,1,0))))," ")
A9: =A8+1 -> 6 | B9: Andrea Morviducci | C9: =CONCATENATE(LEFT(B9,FIND(" ",B9) + 2),".") -> Andrea Mo. | J9: =SUMPRODUCT($E$1:$I$1,E9:I9) -> 0 | P9: =SUMPRODUCT($E$1:$I$1,K9:O9) -> 0 | Q9: =IF(D9=1,J9+P9,"") | R9: =G9+M9 -> 0 | S9: =IF(D9=1,RANK(Q9,$Q$4:$Q$48)," ") | T9: =IF(D9=1,(($D$49-S9+1)+IF(S9=1,5,IF(S9=2,3,IF(S9=3,1,0))))," ")
A10: =A9+1 -> 7 | B10: Andrea Procaccino | C10: =CONCATENATE(LEFT(B10,FIND(" ",B10) + 2),".") -> Andrea Pr. | J10: =SUMPRODUCT($E$1:$I$1,E10:I10) -> 0 | P10: =SUMPRODUCT($E$1:$I$1,K10:O10) -> 0 | Q10: =IF(D10=1,J10+P10,"") | R10: =G10+M10 -> 0 | S10: =IF(D10=1,RANK(Q10,$Q$4:$Q$48)," ") | T10: =IF(D10=1,(($D$49-S10+1)+IF(S10=1,5,IF(S10=2,3,IF(S10=3,1,0))))," ")
A11: =A10+1 -> 8 | B11: Artemisia Von Rust | C11: =CONCATENATE(LEFT(B11,FIND(" ",B11) + 2),".") -> Artemisia Vo. | J11: =SUMPRODUCT($E$1:$I$1,E11:I11) -> 0 | P11: =SUMPRODUCT($E$1:$I$1,K11:O11) -> 0 | Q11: =IF(D11=1,J11+P11,"") | R11: =G11+M11 -> 0 | S11: =IF(D11=1,RANK(Q11,$Q$4:$Q$48)," ") | T11: =IF(D11=1,(($D$49-S11+1)+IF(S11=1,5,IF(S11=2,3,IF(S11=3,1,0))))," ")
A12: =A11+1 -> 9 | B12: Barbara Von Rust | C12: =CONCATENATE(LEFT(B12,FIND(" ",B12) + 2),".") -> Barbara Vo. | J12: =SUMPRODUCT($E$1:$I$1,E12:I12) -> 0 | P12: =SUMPRODUCT($E$1:$I$1,K12:O12) -> 0 | Q12: =IF(D12=1,J12+P12,"") | R12: =G12+M12 -> 0 | S12: =IF(D12=1,RANK(Q12,$Q$4:$Q$48)," ") | T12: =IF(D12=1,(($D$49-S12+1)+IF(S12=1,5,IF(S12=2,3,IF(S12=3,1,0))))," ")
A13: =A12+1 -> 10 | B13: Bruno Padronetti | C13: =CONCATENATE(LEFT(B13,FIND(" ",B13) + 2),".") -> Bruno Pa. | J13: =SUMPRODUCT($E$1:$I$1,E13:I13) -> 0 | P13: =SUMPRODUCT($E$1:$I$1,K13:O13) -> 0 | Q13: =IF(D13=1,J13+P13,"") | R13: =G13+M13 -> 0 | S13: =IF(D13=1,RANK(Q13,$Q$4:$Q$48)," ") | T13: =IF(D13=1,(($D$49-S13+1)+IF(S13=1,5,IF(S13=2,3,IF(S13=3,1,0))))," ")
A14: =A13+1 -> 11 | B14: Christian Vitale | C14: =CONCATENATE(LEFT(B14,FIND(" ",B14) + 2),".") -> Christian Vi. | J14: =SUMPRODUCT($E$1:$I$1,E14:I14) -> 0 | P14: =SUMPRODUCT($E$1:$I$1,K14:O14) -> 0 | Q14: =IF(D14=1,J14+P14,"") | R14: =G14+M14 -> 0 | S14: =IF(D14=1,RANK(Q14,$Q$4:$Q$48)," ") | T14: =IF(D14=1,(($D$49-S14+1)+IF(S14=1,5,IF(S14=2,3,IF(S14=3,1,0))))," ")
A15: =A14+1 -> 12 | B15: Claudio Marinangeli | C15: =CONCATENATE(LEFT(B15,FIND(" ",B15) + 2),".") -> Claudio Ma. | J15: =SUMPRODUCT($E$1:$I$1,E15:I15) -> 0 | P15: =SUMPRODUCT($E$1:$I$1,K15:O15) -> 0 | Q15: =IF(D15=1,J15+P15,"") | R15: =G15+M15 -> 0 | S15: =IF(D15=1,RANK(Q15,$Q$4:$Q$48)," ") | T15: =IF(D15=1,(($D$49-S15+1)+IF(S15=1,5,IF(S15=2,3,IF(S15=3,1,0))))," ")
A16: =A15+1 -> 13 | B16: Daniel Terracina | C16: =CONCATENATE(LEFT(B16,FIND(" ",B16) + 2),".") -> Daniel Te. | J16: =SUMPRODUCT($E$1:$I$1,E16:I16) -> 0 | P16: =SUMPRODUCT($E$1:$I$1,K16:O16) -> 0 | Q16: =IF(D16=1,J16+P16,"") | R16: =G16+M16 -> 0 | S16: =IF(D16=1,RANK(Q16,$Q$4:$Q$48)," ") | T16: =IF(D16=1,(($D$49-S16+1)+IF(S16=1,5,IF(S16=2,3,IF(S16=3,1,0))))," ")
... A48: =A47+1 -> 45 | B48: Valerio Ferrandino | C48: =CONCATENATE(LEFT(B48,FIND(" ",B48) + 2),".") -> Valerio Fe. | J48: =SUMPRODUCT($E$1:$I$1,E48:I48) -> 0 | P48: =SUMPRODUCT($E$1:$I$1,K48:O48) -> 0 | Q48: =IF(D48=1,J48+P48,"") | R48: =G48+M48 -> 0 | S48: =IF(D48=1,RANK(Q48,$Q$4:$Q$48)," ") | T48: =IF(D48=1,(($D$49-S48+1)+IF(S48=1,5,IF(S48=2,3,IF(S48=3,1,0))))," ")
D49: =SUM(D4:D48) -> 0 | S49: =IF(D49=1,RANK(Q49,$Q$4:$Q$48)," ") | T49: =IF(D49=1,(($D$49-S49+1)+IF(S49=1,5,IF(S49=2,3,IF(S49=3,1,0))))," ")
